<?xml version="1.0" encoding="UTF-8" standalone="no"?>
<metadata xml:lang="en">
<Esri>
<CreaDate>20260119</CreaDate>
<CreaTime>12552400</CreaTime>
<ArcGISFormat>1.0</ArcGISFormat>
<ArcGISstyle>ISO 19139 Metadata Implementation Specification GML3.2</ArcGISstyle>
<SyncOnce>FALSE</SyncOnce>
<DataProperties>
<itemProps>
<itemName Sync="TRUE">CentralNB_UTh_ratio.ers</itemName>
<nativeExtBox>
<westBL Sync="TRUE">2476900.000000</westBL>
<eastBL Sync="TRUE">2577100.000000</eastBL>
<southBL Sync="TRUE">7415900.000000</southBL>
<northBL Sync="TRUE">7529500.000000</northBL>
<exTypeCode Sync="TRUE">1</exTypeCode>
</nativeExtBox>
<imsContentType Sync="TRUE">002</imsContentType>
</itemProps>
<coordRef>
<type Sync="TRUE">Projected</type>
<geogcsn Sync="TRUE">GCS_North_American_1983_CSRS</geogcsn>
<csUnits Sync="TRUE">Linear Unit: Meter (1.000000)</csUnits>
<projcsn Sync="TRUE">NAD_1983_CSRS_New_Brunswick_Stereographic</projcsn>
<peXml Sync="TRUE">&lt;ProjectedCoordinateSystem xsi:type='typens:ProjectedCoordinateSystem' xmlns:xsi='http://www.w3.org/2001/XMLSchema-instance' xmlns:xs='http://www.w3.org/2001/XMLSchema' xmlns:typens='http://www.esri.com/schemas/ArcGIS/10.8'&gt;&lt;WKT&gt;PROJCS[&amp;quot;NAD_1983_CSRS_New_Brunswick_Stereographic&amp;quot;,GEOGCS[&amp;quot;GCS_North_American_1983_CSRS&amp;quot;,DATUM[&amp;quot;D_North_American_1983_CSRS&amp;quot;,SPHEROID[&amp;quot;GRS_1980&amp;quot;,6378137.0,298.257222101]],PRIMEM[&amp;quot;Greenwich&amp;quot;,0.0],UNIT[&amp;quot;Degree&amp;quot;,0.0174532925199433]],PROJECTION[&amp;quot;Double_Stereographic&amp;quot;],PARAMETER[&amp;quot;False_Easting&amp;quot;,2500000.0],PARAMETER[&amp;quot;False_Northing&amp;quot;,7500000.0],PARAMETER[&amp;quot;Central_Meridian&amp;quot;,-66.5],PARAMETER[&amp;quot;Scale_Factor&amp;quot;,0.999912],PARAMETER[&amp;quot;Latitude_Of_Origin&amp;quot;,46.5],UNIT[&amp;quot;Meter&amp;quot;,1.0],AUTHORITY[&amp;quot;EPSG&amp;quot;,2953]]&lt;/WKT&gt;&lt;XOrigin&gt;-28216700&lt;/XOrigin&gt;&lt;YOrigin&gt;-23260100&lt;/YOrigin&gt;&lt;XYScale&gt;146555990.15834904&lt;/XYScale&gt;&lt;ZOrigin&gt;-100000&lt;/ZOrigin&gt;&lt;ZScale&gt;10000&lt;/ZScale&gt;&lt;MOrigin&gt;-100000&lt;/MOrigin&gt;&lt;MScale&gt;10000&lt;/MScale&gt;&lt;XYTolerance&gt;0.001&lt;/XYTolerance&gt;&lt;ZTolerance&gt;0.001&lt;/ZTolerance&gt;&lt;MTolerance&gt;0.001&lt;/MTolerance&gt;&lt;HighPrecision&gt;true&lt;/HighPrecision&gt;&lt;WKID&gt;2036&lt;/WKID&gt;&lt;LatestWKID&gt;2953&lt;/LatestWKID&gt;&lt;/ProjectedCoordinateSystem&gt;</peXml>
</coordRef>
<RasterProperties>
<General>
<PixelDepth Sync="TRUE">32</PixelDepth>
<HasColormap Sync="TRUE">FALSE</HasColormap>
<CompressionType Sync="TRUE">None</CompressionType>
<NumBands Sync="TRUE">1</NumBands>
<Format Sync="TRUE">ER Mapper</Format>
<HasPyramids Sync="TRUE">FALSE</HasPyramids>
<SourceType Sync="TRUE">continuous</SourceType>
<PixelType Sync="TRUE">floating point</PixelType>
<NoDataValue Sync="TRUE">-999999</NoDataValue>
</General>
</RasterProperties>
</DataProperties>
<SyncDate>20260119</SyncDate>
<SyncTime>14562800</SyncTime>
<ModDate>20260122</ModDate>
<ModTime>10531000</ModTime>
<scaleRange>
<minScale>150000000</minScale>
<maxScale>5000</maxScale>
</scaleRange>
<ArcGISProfile>ISO19115_3</ArcGISProfile>
</Esri>
<dataIdInfo>
<idAbs>&lt;DIV STYLE="text-align:Left;"&gt;&lt;P STYLE="font-size:16ptmargin:0 0 0 0;"&gt;&lt;SPAN&gt;&lt;SPAN&gt;A 500–1000 m grid of airborne radiometric uranium-to-thorium (U/Th) ratios for the Central New Brunswick and Fredericton survey area, New Brunswick (2008).&lt;/SPAN&gt;&lt;/SPAN&gt;&lt;/P&gt;&lt;DIV&gt;&lt;DIV&gt;&lt;P&gt;&lt;SPAN STYLE="font-size:16pt"&gt;&lt;SPAN&gt;This dataset represents the spatial distribution of uranium-to-thorium (U/Th) ratios derived from the Central New Brunswick and Fredericton airborne radiometric survey flown in 2008 at 500–1000 m line spacing. The U/Th ratio highlights variations between uranium and thorium abundances within the survey area and supports interpretation of lithological variations and alteration patterns. The dataset is provided in NB Stereographic double (NAD83) for consistent integration with provincial datasets.&lt;/SPAN&gt;&lt;/SPAN&gt;&lt;/P&gt;&lt;P STYLE="font-size:16ptmargin:0 0 0 0;"&gt;&lt;SPAN&gt;The CentralNB_UTh_ratio raster was produced by dividing the compiled uranium (U) raster by the compiled thorium (Th) raster at each 500–1000 m cell. The underlying survey data were microlevled and interpolated to produce seamless 500–1000 m grids prior to ratio calculation. The final raster was delivered as a .ers file in NB Stereographic double (NAD83).&lt;/SPAN&gt;&lt;/P&gt;&lt;P&gt;&lt;SPAN&gt;The dataset is not updated regularly. Updates occur only if new reprocessing, corrections, or additional surveys become available. As of now, the compilation represents the most recent processing as of December 2025.&lt;/SPAN&gt;&lt;/P&gt;&lt;/DIV&gt;&lt;/DIV&gt;&lt;/DIV&gt;</idAbs>
<idPoC>
<rpIndName>Amirabbas Karbalaeiramezanali</rpIndName>
<rpOrgName>GSB</rpOrgName>
<role>
<RoleCd value="007">
</RoleCd>
</role>
<rpCntInfo>
<cntAddress>
<eMailAdd>amirabbas.karbalaeiramezanali@gnb.ca</eMailAdd>
</cntAddress>
</rpCntInfo>
</idPoC>
<idPoC>
<rpIndName>Serge Allard</rpIndName>
<rpOrgName>GSB</rpOrgName>
<rpCntInfo>
<cntAddress>
<eMailAdd>Serge.Allard@gnb.ca</eMailAdd>
</cntAddress>
</rpCntInfo>
<displayName>Serge Alard</displayName>
<displayName>Serge Allard</displayName>
<displayName>Serge Allard</displayName>
<role>
<RoleCd value="003">
</RoleCd>
</role>
</idPoC>
<idPoC>
<rpIndName>Hernan Ugalde</rpIndName>
<role>
<RoleCd value="006">
</RoleCd>
</role>
<rpCntInfo>
<cntAddress>
<eMailAdd>hernan.ugalde@dipgeosciences.com</eMailAdd>
</cntAddress>
</rpCntInfo>
</idPoC>
<resConst>
<Consts>
<useLimit>&lt;DIV STYLE="text-align:Left;"&gt;&lt;DIV&gt;&lt;DIV&gt;&lt;P&gt;&lt;SPAN&gt;Sensitivity: Public/Unclassified&lt;/SPAN&gt;&lt;/P&gt;&lt;P&gt;&lt;SPAN&gt;Retention: 5 Years&lt;/SPAN&gt;&lt;/P&gt;&lt;/DIV&gt;&lt;/DIV&gt;&lt;/DIV&gt;</useLimit>
</Consts>
</resConst>
<idCredit>NB Dept of Natural Resources, GSB Section</idCredit>
<envirDesc Sync="TRUE"> Version 6.2 (Build 9200) ; Esri ArcGIS 10.8.1.14362</envirDesc>
<dataLang>
<languageCode Sync="TRUE" value="eng">
</languageCode>
<countryCode Sync="TRUE" value="CAN">
</countryCode>
</dataLang>
<idCitation>
<resTitle Sync="TRUE">CentralNB_UTh_ratio</resTitle>
<presForm>
<PresFormCd Sync="TRUE" value="005">
</PresFormCd>
</presForm>
</idCitation>
<spatRpType>
<SpatRepTypCd Sync="TRUE" value="002">
</SpatRepTypCd>
</spatRpType>
<dataExt>
<geoEle>
<GeoBndBox esriExtentType="search">
<exTypeCode Sync="TRUE">1</exTypeCode>
<westBL Sync="TRUE">-66.802426</westBL>
<eastBL Sync="TRUE">-65.490667</eastBL>
<northBL Sync="TRUE">46.765397</northBL>
<southBL Sync="TRUE">45.739011</southBL>
</GeoBndBox>
</geoEle>
</dataExt>
<idPurp>A 500–1000 m grid of airborne radiometric uranium-to-thorium (U/Th) ratios for the Central New Brunswick and Fredericton survey area, New Brunswick (2008).</idPurp>
</dataIdInfo>
<spatRepInfo>
<Georect>
<axisDimension type="002">
<dimSize Sync="TRUE">501</dimSize>
<dimResol>
<value Sync="TRUE" uom="m">200.000000</value>
</dimResol>
</axisDimension>
<axisDimension type="001">
<dimSize Sync="TRUE">568</dimSize>
<dimResol>
<value Sync="TRUE" uom="m">200.000000</value>
</dimResol>
</axisDimension>
<cellGeo>
<CellGeoCd Sync="TRUE" value="002">
</CellGeoCd>
</cellGeo>
<numDims Sync="TRUE">2</numDims>
<tranParaAv Sync="TRUE">1</tranParaAv>
<chkPtAv Sync="TRUE">0</chkPtAv>
<cornerPts>
<pos Sync="TRUE">2476900.000000 7415900.000000</pos>
</cornerPts>
<cornerPts>
<pos Sync="TRUE">2476900.000000 7529500.000000</pos>
</cornerPts>
<cornerPts>
<pos Sync="TRUE">2577100.000000 7529500.000000</pos>
</cornerPts>
<cornerPts>
<pos Sync="TRUE">2577100.000000 7415900.000000</pos>
</cornerPts>
<centerPt>
<pos Sync="TRUE">2527000.000000 7472700.000000</pos>
</centerPt>
<ptInPixel>
<PixOrientCd Sync="TRUE" value="001">
</PixOrientCd>
</ptInPixel>
</Georect>
</spatRepInfo>
<contInfo>
<ImgDesc>
<covDim>
<Band>
<valUnit>
<UOM type="length">
</UOM>
</valUnit>
<dimDescrp Sync="TRUE">Band_1</dimDescrp>
<maxVal Sync="TRUE">1.802428</maxVal>
<minVal Sync="TRUE">-0.081517</minVal>
<bitsPerVal Sync="TRUE">32</bitsPerVal>
</Band>
</covDim>
<contentTyp>
<ContentTypCd Sync="TRUE" value="001">
</ContentTypCd>
</contentTyp>
</ImgDesc>
</contInfo>
<mdLang>
<languageCode Sync="TRUE" value="eng">
</languageCode>
<countryCode Sync="TRUE" value="CAN">
</countryCode>
</mdLang>
<distInfo>
<distFormat>
<formatName Sync="TRUE">Raster Dataset</formatName>
</distFormat>
</distInfo>
<mdHrLv>
<ScopeCd Sync="TRUE" value="005">
</ScopeCd>
</mdHrLv>
<mdHrLvName Sync="TRUE">dataset</mdHrLvName>
<refSysInfo>
<RefSystem>
<refSysID>
<identCode Sync="TRUE" code="2953">
</identCode>
<idCodeSpace Sync="TRUE">EPSG</idCodeSpace>
<idVersion Sync="TRUE">6.2(9.3.0.0)</idVersion>
</refSysID>
</RefSystem>
</refSysInfo>
<mdDateSt Sync="TRUE">20260122</mdDateSt>
</metadata>
