{ "currentVersion": 10.91, "serviceDescription": "
A 200\u202fm grid of airborne radiometric potassium (K) concentrations for the Kedgwick survey area, New Brunswick (1999).<\/SPAN><\/SPAN><\/P> This dataset represents potassium (K) concentrations measured during the Kedgwick airborne radiometric survey flown in 1999 at 200\u202fm line spacing. Potassium values are derived from gamma-ray spectrometry measurements and reflect near-surface lithology and alteration patterns within the survey area. The dataset is provided in NB Stereographic double (NAD83) for consistent integration with provincial datasets. <\/SPAN><\/SPAN><\/P> The Kedgwick_K raster was produced by microlevelling line-to-line variations in the original survey data and interpolating the results to a seamless 200\u202fm grid. The final raster was delivered as a .ers file in NB Stereographic double (NAD83).<\/SPAN><\/P> The dataset is not updated regularly. Updates occur only if new reprocessing, corrections, or additional surveys become available. As of now, the compilation represents the most recent processing as of December 2025.<\/SPAN><\/P><\/DIV><\/DIV><\/DIV>",
"name": "Geophysics_Radiometric_Individual/Kedgwick_K",
"description": " A 200\u202fm grid of airborne radiometric potassium (K) concentrations for the Kedgwick survey area, New Brunswick (1999).<\/SPAN><\/SPAN><\/P> This dataset represents potassium (K) concentrations measured during the Kedgwick airborne radiometric survey flown in 1999 at 200\u202fm line spacing. Potassium values are derived from gamma-ray spectrometry measurements and reflect near-surface lithology and alteration patterns within the survey area. The dataset is provided in NB Stereographic double (NAD83) for consistent integration with provincial datasets. <\/SPAN><\/SPAN><\/P> The Kedgwick_K raster was produced by microlevelling line-to-line variations in the original survey data and interpolating the results to a seamless 200\u202fm grid. The final raster was delivered as a .ers file in NB Stereographic double (NAD83).<\/SPAN><\/P> The dataset is not updated regularly. Updates occur only if new reprocessing, corrections, or additional surveys become available. As of now, the compilation represents the most recent processing as of December 2025.<\/SPAN><\/P><\/DIV><\/DIV><\/DIV>",
"extent": {
"xmin": 2405020,
"ymin": 7610220,
"xmax": 2463740,
"ymax": 7668620,
"spatialReference": {
"wkid": 2036,
"latestWkid": 2953
}
},
"initialExtent": {
"xmin": 2405020,
"ymin": 7610220,
"xmax": 2463740,
"ymax": 7668620,
"spatialReference": {
"wkid": 2036,
"latestWkid": 2953
}
},
"fullExtent": {
"xmin": 2405020,
"ymin": 7610220,
"xmax": 2463740,
"ymax": 7668620,
"spatialReference": {
"wkid": 2036,
"latestWkid": 2953
}
},
"hasMultidimensions": false,
"pixelSizeX": 40,
"pixelSizeY": 40,
"datasetFormat": "ER Mapper",
"uncompressedSize": 8573120,
"blockWidth": 1468,
"blockHeight": 1,
"compressionType": "None",
"bandNames": [
"Band_1"
],
"allowCopy": true,
"allowAnalysis": true,
"bandCount": 1,
"noDataValue": -999999,
"noDataValues": [
-999999
],
"pixelType": "F32",
"minPixelSize": 0,
"maxPixelSize": 0,
"copyrightText": "NB Dept of Natural Resources, GSB Section",
"serviceDataType": "esriImageServiceDataTypeGeneric",
"serviceSourceType": "esriImageServiceSourceTypeDataset",
"minValues": [
-0.11675298213959
],
"maxValues": [
3.8712539672852
],
"meanValues": [
1.1216588264475
],
"stdvValues": [
0.30038905569429
],
"objectIdField": "",
"fields": [],
"capabilities": "Image,Metadata,Mensuration",
"defaultMosaicMethod": "Center",
"allowedMosaicMethods": "",
"sortField": "",
"sortValue": null,
"sortAscending": true,
"mosaicOperator": "First",
"defaultCompressionQuality": 75,
"defaultResamplingMethod": "Bilinear",
"maxImageHeight": 4100,
"maxImageWidth": 15000,
"allowRasterFunction": true,
"rasterFunctionInfos": [
{
"name": "None",
"description": "",
"help": ""
}
],
"rasterTypeInfos": [
{
"name": "Raster Dataset",
"description": "Supports all ArcGIS Raster Datasets",
"help": ""
}
],
"mensurationCapabilities": "Basic",
"hasHistograms": true,
"hasColormap": false,
"hasRasterAttributeTable": false,
"minScale": 0,
"maxScale": 0,
"exportTilesAllowed": false,
"supportsStatistics": false,
"supportsAdvancedQueries": false,
"editFieldsInfo": null,
"ownershipBasedAccessControlForRasters": null,
"allowComputeTiePoints": false,
"useStandardizedQueries": true,
"advancedQueryCapabilities": {
"useStandardizedQueries": true,
"supportsStatistics": false,
"supportsOrderBy": false,
"supportsDistinct": false,
"supportsPagination": false
},
"spatialReference": {
"wkid": 2036,
"latestWkid": 2953
}
}