{ "currentVersion": 10.91, "serviceDescription": "
A 250\u202fm grid of airborne radiometric potassium (K) concentrations for the Mount Pleasant Caldera (West) survey area, New Brunswick (1988).<\/SPAN><\/P> This dataset represents potassium (K) concentrations measured during the Mount Pleasant Caldera (West) airborne radiometric survey flown in 1988 at 250\u202fm line spacing. Potassium values are derived from gamma-ray spectrometry measurements and reflect near-surface lithology and alteration patterns within the survey area. The dataset is provided in NB Stereographic double (NAD83) for consistent integration with provincial datasets<\/SPAN><\/P> The MountPleasant_K raster was produced by microlevelling line-to-line variations in the original survey data and interpolating the results to a seamless 250\u202fm grid. The final raster was delivered as a .ers file in NB Stereographic double (NAD83)<\/SPAN><\/SPAN><\/P> <\/P><\/DIV><\/DIV><\/DIV>",
"name": "Geophysics_Radiometric_Individual/MountPleasant_K",
"description": " A 250\u202fm grid of airborne radiometric potassium (K) concentrations for the Mount Pleasant Caldera (West) survey area, New Brunswick (1988).<\/SPAN><\/P> This dataset represents potassium (K) concentrations measured during the Mount Pleasant Caldera (West) airborne radiometric survey flown in 1988 at 250\u202fm line spacing. Potassium values are derived from gamma-ray spectrometry measurements and reflect near-surface lithology and alteration patterns within the survey area. The dataset is provided in NB Stereographic double (NAD83) for consistent integration with provincial datasets<\/SPAN><\/P> The MountPleasant_K raster was produced by microlevelling line-to-line variations in the original survey data and interpolating the results to a seamless 250\u202fm grid. The final raster was delivered as a .ers file in NB Stereographic double (NAD83)<\/SPAN><\/SPAN><\/P> <\/P><\/DIV><\/DIV><\/DIV>",
"extent": {
"xmin": 2461475,
"ymin": 7374225,
"xmax": 2498475,
"ymax": 7402675,
"spatialReference": {
"wkid": 2036,
"latestWkid": 2953
}
},
"initialExtent": {
"xmin": 2461475,
"ymin": 7374225,
"xmax": 2498475,
"ymax": 7402675,
"spatialReference": {
"wkid": 2036,
"latestWkid": 2953
}
},
"fullExtent": {
"xmin": 2461475,
"ymin": 7374225,
"xmax": 2498475,
"ymax": 7402675,
"spatialReference": {
"wkid": 2036,
"latestWkid": 2953
}
},
"hasMultidimensions": false,
"pixelSizeX": 50,
"pixelSizeY": 50,
"datasetFormat": "ER Mapper",
"uncompressedSize": 1684240,
"blockWidth": 740,
"blockHeight": 1,
"compressionType": "None",
"bandNames": [
"Band_1"
],
"allowCopy": true,
"allowAnalysis": true,
"bandCount": 1,
"noDataValue": -999999,
"noDataValues": [
-999999
],
"pixelType": "F32",
"minPixelSize": 0,
"maxPixelSize": 0,
"copyrightText": "NB Dept of Natural Resources, GSB Section",
"serviceDataType": "esriImageServiceDataTypeGeneric",
"serviceSourceType": "esriImageServiceSourceTypeDataset",
"minValues": [
-0.16280734539032
],
"maxValues": [
4.1376061439514
],
"meanValues": [
1.1171957776426
],
"stdvValues": [
0.5792825435851
],
"objectIdField": "",
"fields": [],
"capabilities": "Image,Metadata,Mensuration",
"defaultMosaicMethod": "Center",
"allowedMosaicMethods": "",
"sortField": "",
"sortValue": null,
"sortAscending": true,
"mosaicOperator": "First",
"defaultCompressionQuality": 75,
"defaultResamplingMethod": "Bilinear",
"maxImageHeight": 4100,
"maxImageWidth": 15000,
"allowRasterFunction": true,
"rasterFunctionInfos": [
{
"name": "None",
"description": "",
"help": ""
}
],
"rasterTypeInfos": [
{
"name": "Raster Dataset",
"description": "Supports all ArcGIS Raster Datasets",
"help": ""
}
],
"mensurationCapabilities": "Basic",
"hasHistograms": true,
"hasColormap": false,
"hasRasterAttributeTable": false,
"minScale": 0,
"maxScale": 0,
"exportTilesAllowed": false,
"supportsStatistics": false,
"supportsAdvancedQueries": false,
"editFieldsInfo": null,
"ownershipBasedAccessControlForRasters": null,
"allowComputeTiePoints": false,
"useStandardizedQueries": true,
"advancedQueryCapabilities": {
"useStandardizedQueries": true,
"supportsStatistics": false,
"supportsOrderBy": false,
"supportsDistinct": false,
"supportsPagination": false
},
"spatialReference": {
"wkid": 2036,
"latestWkid": 2953
}
}