{ "currentVersion": 10.91, "serviceDescription": "
A 1000\u202fm grid of airborne radiometric potassium (K) concentrations for the Saint John survey area, New Brunswick (1983).<\/SPAN><\/SPAN><\/P> This dataset represents potassium (K) concentrations measured during the Saint John airborne radiometric survey flown in 1983 at 1000\u202fm line spacing. Potassium values are derived from gamma-ray spectrometry measurements and reflect near-surface lithology and alteration patterns within the survey area. The dataset is provided in NB Stereographic double (NAD83) for consistent integration with provincial datasets.<\/SPAN><\/SPAN><\/P> The SaintJohn_K raster was produced by microlevelling line-to-line variations in the original survey data and interpolating the results to a seamless 1000\u202fm grid. The final raster was delivered as a .ers file in NB Stereographic double (NAD83).<\/SPAN><\/P> The dataset is not updated regularly. Updates occur only if new reprocessing, corrections, or additional surveys become available. As of now, the compilation represents the most recent processing as of December 2025.<\/SPAN><\/P><\/DIV><\/DIV><\/DIV>",
"name": "Geophysics_Radiometric_Individual/SaintJohn_K",
"description": " A 1000\u202fm grid of airborne radiometric potassium (K) concentrations for the Saint John survey area, New Brunswick (1983).<\/SPAN><\/SPAN><\/P> This dataset represents potassium (K) concentrations measured during the Saint John airborne radiometric survey flown in 1983 at 1000\u202fm line spacing. Potassium values are derived from gamma-ray spectrometry measurements and reflect near-surface lithology and alteration patterns within the survey area. The dataset is provided in NB Stereographic double (NAD83) for consistent integration with provincial datasets.<\/SPAN><\/SPAN><\/P> The SaintJohn_K raster was produced by microlevelling line-to-line variations in the original survey data and interpolating the results to a seamless 1000\u202fm grid. The final raster was delivered as a .ers file in NB Stereographic double (NAD83).<\/SPAN><\/P> The dataset is not updated regularly. Updates occur only if new reprocessing, corrections, or additional surveys become available. As of now, the compilation represents the most recent processing as of December 2025.<\/SPAN><\/P><\/DIV><\/DIV><\/DIV>",
"extent": {
"xmin": 2455900,
"ymin": 7328100,
"xmax": 2523300,
"ymax": 7400500,
"spatialReference": {
"wkid": 2036,
"latestWkid": 2953
}
},
"initialExtent": {
"xmin": 2455900,
"ymin": 7328100,
"xmax": 2523300,
"ymax": 7400500,
"spatialReference": {
"wkid": 2036,
"latestWkid": 2953
}
},
"fullExtent": {
"xmin": 2455900,
"ymin": 7328100,
"xmax": 2523300,
"ymax": 7400500,
"spatialReference": {
"wkid": 2036,
"latestWkid": 2953
}
},
"hasMultidimensions": false,
"pixelSizeX": 200,
"pixelSizeY": 200,
"datasetFormat": "ER Mapper",
"uncompressedSize": 487976,
"blockWidth": 337,
"blockHeight": 1,
"compressionType": "None",
"bandNames": [
"Band_1"
],
"allowCopy": true,
"allowAnalysis": true,
"bandCount": 1,
"noDataValue": -999999,
"noDataValues": [
-999999
],
"pixelType": "F32",
"minPixelSize": 0,
"maxPixelSize": 0,
"copyrightText": "NB Dept of Natural Resources, GSB Section",
"serviceDataType": "esriImageServiceDataTypeGeneric",
"serviceSourceType": "esriImageServiceSourceTypeDataset",
"minValues": [
-0.4959841966629
],
"maxValues": [
4.7053589820862
],
"meanValues": [
1.2267853450555
],
"stdvValues": [
0.56667840853382
],
"objectIdField": "",
"fields": [],
"capabilities": "Image,Metadata,Mensuration",
"defaultMosaicMethod": "Center",
"allowedMosaicMethods": "",
"sortField": "",
"sortValue": null,
"sortAscending": true,
"mosaicOperator": "First",
"defaultCompressionQuality": 75,
"defaultResamplingMethod": "Bilinear",
"maxImageHeight": 4100,
"maxImageWidth": 15000,
"allowRasterFunction": true,
"rasterFunctionInfos": [
{
"name": "None",
"description": "",
"help": ""
}
],
"rasterTypeInfos": [
{
"name": "Raster Dataset",
"description": "Supports all ArcGIS Raster Datasets",
"help": ""
}
],
"mensurationCapabilities": "Basic",
"hasHistograms": true,
"hasColormap": false,
"hasRasterAttributeTable": false,
"minScale": 0,
"maxScale": 0,
"exportTilesAllowed": false,
"supportsStatistics": false,
"supportsAdvancedQueries": false,
"editFieldsInfo": null,
"ownershipBasedAccessControlForRasters": null,
"allowComputeTiePoints": false,
"useStandardizedQueries": true,
"advancedQueryCapabilities": {
"useStandardizedQueries": true,
"supportsStatistics": false,
"supportsOrderBy": false,
"supportsDistinct": false,
"supportsPagination": false
},
"spatialReference": {
"wkid": 2036,
"latestWkid": 2953
}
}