{ "currentVersion": 10.91, "serviceDescription": "
A 1000\u202fm grid of airborne radiometric uranium-to-potassium (U/K) ratios for the Sussex survey area, New Brunswick (1991).<\/SPAN><\/SPAN><\/P> This dataset represents the spatial distribution of uranium-to-potassium (U/K) ratios derived from the Sussex airborne radiometric survey flown in 1991 at 1000\u202fm line spacing. The U/K ratio highlights variations between uranium and potassium abundances within the survey area and supports interpretation of lithological variations and alteration patterns. The dataset is provided in NB Stereographic double (NAD83) for consistent integration with provincial datasets.<\/SPAN><\/SPAN><\/P> The Sussex_UK_ratio raster was produced by dividing the compiled uranium (U) raster by the compiled potassium (K) raster at each 1000\u202fm cell. The underlying survey data were microlevled and interpolated to produce seamless 1000\u202fm grids prior to ratio calculation. The final raster was delivered as a .ers file in NB Stereographic double (NAD83).<\/SPAN><\/P> The dataset is not updated regularly. Updates occur only if new reprocessing, corrections, or additional surveys become available. As of now, the compilation represents the most recent processing as of December 2025.<\/SPAN><\/P><\/DIV><\/DIV><\/DIV>",
"name": "Geophysics_Radiometric_Individual/Sussex_UK_ratio",
"description": " A 1000\u202fm grid of airborne radiometric uranium-to-potassium (U/K) ratios for the Sussex survey area, New Brunswick (1991).<\/SPAN><\/SPAN><\/P> This dataset represents the spatial distribution of uranium-to-potassium (U/K) ratios derived from the Sussex airborne radiometric survey flown in 1991 at 1000\u202fm line spacing. The U/K ratio highlights variations between uranium and potassium abundances within the survey area and supports interpretation of lithological variations and alteration patterns. The dataset is provided in NB Stereographic double (NAD83) for consistent integration with provincial datasets.<\/SPAN><\/SPAN><\/P> The Sussex_UK_ratio raster was produced by dividing the compiled uranium (U) raster by the compiled potassium (K) raster at each 1000\u202fm cell. The underlying survey data were microlevled and interpolated to produce seamless 1000\u202fm grids prior to ratio calculation. The final raster was delivered as a .ers file in NB Stereographic double (NAD83).<\/SPAN><\/P> The dataset is not updated regularly. Updates occur only if new reprocessing, corrections, or additional surveys become available. As of now, the compilation represents the most recent processing as of December 2025.<\/SPAN><\/P><\/DIV><\/DIV><\/DIV>",
"extent": {
"xmin": 2478100,
"ymin": 7349500,
"xmax": 2657300,
"ymax": 7485500,
"spatialReference": {
"wkid": 2036,
"latestWkid": 2953
}
},
"initialExtent": {
"xmin": 2478100,
"ymin": 7349500,
"xmax": 2657300,
"ymax": 7485500,
"spatialReference": {
"wkid": 2036,
"latestWkid": 2953
}
},
"fullExtent": {
"xmin": 2478100,
"ymin": 7349500,
"xmax": 2657300,
"ymax": 7485500,
"spatialReference": {
"wkid": 2036,
"latestWkid": 2953
}
},
"hasMultidimensions": false,
"pixelSizeX": 200,
"pixelSizeY": 200,
"datasetFormat": "ER Mapper",
"uncompressedSize": 2437120,
"blockWidth": 896,
"blockHeight": 1,
"compressionType": "None",
"bandNames": [
"Band_1"
],
"allowCopy": true,
"allowAnalysis": true,
"bandCount": 1,
"noDataValue": -999999,
"noDataValues": [
-999999
],
"pixelType": "F32",
"minPixelSize": 0,
"maxPixelSize": 0,
"copyrightText": "NB Dept of Natural Resources, GSB Section",
"serviceDataType": "esriImageServiceDataTypeGeneric",
"serviceSourceType": "esriImageServiceSourceTypeDataset",
"minValues": [
0.12575018405914
],
"maxValues": [
4.5437979698181
],
"meanValues": [
1.1410844606339
],
"stdvValues": [
0.38836284077023
],
"objectIdField": "",
"fields": [],
"capabilities": "Image,Metadata,Mensuration",
"defaultMosaicMethod": "Center",
"allowedMosaicMethods": "",
"sortField": "",
"sortValue": null,
"sortAscending": true,
"mosaicOperator": "First",
"defaultCompressionQuality": 75,
"defaultResamplingMethod": "Bilinear",
"maxImageHeight": 4100,
"maxImageWidth": 15000,
"allowRasterFunction": true,
"rasterFunctionInfos": [
{
"name": "None",
"description": "",
"help": ""
}
],
"rasterTypeInfos": [
{
"name": "Raster Dataset",
"description": "Supports all ArcGIS Raster Datasets",
"help": ""
}
],
"mensurationCapabilities": "Basic",
"hasHistograms": true,
"hasColormap": false,
"hasRasterAttributeTable": false,
"minScale": 0,
"maxScale": 0,
"exportTilesAllowed": false,
"supportsStatistics": false,
"supportsAdvancedQueries": false,
"editFieldsInfo": null,
"ownershipBasedAccessControlForRasters": null,
"allowComputeTiePoints": false,
"useStandardizedQueries": true,
"advancedQueryCapabilities": {
"useStandardizedQueries": true,
"supportsStatistics": false,
"supportsOrderBy": false,
"supportsDistinct": false,
"supportsPagination": false
},
"spatialReference": {
"wkid": 2036,
"latestWkid": 2953
}
}