{ "currentVersion": 10.91, "serviceDescription": "
The average total Growing Degree Days (GDD) for a given year, computed using a base temperature of 5°C, over a 30 year time span (or as close to that as possible). <\/SPAN>The formula used was: <\/SPAN><\/SPAN><\/P> Max((Tmax + Tmin)/2 - 5, 0) where <\/SPAN><\/P> Tmax = MIN(30, Daily Max Temperature) <\/SPAN><\/SPAN><\/P> Tmin = MAX(Daily Min Temperature, 5)<\/SPAN><\/P> Temperatures were determined from Environment Canada historical weather data. The GDD were calculated for the entire year, as opposed to being limited to the spring and summer.<\/SPAN><\/P> <\/P><\/DIV><\/DIV><\/DIV>",
"name": "GrowingDegreeDays/GDD_5",
"description": " The average total Growing Degree Days (GDD) for a given year, computed using a base temperature of 5°C, over a 30 year time span (or as close to that as possible). <\/SPAN>The formula used was: <\/SPAN><\/SPAN><\/P> Max((Tmax + Tmin)/2 - 5, 0) where <\/SPAN><\/P> Tmax = MIN(30, Daily Max Temperature) <\/SPAN><\/SPAN><\/P> Tmin = MAX(Daily Min Temperature, 5)<\/SPAN><\/P> Temperatures were determined from Environment Canada historical weather data. The GDD were calculated for the entire year, as opposed to being limited to the spring and summer.<\/SPAN><\/P> <\/P><\/DIV><\/DIV><\/DIV>",
"extent": {
"xmin": 2311476.539999999,
"ymin": 7301093.82,
"xmax": 2709806.539999999,
"ymax": 7671013.82,
"spatialReference": {
"wkid": 2036,
"latestWkid": 2953
}
},
"initialExtent": {
"xmin": 2311476.539999999,
"ymin": 7301093.82,
"xmax": 2709806.539999999,
"ymax": 7671013.82,
"spatialReference": {
"wkid": 2036,
"latestWkid": 2953
}
},
"fullExtent": {
"xmin": 2311476.539999999,
"ymin": 7301093.82,
"xmax": 2709806.539999999,
"ymax": 7671013.82,
"spatialReference": {
"wkid": 2036,
"latestWkid": 2953
}
},
"hasMultidimensions": false,
"pixelSizeX": 10,
"pixelSizeY": 10,
"datasetFormat": "FGDBR",
"uncompressedSize": 5894009344,
"blockWidth": 128,
"blockHeight": 128,
"compressionType": "NONE",
"bandNames": [
"Band_1"
],
"allowCopy": true,
"allowAnalysis": true,
"bandCount": 1,
"pixelType": "F32",
"minPixelSize": 0,
"maxPixelSize": 0,
"copyrightText": "",
"serviceDataType": "esriImageServiceDataTypeGeneric",
"serviceSourceType": "esriImageServiceSourceTypeDataset",
"minValues": [
1507.4974365234375
],
"maxValues": [
2210.684814453125
],
"meanValues": [
1821.8276731440114
],
"stdvValues": [
151.97920799898782
],
"objectIdField": "",
"fields": [],
"capabilities": "Image,Metadata,Mensuration",
"defaultMosaicMethod": "Center",
"allowedMosaicMethods": "",
"sortField": "",
"sortValue": null,
"sortAscending": true,
"mosaicOperator": "First",
"defaultCompressionQuality": 75,
"defaultResamplingMethod": "Bilinear",
"maxImageHeight": 4100,
"maxImageWidth": 15000,
"allowRasterFunction": true,
"rasterFunctionInfos": [
{
"name": "None",
"description": "",
"help": ""
}
],
"rasterTypeInfos": [
{
"name": "Raster Dataset",
"description": "Supports all ArcGIS Raster Datasets",
"help": ""
}
],
"mensurationCapabilities": "Basic",
"hasHistograms": true,
"hasColormap": false,
"hasRasterAttributeTable": false,
"minScale": 0,
"maxScale": 0,
"exportTilesAllowed": false,
"supportsStatistics": false,
"supportsAdvancedQueries": false,
"editFieldsInfo": null,
"ownershipBasedAccessControlForRasters": null,
"allowComputeTiePoints": false,
"useStandardizedQueries": true,
"advancedQueryCapabilities": {
"useStandardizedQueries": true,
"supportsStatistics": false,
"supportsOrderBy": false,
"supportsDistinct": false,
"supportsPagination": false
},
"spatialReference": {
"wkid": 2036,
"latestWkid": 2953
}
}