{
 "currentVersion": 10.91,
 "serviceDescription": "Located on the Image Server E:\\ImageServices\\LakeDepth\\FW_Lakes.gdb\\LakeDepthRasters and Overviews stored on the R: Drive - \\\\Swv25fsp02\\LakeDepth\\Depth_Rasters (R:\\LakeDepth)1. Description: This mosaic dataset contains interpolated elevation surfaces for lakes across New Brunswick2. Purpose: To provide DNR fisheries staff with mapping information to help guide and answer fisheries resources and management objectives and/ or questions, and from which to provide DNR clients \t\t(e.g. anglers) with useful mapping information in the form of lake depth maps with mosaics.3. Access permissions: open to public 4. How was it created? For examples, GPS, digitized from source paper maps at certain scale, or derived from other feature classes.\u2022\tMosaic dataset was created by adding in interpolated elevation surfaces. These interpolated surfaces were derived from the SDEOWNER.LakeDepth_Readings feature class which \tcontains the depth information for the lakes. 5. When was it created? and the update frequency\u2022\tInterpolated elevation surfaces were created in 2017\u2022\tNew information will be added as it is obtained (i.e. as a lake is depth sounded and elevation surface are interpolated)6. Additional information may help users of the data, such as limitations \u2022\tOf the 1400 named lakes and ponds in NB, less than 300 have depth readings and associated mosaics as of fall 2017. All areas of a lake are not depth sounded; therefore there is some \tinterpretation in the mosaics; as well, the deepest spots or shoals may not be recorded. 7. For each attribute, give a definition/description to explain what the attributes are, and specify the valid range and domain if it applies.\u2022\tN/A8.\tContact information, person or group\u2022\tFish and Wildlife\u2022\tChris Connell: (506) 444 \u2013 2871 \u2022\tKrista DeBouver: (506) 444 \u2013 40109.\tAttaching document, pdf or URL to pdf. ",
 "name": "LakeDepthMapping/LakeDepth",
 "description": "Located on the Image Server E:\\ImageServices\\LakeDepth\\FW_Lakes.gdb\\LakeDepthRasters and Overviews stored on the R: Drive - \\\\Swv25fsp02\\LakeDepth\\Depth_Rasters (R:\\LakeDepth)1. Description: This mosaic dataset contains interpolated elevation surfaces for lakes across New Brunswick2. Purpose: To provide DNR fisheries staff with mapping information to help guide and answer fisheries resources and management objectives and/ or questions, and from which to provide DNR clients \t\t(e.g. anglers) with useful mapping information in the form of lake depth maps with mosaics.3. Access permissions: open to public 4. How was it created? For examples, GPS, digitized from source paper maps at certain scale, or derived from other feature classes.\u2022\tMosaic dataset was created by adding in interpolated elevation surfaces. These interpolated surfaces were derived from the SDEOWNER.LakeDepth_Readings feature class which \tcontains the depth information for the lakes. 5. When was it created? and the update frequency\u2022\tInterpolated elevation surfaces were created in 2017\u2022\tNew information will be added as it is obtained (i.e. as a lake is depth sounded and elevation surface are interpolated)6. Additional information may help users of the data, such as limitations \u2022\tOf the 1400 named lakes and ponds in NB, less than 300 have depth readings and associated mosaics as of fall 2017. All areas of a lake are not depth sounded; therefore there is some \tinterpretation in the mosaics; as well, the deepest spots or shoals may not be recorded. 7. For each attribute, give a definition/description to explain what the attributes are, and specify the valid range and domain if it applies.\u2022\tN/A8.\tContact information, person or group\u2022\tFish and Wildlife\u2022\tChris Connell: (506) 444 \u2013 2871 \u2022\tKrista DeBouver: (506) 444 \u2013 40109.\tAttaching document, pdf or URL to pdf. ",
 "extent": {
  "xmin": 2306683.2699999996,
  "ymin": 7290540.050000001,
  "xmax": 2675438.2699999996,
  "ymax": 7662986.550000001,
  "spatialReference": {
   "wkid": 2036,
   "latestWkid": 2953
  }
 },
 "initialExtent": {
  "xmin": 2306683.2699999996,
  "ymin": 7290540.050000001,
  "xmax": 2675438.2699999996,
  "ymax": 7662986.550000001,
  "spatialReference": {
   "wkid": 2036,
   "latestWkid": 2953
  }
 },
 "fullExtent": {
  "xmin": 2306683.2699999996,
  "ymin": 7290540.050000001,
  "xmax": 2675438.2699999996,
  "ymax": 7662986.550000001,
  "spatialReference": {
   "wkid": 2036,
   "latestWkid": 2953
  }
 },
 "hasMultidimensions": false,
 "pixelSizeX": 0.5,
 "pixelSizeY": 0.5,
 "datasetFormat": "AMD",
 "uncompressedSize": 2197464145720,
 "blockWidth": 2048,
 "blockHeight": 256,
 "compressionType": "None",
 "bandNames": [
  "Band_1"
 ],
 "allowCopy": true,
 "allowAnalysis": true,
 "bandCount": 1,
 "pixelType": "F32",
 "minPixelSize": 0,
 "maxPixelSize": 0,
 "copyrightText": "",
 "serviceDataType": "esriImageServiceDataTypeGeneric",
 "serviceSourceType": "esriImageServiceSourceTypeMosaicDataset",
 "minValues": [
  -55.684814453125
 ],
 "maxValues": [
  321.974365234375
 ],
 "meanValues": [
  -7.216919302844585
 ],
 "stdvValues": [
  6.743143327204985
 ],
 "objectIdField": "OBJECTID",
 "fields": [
  {
   "name": "OBJECTID",
   "type": "esriFieldTypeOID",
   "alias": "OBJECTID",
   "domain": null
  },
  {
   "name": "Shape",
   "type": "esriFieldTypeGeometry",
   "alias": "Shape",
   "domain": null
  },
  {
   "name": "Name",
   "type": "esriFieldTypeString",
   "alias": "Name",
   "domain": null,
   "length": 200
  },
  {
   "name": "MinPS",
   "type": "esriFieldTypeDouble",
   "alias": "MinPS",
   "domain": null
  },
  {
   "name": "MaxPS",
   "type": "esriFieldTypeDouble",
   "alias": "MaxPS",
   "domain": null
  },
  {
   "name": "LowPS",
   "type": "esriFieldTypeDouble",
   "alias": "LowPS",
   "domain": null
  },
  {
   "name": "HighPS",
   "type": "esriFieldTypeDouble",
   "alias": "HighPS",
   "domain": null
  },
  {
   "name": "Category",
   "type": "esriFieldTypeInteger",
   "alias": "Category",
   "domain": {
    "type": "codedValue",
    "name": "MosaicCatalogItemCategoryDomain",
    "description": "Catalog item categories.",
    "codedValues": [
     {
      "name": "Unknown",
      "code": 0
     },
     {
      "name": "Primary",
      "code": 1
     },
     {
      "name": "Overview",
      "code": 2
     },
     {
      "name": "Unprocessed Overview",
      "code": 3
     },
     {
      "name": "Partial Overview",
      "code": 4
     },
     {
      "name": "Inactive",
      "code": 5
     },
     {
      "name": "Uploaded",
      "code": 253
     },
     {
      "name": "Incomplete",
      "code": 254
     },
     {
      "name": "Custom",
      "code": 255
     }
    ],
    "mergePolicy": "esriMPTDefaultValue",
    "splitPolicy": "esriSPTDefaultValue"
   }
  },
  {
   "name": "Tag",
   "type": "esriFieldTypeString",
   "alias": "Tag",
   "domain": null,
   "length": 100
  },
  {
   "name": "GroupName",
   "type": "esriFieldTypeString",
   "alias": "GroupName",
   "domain": null,
   "length": 100
  },
  {
   "name": "ProductName",
   "type": "esriFieldTypeString",
   "alias": "ProductName",
   "domain": null,
   "length": 100
  },
  {
   "name": "CenterX",
   "type": "esriFieldTypeDouble",
   "alias": "CenterX",
   "domain": null
  },
  {
   "name": "CenterY",
   "type": "esriFieldTypeDouble",
   "alias": "CenterY",
   "domain": null
  },
  {
   "name": "ZOrder",
   "type": "esriFieldTypeInteger",
   "alias": "ZOrder",
   "domain": null
  },
  {
   "name": "Shape_Length",
   "type": "esriFieldTypeDouble",
   "alias": "Shape_Length",
   "domain": null
  },
  {
   "name": "Shape_Area",
   "type": "esriFieldTypeDouble",
   "alias": "Shape_Area",
   "domain": null
  }
 ],
 "capabilities": "Image,Metadata,Catalog",
 "defaultMosaicMethod": "Northwest",
 "allowedMosaicMethods": "NorthWest,Center,LockRaster,ByAttribute,Nadir,Viewpoint,Seamline,None",
 "sortField": "",
 "sortValue": null,
 "sortAscending": true,
 "mosaicOperator": "First",
 "maxDownloadSizeLimit": 2048,
 "defaultCompressionQuality": 75,
 "defaultResamplingMethod": "Bilinear",
 "maxImageHeight": 4100,
 "maxImageWidth": 15000,
 "maxRecordCount": 1000,
 "maxDownloadImageCount": 20,
 "maxMosaicImageCount": 20,
 "allowRasterFunction": true,
 "rasterFunctionInfos": [
  {
   "name": "Legend_units",
   "description": "A raster function template.",
   "help": ""
  },
  {
   "name": "Legend_units",
   "description": "A raster function template.",
   "help": ""
  },
  {
   "name": "None",
   "description": "",
   "help": ""
  }
 ],
 "rasterTypeInfos": [
  {
   "name": "Raster Dataset",
   "description": "Supports all ArcGIS Raster Datasets",
   "help": ""
  }
 ],
 "mensurationCapabilities": "None",
 "hasHistograms": true,
 "hasColormap": false,
 "hasRasterAttributeTable": false,
 "minScale": 0,
 "maxScale": 0,
 "exportTilesAllowed": false,
 "supportsStatistics": true,
 "supportsAdvancedQueries": true,
 "editFieldsInfo": null,
 "ownershipBasedAccessControlForRasters": null,
 "allowComputeTiePoints": false,
 "useStandardizedQueries": true,
 "advancedQueryCapabilities": {
  "useStandardizedQueries": true,
  "supportsStatistics": true,
  "supportsOrderBy": true,
  "supportsDistinct": true,
  "supportsPagination": true
 },
 "spatialReference": {
  "wkid": 2036,
  "latestWkid": 2953
 }
}
