<?xml version="1.0" encoding="UTF-8" standalone="no"?>
<metadata xml:lang="en">
<Esri>
<CreaDate>20260116</CreaDate>
<CreaTime>14503300</CreaTime>
<ArcGISFormat>1.0</ArcGISFormat>
<SyncOnce>FALSE</SyncOnce>
<DataProperties>
<itemProps>
<itemName Sync="TRUE">DEM</itemName>
<nativeExtBox>
<westBL Sync="TRUE">2306000.000000</westBL>
<eastBL Sync="TRUE">2711943.000000</eastBL>
<southBL Sync="TRUE">7277312.000000</southBL>
<northBL Sync="TRUE">7676006.000000</northBL>
<exTypeCode Sync="TRUE">1</exTypeCode>
</nativeExtBox>
</itemProps>
<coordRef>
<type Sync="TRUE">Projected</type>
<geogcsn Sync="TRUE">GCS_North_American_1983_CSRS</geogcsn>
<csUnits Sync="TRUE">Linear Unit: Meter (1.000000)</csUnits>
<projcsn Sync="TRUE">NAD_1983_CSRS_New_Brunswick_Stereographic</projcsn>
<peXml Sync="TRUE">&lt;ProjectedCoordinateSystem xsi:type='typens:ProjectedCoordinateSystem' xmlns:xsi='http://www.w3.org/2001/XMLSchema-instance' xmlns:xs='http://www.w3.org/2001/XMLSchema' xmlns:typens='http://www.esri.com/schemas/ArcGIS/10.8'&gt;&lt;WKT&gt;PROJCS[&amp;quot;NAD_1983_CSRS_New_Brunswick_Stereographic&amp;quot;,GEOGCS[&amp;quot;GCS_North_American_1983_CSRS&amp;quot;,DATUM[&amp;quot;D_North_American_1983_CSRS&amp;quot;,SPHEROID[&amp;quot;GRS_1980&amp;quot;,6378137.0,298.257222101]],PRIMEM[&amp;quot;Greenwich&amp;quot;,0.0],UNIT[&amp;quot;Degree&amp;quot;,0.0174532925199433]],PROJECTION[&amp;quot;Double_Stereographic&amp;quot;],PARAMETER[&amp;quot;False_Easting&amp;quot;,2500000.0],PARAMETER[&amp;quot;False_Northing&amp;quot;,7500000.0],PARAMETER[&amp;quot;Central_Meridian&amp;quot;,-66.5],PARAMETER[&amp;quot;Scale_Factor&amp;quot;,0.999912],PARAMETER[&amp;quot;Latitude_Of_Origin&amp;quot;,46.5],UNIT[&amp;quot;Meter&amp;quot;,1.0]],VERTCS[&amp;quot;CGVD2013_height&amp;quot;,VDATUM[&amp;quot;Canadian_Geodetic_Vertical_Datum_of_2013&amp;quot;],PARAMETER[&amp;quot;Vertical_Shift&amp;quot;,0.0],PARAMETER[&amp;quot;Direction&amp;quot;,1.0],UNIT[&amp;quot;Meter&amp;quot;,1.0]]&lt;/WKT&gt;&lt;XOrigin&gt;-28216700&lt;/XOrigin&gt;&lt;YOrigin&gt;-23260100&lt;/YOrigin&gt;&lt;XYScale&gt;146555990.15834904&lt;/XYScale&gt;&lt;ZOrigin&gt;-100000&lt;/ZOrigin&gt;&lt;ZScale&gt;10000&lt;/ZScale&gt;&lt;MOrigin&gt;-100000&lt;/MOrigin&gt;&lt;MScale&gt;10000&lt;/MScale&gt;&lt;XYTolerance&gt;0.001&lt;/XYTolerance&gt;&lt;ZTolerance&gt;0.001&lt;/ZTolerance&gt;&lt;MTolerance&gt;0.001&lt;/MTolerance&gt;&lt;HighPrecision&gt;true&lt;/HighPrecision&gt;&lt;WKID&gt;2036&lt;/WKID&gt;&lt;LatestWKID&gt;2953&lt;/LatestWKID&gt;&lt;VCSWKID&gt;6647&lt;/VCSWKID&gt;&lt;LatestVCSWKID&gt;6647&lt;/LatestVCSWKID&gt;&lt;/ProjectedCoordinateSystem&gt;</peXml>
</coordRef>
<RasterProperties>
<General>
<PixelDepth Sync="TRUE">32</PixelDepth>
<HasColormap Sync="TRUE">FALSE</HasColormap>
<CompressionType Sync="TRUE">None</CompressionType>
<NumBands Sync="TRUE">1</NumBands>
<Format Sync="TRUE">AMD</Format>
<HasPyramids Sync="TRUE">TRUE</HasPyramids>
<SourceType Sync="TRUE">continuous</SourceType>
<PixelType Sync="TRUE">floating point</PixelType>
<NoDataValue Sync="TRUE">
</NoDataValue>
</General>
<Properties>
<MaxImageHeight Sync="TRUE">4100</MaxImageHeight>
<MaxImageWidth Sync="TRUE">15000</MaxImageWidth>
<MaxRecordCount Sync="TRUE">1000</MaxRecordCount>
<MaxDownloadImageCount Sync="TRUE">20</MaxDownloadImageCount>
<MaxDownloadSizeLimit Sync="TRUE">2048</MaxDownloadSizeLimit>
<MaxMosaicImageCount Sync="TRUE">20</MaxMosaicImageCount>
<DefaultCompressionQuality Sync="TRUE">75</DefaultCompressionQuality>
<DefaultCompressionTolerance Sync="TRUE">0.01</DefaultCompressionTolerance>
<BlendWidth Sync="TRUE">10</BlendWidth>
<ViewpointSpacingX Sync="TRUE">600</ViewpointSpacingX>
<ViewpointSpacingY Sync="TRUE">300</ViewpointSpacingY>
<AllowedItemMetadata Sync="TRUE">Basic</AllowedItemMetadata>
<DefaultResamplingMethod Sync="TRUE">1</DefaultResamplingMethod>
<AllowedMosaicMethods Sync="TRUE">ByAttribute,NorthWest,Center,LockRaster,Nadir,Viewpoint,Seamline,None</AllowedMosaicMethods>
<AllowedCompressions Sync="TRUE">LZ77,None,JPEG</AllowedCompressions>
<AllowedMensurationCapabilities Sync="TRUE">Basic</AllowedMensurationCapabilities>
<AvailableMensurationCapabilities Sync="TRUE">None,Basic,Base-Top Height,Top-Top Shadow Height,Base-Top Shadow Height,3D</AvailableMensurationCapabilities>
<ClipToBoundary Sync="TRUE">0</ClipToBoundary>
<FootprintMayContainNoData Sync="TRUE">-1</FootprintMayContainNoData>
<CellSizeTolerance Sync="TRUE">0.8</CellSizeTolerance>
<MinimumPixelContribution Sync="TRUE">1</MinimumPixelContribution>
<AvailableMosaicMethods Sync="TRUE">NorthWest,Center,LockRaster,ByAttribute,Nadir,Viewpoint,Seamline,None</AvailableMosaicMethods>
<AvailableCompressionMethods Sync="TRUE">None,JPEG,LZ77,LERC</AvailableCompressionMethods>
<AvailableItemMetadataLevels Sync="TRUE">None,Basic,Full</AvailableItemMetadataLevels>
<ConfigKeyword Sync="TRUE">
</ConfigKeyword>
<BandDefinitionKeyword Sync="TRUE">NONE</BandDefinitionKeyword>
<AllowedFields Sync="TRUE">Name,MinPS,MaxPS,LowPS,HighPS,Tag,GroupName,ProductName,CenterX,CenterY,ZOrder,Shape_Length,Shape_Area,Thumbnail</AllowedFields>
<TimeStamp.RemoveItems Sync="TRUE">45855.5805400579</TimeStamp.RemoveItems>
<TimeStamp.UpdateExtent Sync="TRUE">45855.5805441204</TimeStamp.UpdateExtent>
<ApplyColorCorrection Sync="TRUE">0</ApplyColorCorrection>
<TimeValueFormat Sync="TRUE">
</TimeValueFormat>
<EndTimeFieldName Sync="TRUE">
</EndTimeFieldName>
<StartTimeFieldName Sync="TRUE">
</StartTimeFieldName>
<TimeIntervalUnits Sync="TRUE">
</TimeIntervalUnits>
<TimeInterval Sync="TRUE">
</TimeInterval>
<VerticalDimension Sync="TRUE">
</VerticalDimension>
<FlowDirection Sync="TRUE">
</FlowDirection>
<MosaicOperator Sync="TRUE">1</MosaicOperator>
<BlendWidthUnits Sync="TRUE">1</BlendWidthUnits>
<UseTime Sync="TRUE">0</UseTime>
<SortAscending Sync="TRUE">0</SortAscending>
<ClipToFootprint Sync="TRUE">0</ClipToFootprint>
<ClipOverviewsToFootprint Sync="TRUE">0</ClipOverviewsToFootprint>
<SortField Sync="TRUE">ZOrder</SortField>
<SortValue Sync="TRUE">0</SortValue>
<MaxCellSize Sync="TRUE">21870</MaxCellSize>
<LowCellSize Sync="TRUE">1</LowCellSize>
<HighCellSize Sync="TRUE">2187</HighCellSize>
<_docversion_ Sync="TRUE">9</_docversion_>
</Properties>
<Functions Sync="TRUE">
<Function Description="Fills Void or NoData areas in an elevation raster using a combination of plane fitting and Inverse Distance Weighting (IDW)." Name="Elevation Void Fill Function">
<Arguments>
<Raster>MosaicFunction.OutputRaster</Raster>
<MaxVoidWidth>5</MaxVoidWidth>
<ShortRangeIDWRadius>5</ShortRangeIDWRadius>
</Arguments>
</Function>
<Function Description="Performs on-the-fly mosaic on a raster catalog." Name="Mosaic Function">
</Function>
</Functions>
</RasterProperties>
</DataProperties>
<SyncDate>20250723</SyncDate>
<SyncTime>13203900</SyncTime>
<ModDate>20250723</ModDate>
<ModTime>13203900</ModTime>
<ArcGISstyle>ISO 19139 Metadata Implementation Specification GML3.2</ArcGISstyle>
</Esri>
<dataIdInfo>
<envirDesc Sync="TRUE"> Version 6.2 (Build 9200) ; Esri ArcGIS 10.8.1.14362</envirDesc>
<dataLang>
<languageCode Sync="TRUE" value="eng">
</languageCode>
<countryCode Sync="TRUE" value="CAN">
</countryCode>
</dataLang>
<idCitation>
<resTitle Sync="TRUE">DEM</resTitle>
<presForm>
<PresFormCd Sync="TRUE" value="005">
</PresFormCd>
</presForm>
</idCitation>
<spatRpType>
<SpatRepTypCd Sync="TRUE" value="002">
</SpatRepTypCd>
</spatRpType>
<dataExt>
<geoEle>
<GeoBndBox esriExtentType="search">
<exTypeCode Sync="TRUE">1</exTypeCode>
<westBL Sync="TRUE">-69.102400</westBL>
<eastBL Sync="TRUE">-63.657152</eastBL>
<northBL Sync="TRUE">48.083161</northBL>
<southBL Sync="TRUE">44.464775</southBL>
</GeoBndBox>
</geoEle>
</dataExt>
<idAbs/>
<searchKeys>
<keyword>GNB</keyword>
<keyword>Open Data</keyword>
<keyword>New Brunswick</keyword>
<keyword>Nouveau Brunswick</keyword>
<keyword>DNR</keyword>
<keyword>DEM</keyword>
</searchKeys>
<idPurp>A bare-ground Digital Elevation Model (DEM) – A digital model or 3D representation of a terrain's surface) derived from LiDAR data covering the Province of New Brunswick. Structures, such as buildings, have been removed from the data. The raster has a resolution of 1 metre by 1 metre.</idPurp>
<idCredit/>
<resConst>
<Consts>
<useLimit/>
</Consts>
</resConst>
</dataIdInfo>
<mdLang>
<languageCode Sync="TRUE" value="eng">
</languageCode>
<countryCode Sync="TRUE" value="CAN">
</countryCode>
</mdLang>
<refSysInfo>
<RefSystem>
<refSysID>
<identCode Sync="TRUE" code="2953">
</identCode>
<idCodeSpace Sync="TRUE">EPSG</idCodeSpace>
<idVersion Sync="TRUE">6.2(9.3.0.0)</idVersion>
</refSysID>
</RefSystem>
</refSysInfo>
<spatRepInfo>
<Georect>
<cellGeo>
<CellGeoCd Sync="TRUE" value="002">
</CellGeoCd>
</cellGeo>
<numDims Sync="TRUE">2</numDims>
<tranParaAv Sync="TRUE">1</tranParaAv>
<chkPtAv Sync="TRUE">0</chkPtAv>
<cornerPts>
<pos Sync="TRUE">2306000.000000 7277312.000000</pos>
</cornerPts>
<cornerPts>
<pos Sync="TRUE">2306000.000000 7676006.000000</pos>
</cornerPts>
<cornerPts>
<pos Sync="TRUE">2711943.000000 7676006.000000</pos>
</cornerPts>
<cornerPts>
<pos Sync="TRUE">2711943.000000 7277312.000000</pos>
</cornerPts>
<centerPt>
<pos Sync="TRUE">2508971.500000 7476659.000000</pos>
</centerPt>
<axisDimension type="002">
<dimSize Sync="TRUE">405943</dimSize>
<dimResol>
<value Sync="TRUE" uom="m">1.000000</value>
</dimResol>
</axisDimension>
<axisDimension type="001">
<dimSize Sync="TRUE">398694</dimSize>
<dimResol>
<value Sync="TRUE" uom="m">1.000000</value>
</dimResol>
</axisDimension>
<ptInPixel>
<PixOrientCd Sync="TRUE" value="001">
</PixOrientCd>
</ptInPixel>
</Georect>
</spatRepInfo>
<contInfo>
<ImgDesc>
<contentTyp>
<ContentTypCd Sync="TRUE" value="001">
</ContentTypCd>
</contentTyp>
<covDim>
<Band>
<dimDescrp Sync="TRUE">Band_1</dimDescrp>
<maxVal Sync="TRUE">815.428467</maxVal>
<minVal Sync="TRUE">-19.934513</minVal>
<bitsPerVal Sync="TRUE">32</bitsPerVal>
<valUnit>
<UOM type="length">
</UOM>
</valUnit>
</Band>
</covDim>
</ImgDesc>
</contInfo>
<mdDateSt Sync="TRUE">20250723</mdDateSt>
</metadata>
