{
 "currentVersion": 10.91,
 "serviceDescription": "Productivity_Maps/Drainage_Classify",
 "name": "Productivity_Maps/Drainage_Classify",
 "description": "",
 "extent": {
  "xmin": 2306985.190027,
  "ymin": 7285462.937606,
  "xmax": 2710905.190027,
  "ymax": 7674782.937606,
  "spatialReference": {
   "wkt": "PROJCS[\"NAD_1983_New_Brunswick_Stereographic\",GEOGCS[\"GCS_NAD_1983\",DATUM[\"D_North_American_1983_CSRS\",SPHEROID[\"GRS_1980\",6378137.0,298.257222101]],PRIMEM[\"Greenwich\",0.0],UNIT[\"Degree\",0.0174532925199433]],PROJECTION[\"Double_Stereographic\"],PARAMETER[\"False_Easting\",2500000.0],PARAMETER[\"False_Northing\",7500000.0],PARAMETER[\"Central_Meridian\",-66.5],PARAMETER[\"Scale_Factor\",0.999912],PARAMETER[\"Latitude_Of_Origin\",46.5],UNIT[\"Meter\",1.0]]"
  }
 },
 "initialExtent": {
  "xmin": 2306985.190027,
  "ymin": 7285462.937606,
  "xmax": 2710905.190027,
  "ymax": 7674782.937606,
  "spatialReference": {
   "wkt": "PROJCS[\"NAD_1983_New_Brunswick_Stereographic\",GEOGCS[\"GCS_NAD_1983\",DATUM[\"D_North_American_1983_CSRS\",SPHEROID[\"GRS_1980\",6378137.0,298.257222101]],PRIMEM[\"Greenwich\",0.0],UNIT[\"Degree\",0.0174532925199433]],PROJECTION[\"Double_Stereographic\"],PARAMETER[\"False_Easting\",2500000.0],PARAMETER[\"False_Northing\",7500000.0],PARAMETER[\"Central_Meridian\",-66.5],PARAMETER[\"Scale_Factor\",0.999912],PARAMETER[\"Latitude_Of_Origin\",46.5],UNIT[\"Meter\",1.0]]"
  }
 },
 "fullExtent": {
  "xmin": 2306985.190027,
  "ymin": 7285462.937606,
  "xmax": 2710905.190027,
  "ymax": 7674782.937606,
  "spatialReference": {
   "wkt": "PROJCS[\"NAD_1983_New_Brunswick_Stereographic\",GEOGCS[\"GCS_NAD_1983\",DATUM[\"D_North_American_1983_CSRS\",SPHEROID[\"GRS_1980\",6378137.0,298.257222101]],PRIMEM[\"Greenwich\",0.0],UNIT[\"Degree\",0.0174532925199433]],PROJECTION[\"Double_Stereographic\"],PARAMETER[\"False_Easting\",2500000.0],PARAMETER[\"False_Northing\",7500000.0],PARAMETER[\"Central_Meridian\",-66.5],PARAMETER[\"Scale_Factor\",0.999912],PARAMETER[\"Latitude_Of_Origin\",46.5],UNIT[\"Meter\",1.0]]"
  }
 },
 "hasMultidimensions": false,
 "pixelSizeX": 10,
 "pixelSizeY": 10,
 "datasetFormat": "FGDBR",
 "uncompressedSize": 1572541344,
 "blockWidth": 128,
 "blockHeight": 128,
 "compressionType": "LZ77",
 "bandNames": [
  "Band_1"
 ],
 "allowCopy": true,
 "allowAnalysis": true,
 "bandCount": 1,
 "pixelType": "S8",
 "minPixelSize": 0,
 "maxPixelSize": 0,
 "copyrightText": "",
 "serviceDataType": "esriImageServiceDataTypeGeneric",
 "serviceSourceType": "esriImageServiceSourceTypeDataset",
 "minValues": [
  1
 ],
 "maxValues": [
  5
 ],
 "meanValues": [
  4.597358191021672
 ],
 "stdvValues": [
  1.05592822271362
 ],
 "objectIdField": "",
 "fields": [],
 "capabilities": "Image,Metadata,Mensuration",
 "defaultMosaicMethod": "Center",
 "allowedMosaicMethods": "",
 "sortField": "",
 "sortValue": null,
 "sortAscending": true,
 "mosaicOperator": "First",
 "defaultCompressionQuality": 75,
 "defaultResamplingMethod": "Bicubic",
 "maxImageHeight": 4100,
 "maxImageWidth": 15000,
 "allowRasterFunction": true,
 "rasterFunctionInfos": [
  {
   "name": "None",
   "description": "",
   "help": ""
  }
 ],
 "rasterTypeInfos": [
  {
   "name": "Raster Dataset",
   "description": "Supports all ArcGIS Raster Datasets",
   "help": ""
  }
 ],
 "mensurationCapabilities": "Basic",
 "hasHistograms": true,
 "hasColormap": false,
 "hasRasterAttributeTable": true,
 "minScale": 0,
 "maxScale": 0,
 "exportTilesAllowed": false,
 "supportsStatistics": false,
 "supportsAdvancedQueries": false,
 "editFieldsInfo": null,
 "ownershipBasedAccessControlForRasters": null,
 "allowComputeTiePoints": false,
 "useStandardizedQueries": true,
 "advancedQueryCapabilities": {
  "useStandardizedQueries": true,
  "supportsStatistics": false,
  "supportsOrderBy": false,
  "supportsDistinct": false,
  "supportsPagination": false
 },
 "spatialReference": {
  "wkt": "PROJCS[\"NAD_1983_New_Brunswick_Stereographic\",GEOGCS[\"GCS_NAD_1983\",DATUM[\"D_North_American_1983_CSRS\",SPHEROID[\"GRS_1980\",6378137.0,298.257222101]],PRIMEM[\"Greenwich\",0.0],UNIT[\"Degree\",0.0174532925199433]],PROJECTION[\"Double_Stereographic\"],PARAMETER[\"False_Easting\",2500000.0],PARAMETER[\"False_Northing\",7500000.0],PARAMETER[\"Central_Meridian\",-66.5],PARAMETER[\"Scale_Factor\",0.999912],PARAMETER[\"Latitude_Of_Origin\",46.5],UNIT[\"Meter\",1.0]]"
 }
}
