View In:
ArcGIS JavaScript
ArcGIS Online Map Viewer
ArcGIS Earth
ArcMap
View Footprint In:
ArcGIS Online Map Viewer
Service Description: Depth to Water table data was provided by Dr. Paul Arp of UNB.
Name: DepthToWaterTable/DepthToWaterTable
Description: Depth to Water table data was provided by Dr. Paul Arp of UNB.
Single Fused Map Cache: false
Extent:
XMin: 2306196.490000002
YMin: 7275799.159999996
XMax: 2713276.490000002
YMax: 7677865.159999996
Spatial Reference: 2036
(2953)
Initial Extent:
XMin: 2306196.490000002
YMin: 7275799.159999996
XMax: 2713276.490000002
YMax: 7677865.159999996
Spatial Reference: 2036
(2953)
Full Extent:
XMin: 2306196.490000002
YMin: 7275799.159999996
XMax: 2713276.490000002
YMax: 7677865.159999996
Spatial Reference: 2036
(2953)
Pixel Size X: 1.0
Pixel Size Y: 1.0
Band Count: 1
Pixel Type: S16
RasterFunction Infos: {"rasterFunctionInfos": [{
"name": "None",
"description": "",
"help": ""
}]}
Mensuration Capabilities: Basic
Has Histograms: true
Has Colormap: false
Has Multi Dimensions : false
Rendering Rule:
Min Scale: 0
Max Scale: 0
Copyright Text: Dr. Paul Arp of UNB
Service Data Type: esriImageServiceDataTypeThematic
Min Values: 0
Max Values: 28596
Mean Values: 600.99337254093
Standard Deviation Values: 923.02898409367
Object ID Field:
Fields:
None
Default Mosaic Method: Center
Allowed Mosaic Methods:
SortField:
SortValue: null
Mosaic Operator: First
Default Compression Quality: 75
Default Resampling Method: Bilinear
Max Record Count: null
Max Image Height: 4100
Max Image Width: 15000
Max Download Image Count: null
Max Mosaic Image Count: null
Allow Raster Function: true
Allow Compute TiePoints: false
Supports Statistics: false
Supports Advanced Queries: false
Use StandardizedQueries: true
Raster Type Infos:
Name: Raster Dataset
Description: Supports all ArcGIS Raster Datasets
Help:
Has Raster Attribute Table: true
Edit Fields Info: null
Ownership Based AccessControl For Rasters: null
Child Resources:
Info
Raster Attribute Table
Histograms
Key Properties
Legend
MultiDimensionalInfo
rasterFunctionInfos
Supported Operations:
Export Image
Identify
Measure
Compute Histograms
Compute Statistics Histograms
Get Samples
Compute Class Statistics
Query Boundary
Compute Pixel Location