View In:
ArcGIS JavaScript
ArcGIS Online Map Viewer
ArcGIS Earth
ArcMap
View Footprint In:
ArcGIS Online Map Viewer
Service Description: The number of days between the last frost of the spring and the first frost of the fall. In both cases, frost is taken to be when the daily minimum temperature drops to or below 0°C.
Name: FrostFreeDays/FrostFreeDays
Description: The number of days between the last frost of the spring and the first frost of the fall. In both cases, frost is taken to be when the daily minimum temperature drops to or below 0°C.
Single Fused Map Cache: false
Extent:
XMin: 2311476.539999999
YMin: 7301093.82
XMax: 2709806.539999999
YMax: 7671013.82
Spatial Reference: 2036
(2953)
Initial Extent:
XMin: 2311476.539999999
YMin: 7301093.82
XMax: 2709806.539999999
YMax: 7671013.82
Spatial Reference: 2036
(2953)
Full Extent:
XMin: 2311476.539999999
YMin: 7301093.82
XMax: 2709806.539999999
YMax: 7671013.82
Spatial Reference: 2036
(2953)
Pixel Size X: 10.0
Pixel Size Y: 10.0
Band Count: 1
Pixel Type: F32
RasterFunction Infos: {"rasterFunctionInfos": [{
"name": "None",
"description": "",
"help": ""
}]}
Mensuration Capabilities: Basic
Has Histograms: true
Has Colormap: false
Has Multi Dimensions : false
Rendering Rule:
Min Scale: 0
Max Scale: 0
Copyright Text:
Service Data Type: esriImageServiceDataTypeGeneric
Min Values: 72.72476959228516
Max Values: 293.3503723144531
Mean Values: 129.3071839454484
Standard Deviation Values: 27.070540345960694
Object ID Field:
Fields:
None
Default Mosaic Method: Center
Allowed Mosaic Methods:
SortField:
SortValue: null
Mosaic Operator: First
Default Compression Quality: 75
Default Resampling Method: Bilinear
Max Record Count: null
Max Image Height: 4100
Max Image Width: 15000
Max Download Image Count: null
Max Mosaic Image Count: null
Allow Raster Function: true
Allow Compute TiePoints: false
Supports Statistics: false
Supports Advanced Queries: false
Use StandardizedQueries: true
Raster Type Infos:
Name: Raster Dataset
Description: Supports all ArcGIS Raster Datasets
Help:
Has Raster Attribute Table: false
Edit Fields Info: null
Ownership Based AccessControl For Rasters: null
Child Resources:
Info
Histograms
Key Properties
Legend
MultiDimensionalInfo
rasterFunctionInfos
Supported Operations:
Export Image
Identify
Measure
Compute Histograms
Compute Statistics Histograms
Get Samples
Compute Class Statistics
Query Boundary
Compute Pixel Location