View In:
ArcGIS JavaScript
ArcGIS Online Map Viewer
ArcGIS Earth
ArcMap
View Footprint In:
ArcGIS Online Map Viewer
Service Description: A 200 m grid of the total gradient (analytic signal) of the total magnetic intensity (TMI) for New Brunswick.This dataset represents the analytic signal (total gradient) of the total magnetic intensity (TMI) for the province of New Brunswick at 200 m resolution. It was derived from NRCan airborne magnetic surveys originally flown at 800–1000 m line spacing. The TMI_AS highlights the edges and positions of magnetic sources, independent of the magnetization direction, providing clearer identification of geological structures. The dataset is provided in NB Stereographic double (NAD83) for consistent province-wide coverage. The TMI_AS grid was produced by converting existing NRCan TMI survey grids to ER Mapper format, reprojecting to NB Stereographic double, and calculating the total gradient (analytic signal) from the TMI values.Data created Sept 2025.
Name: Geophysics_Aeromagnetic_Compiled/Compiled_200m_TMI_AS
Description: A 200 m grid of the total gradient (analytic signal) of the total magnetic intensity (TMI) for New Brunswick.This dataset represents the analytic signal (total gradient) of the total magnetic intensity (TMI) for the province of New Brunswick at 200 m resolution. It was derived from NRCan airborne magnetic surveys originally flown at 800–1000 m line spacing. The TMI_AS highlights the edges and positions of magnetic sources, independent of the magnetization direction, providing clearer identification of geological structures. The dataset is provided in NB Stereographic double (NAD83) for consistent province-wide coverage. The TMI_AS grid was produced by converting existing NRCan TMI survey grids to ER Mapper format, reprojecting to NB Stereographic double, and calculating the total gradient (analytic signal) from the TMI values.Data created Sept 2025.
Single Fused Map Cache: false
Extent:
XMin: 2292700.0
YMin: 7264500.0
XMax: 2721900.0
YMax: 7686500.0
Spatial Reference: 2036
(2953)
LatestVCSWkid(0)
Initial Extent:
XMin: 2292700.0
YMin: 7264500.0
XMax: 2721900.0
YMax: 7686500.0
Spatial Reference: 2036
(2953)
LatestVCSWkid(0)
Full Extent:
XMin: 2292700.0
YMin: 7264500.0
XMax: 2721900.0
YMax: 7686500.0
Spatial Reference: 2036
(2953)
LatestVCSWkid(0)
Pixel Size X: 200.0
Pixel Size Y: 200.0
Band Count: 1
Pixel Type: F32
RasterFunction Infos: {"rasterFunctionInfos": [{
"name": "None",
"description": "",
"help": ""
}]}
Mensuration Capabilities: Basic
Has Histograms: true
Has Colormap: false
Has Multi Dimensions : false
Rendering Rule:
Min Scale: 0
Max Scale: 0
Copyright Text: NB Dept of Natural Resources, GSB Section
Service Data Type: esriImageServiceDataTypeGeneric
Min Values: 9.9838769529015E-5
Max Values: 2.2271008491516
Mean Values: 0.054900352980835
Standard Deviation Values: 0.085554076281599
Object ID Field:
Fields:
None
Default Mosaic Method: Center
Allowed Mosaic Methods:
SortField:
SortValue: null
Mosaic Operator: First
Default Compression Quality: 75
Default Resampling Method: Bilinear
Max Record Count: null
Max Image Height: 4100
Max Image Width: 15000
Max Download Image Count: null
Max Mosaic Image Count: null
Allow Raster Function: true
Allow Copy: true
Allow Analysis: true
Allow Compute TiePoints: false
Supports Statistics: false
Supports Advanced Queries: false
Use StandardizedQueries: true
Raster Type Infos:
Name: Raster Dataset
Description: Supports all ArcGIS Raster Datasets
Help:
Has Raster Attribute Table: false
Edit Fields Info: null
Ownership Based AccessControl For Rasters: null
Child Resources:
Info
Histograms
Statistics
Key Properties
Legend
Raster Function Infos
Supported Operations:
Export Image
Identify
Measure
Compute Histograms
Compute Statistics Histograms
Get Samples
Compute Class Statistics
Query Boundary
Compute Pixel Location
Compute Angles
Validate
Project