View In:
ArcGIS JavaScript
ArcGIS Online Map Viewer
ArcGIS Earth
ArcMap
View Footprint In:
ArcGIS Online Map Viewer
Service Description: A 50 m grid of the total gradient (analytic signal) of total magnetic intensity (TMI) for New Brunswick.This dataset represents the analytic signal (total gradient) of total magnetic intensity (TMI) for New Brunswick at 50 m resolution, derived from high-resolution airborne magnetic surveys flown at 200–300 m line spacing. The TMI_AS highlights the positions and edges of magnetic sources, independent of magnetization direction, providing detailed information for geological and structural interpretation. The dataset is provided in NB Stereographic double (NAD83).The TMI_AS grid was created from NRCan airborne profile data that were microlevelled and gridded at 50 m, converted to ER Mapper format, reprojected to NB Stereographic double, and processed to calculate the total gradient (analytic signal) from the TMI values.Data created Sept 2025.
Name: Geophysics_Aeromagnetic_Compiled/NB_Highres_TMI_AS
Description: A 50 m grid of the total gradient (analytic signal) of total magnetic intensity (TMI) for New Brunswick.This dataset represents the analytic signal (total gradient) of total magnetic intensity (TMI) for New Brunswick at 50 m resolution, derived from high-resolution airborne magnetic surveys flown at 200–300 m line spacing. The TMI_AS highlights the positions and edges of magnetic sources, independent of magnetization direction, providing detailed information for geological and structural interpretation. The dataset is provided in NB Stereographic double (NAD83).The TMI_AS grid was created from NRCan airborne profile data that were microlevelled and gridded at 50 m, converted to ER Mapper format, reprojected to NB Stereographic double, and processed to calculate the total gradient (analytic signal) from the TMI values.Data created Sept 2025.
Single Fused Map Cache: false
Extent:
XMin: 2397725.0
YMin: 7325225.0
XMax: 2700775.0
YMax: 7673125.0
Spatial Reference: 2036
(2953)
LatestVCSWkid(0)
Initial Extent:
XMin: 2397725.0
YMin: 7325225.0
XMax: 2700775.0
YMax: 7673125.0
Spatial Reference: 2036
(2953)
LatestVCSWkid(0)
Full Extent:
XMin: 2397725.0
YMin: 7325225.0
XMax: 2700775.0
YMax: 7673125.0
Spatial Reference: 2036
(2953)
LatestVCSWkid(0)
Pixel Size X: 50.0
Pixel Size Y: 50.0
Band Count: 1
Pixel Type: F32
RasterFunction Infos: {"rasterFunctionInfos": [{
"name": "None",
"description": "",
"help": ""
}]}
Mensuration Capabilities: Basic
Has Histograms: true
Has Colormap: false
Has Multi Dimensions : false
Rendering Rule:
Min Scale: 0
Max Scale: 0
Copyright Text: NB Dept of Natural Resources, GSB Section
Service Data Type: esriImageServiceDataTypeGeneric
Min Values: 5.2390347264009E-5
Max Values: 172.14833068848
Mean Values: 0.09959218843055
Standard Deviation Values: 0.28726988829395
Object ID Field:
Fields:
None
Default Mosaic Method: Center
Allowed Mosaic Methods:
SortField:
SortValue: null
Mosaic Operator: First
Default Compression Quality: 75
Default Resampling Method: Bilinear
Max Record Count: null
Max Image Height: 4100
Max Image Width: 15000
Max Download Image Count: null
Max Mosaic Image Count: null
Allow Raster Function: true
Allow Copy: true
Allow Analysis: true
Allow Compute TiePoints: false
Supports Statistics: false
Supports Advanced Queries: false
Use StandardizedQueries: true
Raster Type Infos:
Name: Raster Dataset
Description: Supports all ArcGIS Raster Datasets
Help:
Has Raster Attribute Table: false
Edit Fields Info: null
Ownership Based AccessControl For Rasters: null
Child Resources:
Info
Histograms
Statistics
Key Properties
Legend
Raster Function Infos
Supported Operations:
Export Image
Identify
Measure
Compute Histograms
Compute Statistics Histograms
Get Samples
Compute Class Statistics
Query Boundary
Compute Pixel Location
Compute Angles
Validate
Project