View In:
ArcGIS JavaScript
ArcGIS Online Map Viewer
ArcGIS Earth
ArcMap
View Footprint In:
ArcGIS Online Map Viewer
Service Description: A grid showing the difference between BigT and total magnetic intensity (TMI) for the Bathurst Megatem survey.This dataset represents the difference between BigT and TMI (BigT_TMI_diff) for the Bathurst Megatem airborne magnetic survey, covering the Bathurst area of New Brunswick. BigT values are derived by converting TMI to magnetic field components and calculating the vector magnitude, and the difference with TMI highlights areas of potential remanent magnetization. The dataset is provided in NB Stereographic double (NAD83) for detailed interpretation of local magnetic anomalies. The grid was created from the Bathurst Megatem survey by microlevelling the TMI (Mag_miclev), converting it to magnetic field components to calculate BigT, and then subtracting the TMI values. The dataset is provided in NB Stereographic double (NAD83).Data created Sept 2025.
Name: Geophysics_Aeromagnetic_Individual_Surveys/Bathurst_Aerodat_Megatem_BigT_TMI_diff
Description: A grid showing the difference between BigT and total magnetic intensity (TMI) for the Bathurst Megatem survey.This dataset represents the difference between BigT and TMI (BigT_TMI_diff) for the Bathurst Megatem airborne magnetic survey, covering the Bathurst area of New Brunswick. BigT values are derived by converting TMI to magnetic field components and calculating the vector magnitude, and the difference with TMI highlights areas of potential remanent magnetization. The dataset is provided in NB Stereographic double (NAD83) for detailed interpretation of local magnetic anomalies. The grid was created from the Bathurst Megatem survey by microlevelling the TMI (Mag_miclev), converting it to magnetic field components to calculate BigT, and then subtracting the TMI values. The dataset is provided in NB Stereographic double (NAD83).Data created Sept 2025.
Single Fused Map Cache: false
Extent:
XMin: 2481060.0
YMin: 7551180.0
XMax: 2576340.0
YMax: 7635540.0
Spatial Reference: 2036
(2953)
LatestVCSWkid(0)
Initial Extent:
XMin: 2481060.0
YMin: 7551180.0
XMax: 2576340.0
YMax: 7635540.0
Spatial Reference: 2036
(2953)
LatestVCSWkid(0)
Full Extent:
XMin: 2481060.0
YMin: 7551180.0
XMax: 2576340.0
YMax: 7635540.0
Spatial Reference: 2036
(2953)
LatestVCSWkid(0)
Pixel Size X: 40.0
Pixel Size Y: 40.0
Band Count: 1
Pixel Type: F32
RasterFunction Infos: {"rasterFunctionInfos": [{
"name": "None",
"description": "",
"help": ""
}]}
Mensuration Capabilities: Basic
Has Histograms: true
Has Colormap: false
Has Multi Dimensions : false
Rendering Rule:
Min Scale: 0
Max Scale: 0
Copyright Text: NB Dept of Natural Resources, GSB Section
Service Data Type: esriImageServiceDataTypeGeneric
Min Values: -2140.5432128906
Max Values: 2321.0893554688
Mean Values: 1.4444595490904
Standard Deviation Values: 55.256882340286
Object ID Field:
Fields:
None
Default Mosaic Method: Center
Allowed Mosaic Methods:
SortField:
SortValue: null
Mosaic Operator: First
Default Compression Quality: 75
Default Resampling Method: Bilinear
Max Record Count: null
Max Image Height: 4100
Max Image Width: 15000
Max Download Image Count: null
Max Mosaic Image Count: null
Allow Raster Function: true
Allow Copy: true
Allow Analysis: true
Allow Compute TiePoints: false
Supports Statistics: false
Supports Advanced Queries: false
Use StandardizedQueries: true
Raster Type Infos:
Name: Raster Dataset
Description: Supports all ArcGIS Raster Datasets
Help:
Has Raster Attribute Table: false
Edit Fields Info: null
Ownership Based AccessControl For Rasters: null
Child Resources:
Info
Histograms
Statistics
Key Properties
Legend
Raster Function Infos
Supported Operations:
Export Image
Identify
Measure
Compute Histograms
Compute Statistics Histograms
Get Samples
Compute Class Statistics
Query Boundary
Compute Pixel Location
Compute Angles
Validate
Project