View In:
ArcGIS JavaScript
ArcGIS Online Map Viewer
ArcGIS Earth
ArcMap
View Footprint In:
ArcGIS Online Map Viewer
Service Description: A grid of the reduction-to-the-pole (RTP) magnetic intensity for the Bathurst Megatem survey.This dataset represents the reduction-to-the-pole (RTP) of total magnetic intensity for the Bathurst Megatem airborne survey in New Brunswick. RTP processing repositions magnetic anomalies directly over their causative sources, simplifying geological interpretation and enhancing the clarity of subsurface structures. The dataset is provided in NB Stereographic Double, NAD83. The RTP grid was created from the Bathurst Megatem survey by microlevelling the TMI (Mag_miclev), converting it to a grid, and applying reduction-to-the-pole processing using the magnetic inclination and declination from the IGRF model. The final grid is provided in NB Stereographic Double, NAD83.Data created Sept 2025.
Name: Geophysics_Aeromagnetic_Individual_Surveys/Bathurst_Aerodat_Megatem_RTP
Description: A grid of the reduction-to-the-pole (RTP) magnetic intensity for the Bathurst Megatem survey.This dataset represents the reduction-to-the-pole (RTP) of total magnetic intensity for the Bathurst Megatem airborne survey in New Brunswick. RTP processing repositions magnetic anomalies directly over their causative sources, simplifying geological interpretation and enhancing the clarity of subsurface structures. The dataset is provided in NB Stereographic Double, NAD83. The RTP grid was created from the Bathurst Megatem survey by microlevelling the TMI (Mag_miclev), converting it to a grid, and applying reduction-to-the-pole processing using the magnetic inclination and declination from the IGRF model. The final grid is provided in NB Stereographic Double, NAD83.Data created Sept 2025.
Single Fused Map Cache: false
Extent:
XMin: 2481060.0
YMin: 7551180.0
XMax: 2576340.0
YMax: 7635540.0
Spatial Reference: 2036
(2953)
LatestVCSWkid(0)
Initial Extent:
XMin: 2481060.0
YMin: 7551180.0
XMax: 2576340.0
YMax: 7635540.0
Spatial Reference: 2036
(2953)
LatestVCSWkid(0)
Full Extent:
XMin: 2481060.0
YMin: 7551180.0
XMax: 2576340.0
YMax: 7635540.0
Spatial Reference: 2036
(2953)
LatestVCSWkid(0)
Pixel Size X: 40.0
Pixel Size Y: 40.0
Band Count: 1
Pixel Type: F32
RasterFunction Infos: {"rasterFunctionInfos": [{
"name": "None",
"description": "",
"help": ""
}]}
Mensuration Capabilities: Basic
Has Histograms: true
Has Colormap: false
Has Multi Dimensions : false
Rendering Rule:
Min Scale: 0
Max Scale: 0
Copyright Text: NB Dept of Natural Resources, GSB Section
Service Data Type: esriImageServiceDataTypeGeneric
Min Values: -927.05706787109
Max Values: 7197.7827148438
Mean Values: 4.3957233023158
Standard Deviation Values: 129.92135773603
Object ID Field:
Fields:
None
Default Mosaic Method: Center
Allowed Mosaic Methods:
SortField:
SortValue: null
Mosaic Operator: First
Default Compression Quality: 75
Default Resampling Method: Bilinear
Max Record Count: null
Max Image Height: 4100
Max Image Width: 15000
Max Download Image Count: null
Max Mosaic Image Count: null
Allow Raster Function: true
Allow Copy: true
Allow Analysis: true
Allow Compute TiePoints: false
Supports Statistics: false
Supports Advanced Queries: false
Use StandardizedQueries: true
Raster Type Infos:
Name: Raster Dataset
Description: Supports all ArcGIS Raster Datasets
Help:
Has Raster Attribute Table: false
Edit Fields Info: null
Ownership Based AccessControl For Rasters: null
Child Resources:
Info
Histograms
Statistics
Key Properties
Legend
Raster Function Infos
Supported Operations:
Export Image
Identify
Measure
Compute Histograms
Compute Statistics Histograms
Get Samples
Compute Class Statistics
Query Boundary
Compute Pixel Location
Compute Angles
Validate
Project