View In:
ArcGIS JavaScript
ArcGIS Online Map Viewer
ArcGIS Earth
ArcMap
View Footprint In:
ArcGIS Online Map Viewer
Service Description: A grid of the tilt derivative of the reduction-to-the-pole (RTP) magnetic intensity for the Bathurst Megatem survey.This dataset represents the tilt derivative (TDR) of the RTP magnetic intensity for the Bathurst Megatem airborne survey in New Brunswick. The RTP_TDR emphasizes edges of magnetic sources and shallow anomalies, assisting in the interpretation of geological structures and contacts. The dataset is provided in NB Stereographic Double, NAD83. The RTP_TDR grid was created from the Bathurst Megatem survey by microlevelling the TMI (Mag_miclev), applying reduction-to-the-pole processing, and then computing the tilt derivative of the RTP grid. The final grid is provided in NB Stereographic Double, NAD83.Data created Sept 2025.
Name: Geophysics_Aeromagnetic_Individual_Surveys/Bathurst_Aerodat_Megatem_RTP_TDR
Description: A grid of the tilt derivative of the reduction-to-the-pole (RTP) magnetic intensity for the Bathurst Megatem survey.This dataset represents the tilt derivative (TDR) of the RTP magnetic intensity for the Bathurst Megatem airborne survey in New Brunswick. The RTP_TDR emphasizes edges of magnetic sources and shallow anomalies, assisting in the interpretation of geological structures and contacts. The dataset is provided in NB Stereographic Double, NAD83. The RTP_TDR grid was created from the Bathurst Megatem survey by microlevelling the TMI (Mag_miclev), applying reduction-to-the-pole processing, and then computing the tilt derivative of the RTP grid. The final grid is provided in NB Stereographic Double, NAD83.Data created Sept 2025.
Single Fused Map Cache: false
Extent:
XMin: 2476540.0
YMin: 7546660.0
XMax: 2576540.0
YMax: 7640220.0
Spatial Reference: 2036
(2953)
LatestVCSWkid(0)
Initial Extent:
XMin: 2476540.0
YMin: 7546660.0
XMax: 2576540.0
YMax: 7640220.0
Spatial Reference: 2036
(2953)
LatestVCSWkid(0)
Full Extent:
XMin: 2476540.0
YMin: 7546660.0
XMax: 2576540.0
YMax: 7640220.0
Spatial Reference: 2036
(2953)
LatestVCSWkid(0)
Pixel Size X: 40.0
Pixel Size Y: 40.0
Band Count: 1
Pixel Type: F32
RasterFunction Infos: {"rasterFunctionInfos": [{
"name": "None",
"description": "",
"help": ""
}]}
Mensuration Capabilities: Basic
Has Histograms: true
Has Colormap: false
Has Multi Dimensions : false
Rendering Rule:
Min Scale: 0
Max Scale: 0
Copyright Text: NB Dept of Natural Resources, GSB Section
Service Data Type: esriImageServiceDataTypeGeneric
Min Values: -1.4625178575516
Max Values: 2.2112658023834
Mean Values: 0.0088031730534308
Standard Deviation Values: 0.78656149996105
Object ID Field:
Fields:
None
Default Mosaic Method: Center
Allowed Mosaic Methods:
SortField:
SortValue: null
Mosaic Operator: First
Default Compression Quality: 75
Default Resampling Method: Bilinear
Max Record Count: null
Max Image Height: 4100
Max Image Width: 15000
Max Download Image Count: null
Max Mosaic Image Count: null
Allow Raster Function: true
Allow Copy: true
Allow Analysis: true
Allow Compute TiePoints: false
Supports Statistics: false
Supports Advanced Queries: false
Use StandardizedQueries: true
Raster Type Infos:
Name: Raster Dataset
Description: Supports all ArcGIS Raster Datasets
Help:
Has Raster Attribute Table: false
Edit Fields Info: null
Ownership Based AccessControl For Rasters: null
Child Resources:
Info
Histograms
Statistics
Key Properties
Legend
Raster Function Infos
Supported Operations:
Export Image
Identify
Measure
Compute Histograms
Compute Statistics Histograms
Get Samples
Compute Class Statistics
Query Boundary
Compute Pixel Location
Compute Angles
Validate
Project