View In:
ArcGIS JavaScript
ArcGIS Online Map Viewer
ArcGIS Earth
ArcMap
View Footprint In:
ArcGIS Online Map Viewer
Service Description: A grid of the total gradient (analytic signal) of total magnetic intensity (TMI) for the Bathurst Megatem survey.This dataset represents the analytic signal (also referred to as the total gradient) derived from the microlevelled total magnetic intensity (TMI) of the Bathurst Megatem Aerodat airborne magnetic survey. The analytic signal enhances the magnitude of magnetic gradients by combining the horizontal and vertical derivatives of the magnetic field, producing an amplitude response that peaks directly over magnetic sources regardless of magnetization direction. This makes it a valuable tool for mapping contacts, structural features, and magnetized bodies within the Bathurst region. The data were reprocessed, gridded, and reprojected to the NB Stereographic Double coordinate system to support interpretation and integration in the high-resolution compilation.Derived from the microlevelled TMI channel of the original Aerodat Megatem survey; processed by computing the analytic signal (total gradient) using standard derivative filters, then gridded and reprojected from NAD83 UTM19N to NB Stereographic Double.Data created Sept 2025.
Name: Geophysics_Aeromagnetic_Individual_Surveys/Bathurst_Aerodat_Megatem_TMI_AS
Description: A grid of the total gradient (analytic signal) of total magnetic intensity (TMI) for the Bathurst Megatem survey.This dataset represents the analytic signal (also referred to as the total gradient) derived from the microlevelled total magnetic intensity (TMI) of the Bathurst Megatem Aerodat airborne magnetic survey. The analytic signal enhances the magnitude of magnetic gradients by combining the horizontal and vertical derivatives of the magnetic field, producing an amplitude response that peaks directly over magnetic sources regardless of magnetization direction. This makes it a valuable tool for mapping contacts, structural features, and magnetized bodies within the Bathurst region. The data were reprocessed, gridded, and reprojected to the NB Stereographic Double coordinate system to support interpretation and integration in the high-resolution compilation.Derived from the microlevelled TMI channel of the original Aerodat Megatem survey; processed by computing the analytic signal (total gradient) using standard derivative filters, then gridded and reprojected from NAD83 UTM19N to NB Stereographic Double.Data created Sept 2025.
Single Fused Map Cache: false
Extent:
XMin: 2481060.0
YMin: 7551180.0
XMax: 2576340.0
YMax: 7635540.0
Spatial Reference: 2036
(2953)
LatestVCSWkid(0)
Initial Extent:
XMin: 2481060.0
YMin: 7551180.0
XMax: 2576340.0
YMax: 7635540.0
Spatial Reference: 2036
(2953)
LatestVCSWkid(0)
Full Extent:
XMin: 2481060.0
YMin: 7551180.0
XMax: 2576340.0
YMax: 7635540.0
Spatial Reference: 2036
(2953)
LatestVCSWkid(0)
Pixel Size X: 40.0
Pixel Size Y: 40.0
Band Count: 1
Pixel Type: F32
RasterFunction Infos: {"rasterFunctionInfos": [{
"name": "None",
"description": "",
"help": ""
}]}
Mensuration Capabilities: Basic
Has Histograms: true
Has Colormap: false
Has Multi Dimensions : false
Rendering Rule:
Min Scale: 0
Max Scale: 0
Copyright Text: NB Dept of Natural Resources, GSB Section
Service Data Type: esriImageServiceDataTypeGeneric
Min Values: 4.2853865306824E-4
Max Values: 64.944152832031
Mean Values: 0.25160210232637
Standard Deviation Values: 0.70688102092775
Object ID Field:
Fields:
None
Default Mosaic Method: Center
Allowed Mosaic Methods:
SortField:
SortValue: null
Mosaic Operator: First
Default Compression Quality: 75
Default Resampling Method: Bilinear
Max Record Count: null
Max Image Height: 4100
Max Image Width: 15000
Max Download Image Count: null
Max Mosaic Image Count: null
Allow Raster Function: true
Allow Copy: true
Allow Analysis: true
Allow Compute TiePoints: false
Supports Statistics: false
Supports Advanced Queries: false
Use StandardizedQueries: true
Raster Type Infos:
Name: Raster Dataset
Description: Supports all ArcGIS Raster Datasets
Help:
Has Raster Attribute Table: false
Edit Fields Info: null
Ownership Based AccessControl For Rasters: null
Child Resources:
Info
Histograms
Statistics
Key Properties
Legend
Raster Function Infos
Supported Operations:
Export Image
Identify
Measure
Compute Histograms
Compute Statistics Histograms
Get Samples
Compute Class Statistics
Query Boundary
Compute Pixel Location
Compute Angles
Validate
Project