View In:
ArcGIS JavaScript
ArcGIS Online Map Viewer
ArcGIS Earth
ArcMap
View Footprint In:
ArcGIS Online Map Viewer
Service Description: A grid of total magnetic intensity (TMI) for the Columbia 2000 survey.This dataset represents the total magnetic intensity (TMI) for the Columbia 2000 airborne survey in New Brunswick. The TMI grid includes the regional geomagnetic field and provides a continuous representation of magnetic variations for geological interpretation. The dataset is provided in NB Stereographic double (NAD83).The TMI grid was created from the Columbia 2000 survey by microlevelling the TMI channel and converting it to a grid. The final grid is provided in NB Stereographic double (NAD83).Data created Sept 2025.
Name: Geophysics_Aeromagnetic_Individual_Surveys/Colombia_TMI
Description: A grid of total magnetic intensity (TMI) for the Columbia 2000 survey.This dataset represents the total magnetic intensity (TMI) for the Columbia 2000 airborne survey in New Brunswick. The TMI grid includes the regional geomagnetic field and provides a continuous representation of magnetic variations for geological interpretation. The dataset is provided in NB Stereographic double (NAD83).The TMI grid was created from the Columbia 2000 survey by microlevelling the TMI channel and converting it to a grid. The final grid is provided in NB Stereographic double (NAD83).Data created Sept 2025.
Single Fused Map Cache: false
Extent:
XMin: 2460000.0
YMin: 7387360.0
XMax: 2695840.0
YMax: 7502560.0
Spatial Reference: 2036
(2953)
LatestVCSWkid(0)
Initial Extent:
XMin: 2460000.0
YMin: 7387360.0
XMax: 2695840.0
YMax: 7502560.0
Spatial Reference: 2036
(2953)
LatestVCSWkid(0)
Full Extent:
XMin: 2460000.0
YMin: 7387360.0
XMax: 2695840.0
YMax: 7502560.0
Spatial Reference: 2036
(2953)
LatestVCSWkid(0)
Pixel Size X: 320.0
Pixel Size Y: 320.0
Band Count: 1
Pixel Type: F32
RasterFunction Infos: {"rasterFunctionInfos": [{
"name": "None",
"description": "",
"help": ""
}]}
Mensuration Capabilities: Basic
Has Histograms: true
Has Colormap: false
Has Multi Dimensions : false
Rendering Rule:
Min Scale: 0
Max Scale: 0
Copyright Text: NB Dept of Natural Resources, GSB Section
Service Data Type: esriImageServiceDataTypeGeneric
Min Values: 53788.41796875
Max Values: 55876.10546875
Mean Values: 54235.810201979
Standard Deviation Values: 149.65241216945
Object ID Field:
Fields:
None
Default Mosaic Method: Center
Allowed Mosaic Methods:
SortField:
SortValue: null
Mosaic Operator: First
Default Compression Quality: 75
Default Resampling Method: Bilinear
Max Record Count: null
Max Image Height: 4100
Max Image Width: 15000
Max Download Image Count: null
Max Mosaic Image Count: null
Allow Raster Function: true
Allow Copy: true
Allow Analysis: true
Allow Compute TiePoints: false
Supports Statistics: false
Supports Advanced Queries: false
Use StandardizedQueries: true
Raster Type Infos:
Name: Raster Dataset
Description: Supports all ArcGIS Raster Datasets
Help:
Has Raster Attribute Table: false
Edit Fields Info: null
Ownership Based AccessControl For Rasters: null
Child Resources:
Info
Histograms
Statistics
Key Properties
Legend
Raster Function Infos
Supported Operations:
Export Image
Identify
Measure
Compute Histograms
Compute Statistics Histograms
Get Samples
Compute Class Statistics
Query Boundary
Compute Pixel Location
Compute Angles
Validate
Project