View In:
ArcGIS JavaScript
ArcGIS Online Map Viewer
ArcGIS Earth
ArcMap
View Footprint In:
ArcGIS Online Map Viewer
Service Description: A grid showing the difference between BigT and total magnetic intensity (TMI) for the Florenceville 1988 survey.This dataset represents the difference between BigT and TMI (BigT_TMI_diff) for the Florenceville airborne magnetic survey in New Brunswick. BigT is derived by converting TMI to magnetic field components and calculating the vector magnitude, and the difference with TMI highlights areas of potential remanent magnetization. The dataset is provided in NB Stereographic Double, NAD83.The BigT_TMI_diff grid was created from the Florenceville 1988 survey by microlevelling the TMI, calculating BigT from magnetic field components, and then subtracting the TMI values. The final grid is provided in NB Stereographic Double, NAD83.Data created Sept. 1, 2025
Name: Geophysics_Aeromagnetic_Individual_Surveys/Florenceville_BigT_TMI_diff
Description: A grid showing the difference between BigT and total magnetic intensity (TMI) for the Florenceville 1988 survey.This dataset represents the difference between BigT and TMI (BigT_TMI_diff) for the Florenceville airborne magnetic survey in New Brunswick. BigT is derived by converting TMI to magnetic field components and calculating the vector magnitude, and the difference with TMI highlights areas of potential remanent magnetization. The dataset is provided in NB Stereographic Double, NAD83.The BigT_TMI_diff grid was created from the Florenceville 1988 survey by microlevelling the TMI, calculating BigT from magnetic field components, and then subtracting the TMI values. The final grid is provided in NB Stereographic Double, NAD83.Data created Sept. 1, 2025
Single Fused Map Cache: false
Extent:
XMin: 2408430.0
YMin: 7456350.0
XMax: 2465850.0
YMax: 7502670.0
Spatial Reference: 2036
(2953)
LatestVCSWkid(0)
Initial Extent:
XMin: 2408430.0
YMin: 7456350.0
XMax: 2465850.0
YMax: 7502670.0
Spatial Reference: 2036
(2953)
LatestVCSWkid(0)
Full Extent:
XMin: 2408430.0
YMin: 7456350.0
XMax: 2465850.0
YMax: 7502670.0
Spatial Reference: 2036
(2953)
LatestVCSWkid(0)
Pixel Size X: 60.0
Pixel Size Y: 60.0
Band Count: 1
Pixel Type: F32
RasterFunction Infos: {"rasterFunctionInfos": [{
"name": "None",
"description": "",
"help": ""
}]}
Mensuration Capabilities: Basic
Has Histograms: true
Has Colormap: false
Has Multi Dimensions : false
Rendering Rule:
Min Scale: 0
Max Scale: 0
Copyright Text: NB Dept of Natural Resources, GSB Section
Service Data Type: esriImageServiceDataTypeGeneric
Min Values: -845.8349609375
Max Values: 4.5551147460938
Mean Values: -7.4096231923498
Standard Deviation Values: 49.676748654595
Object ID Field:
Fields:
None
Default Mosaic Method: Center
Allowed Mosaic Methods:
SortField:
SortValue: null
Mosaic Operator: First
Default Compression Quality: 75
Default Resampling Method: Bilinear
Max Record Count: null
Max Image Height: 4100
Max Image Width: 15000
Max Download Image Count: null
Max Mosaic Image Count: null
Allow Raster Function: true
Allow Copy: true
Allow Analysis: true
Allow Compute TiePoints: false
Supports Statistics: false
Supports Advanced Queries: false
Use StandardizedQueries: true
Raster Type Infos:
Name: Raster Dataset
Description: Supports all ArcGIS Raster Datasets
Help:
Has Raster Attribute Table: false
Edit Fields Info: null
Ownership Based AccessControl For Rasters: null
Child Resources:
Info
Histograms
Statistics
Key Properties
Legend
Raster Function Infos
Supported Operations:
Export Image
Identify
Measure
Compute Histograms
Compute Statistics Histograms
Get Samples
Compute Class Statistics
Query Boundary
Compute Pixel Location
Compute Angles
Validate
Project