View In:
ArcGIS JavaScript
ArcGIS Online Map Viewer
ArcGIS Earth
ArcMap
View Footprint In:
ArcGIS Online Map Viewer
Service Description: A grid of the first vertical derivative (ddz) of the reduction-to-the-pole (RTP) magnetic intensity for the Marrtown 2004 survey.This dataset represents the first vertical derivative (ddz) of the RTP magnetic intensity for the Marrtown airborne magnetic survey in New Brunswick. The RTP_ddz emphasizes near-surface magnetic sources and sharpens anomaly edges, supporting detailed geological and structural interpretation. The dataset is provided in NB Stereographic Double, NAD83.The RTP_ddz grid was created from the Marrtown 2004 survey by microlevelling the TMI, applying reduction-to-the-pole processing, and then calculating the first vertical derivative of the RTP grid. The final grid is provided in NB Stereographic Double, NAD83.Data created Sept 2025.
Name: Geophysics_Aeromagnetic_Individual_Surveys/Marrtown_RTP_1VD
Description: A grid of the first vertical derivative (ddz) of the reduction-to-the-pole (RTP) magnetic intensity for the Marrtown 2004 survey.This dataset represents the first vertical derivative (ddz) of the RTP magnetic intensity for the Marrtown airborne magnetic survey in New Brunswick. The RTP_ddz emphasizes near-surface magnetic sources and sharpens anomaly edges, supporting detailed geological and structural interpretation. The dataset is provided in NB Stereographic Double, NAD83.The RTP_ddz grid was created from the Marrtown 2004 survey by microlevelling the TMI, applying reduction-to-the-pole processing, and then calculating the first vertical derivative of the RTP grid. The final grid is provided in NB Stereographic Double, NAD83.Data created Sept 2025.
Single Fused Map Cache: false
Extent:
XMin: 2532870.0
YMin: 7357590.0
XMax: 2609010.0
YMax: 7478070.0
Spatial Reference: 2036
(2953)
LatestVCSWkid(0)
Initial Extent:
XMin: 2532870.0
YMin: 7357590.0
XMax: 2609010.0
YMax: 7478070.0
Spatial Reference: 2036
(2953)
LatestVCSWkid(0)
Full Extent:
XMin: 2532870.0
YMin: 7357590.0
XMax: 2609010.0
YMax: 7478070.0
Spatial Reference: 2036
(2953)
LatestVCSWkid(0)
Pixel Size X: 60.0
Pixel Size Y: 60.0
Band Count: 1
Pixel Type: F32
RasterFunction Infos: {"rasterFunctionInfos": [{
"name": "None",
"description": "",
"help": ""
}]}
Mensuration Capabilities: Basic
Has Histograms: true
Has Colormap: false
Has Multi Dimensions : false
Rendering Rule:
Min Scale: 0
Max Scale: 0
Copyright Text: NB Dept of Natural Resources, GSB Section
Service Data Type: esriImageServiceDataTypeGeneric
Min Values: -2.8070838451385
Max Values: 6.742760181427
Mean Values: -0.0013563672239231
Standard Deviation Values: 0.14029571997577
Object ID Field:
Fields:
None
Default Mosaic Method: Center
Allowed Mosaic Methods:
SortField:
SortValue: null
Mosaic Operator: First
Default Compression Quality: 75
Default Resampling Method: Bilinear
Max Record Count: null
Max Image Height: 4100
Max Image Width: 15000
Max Download Image Count: null
Max Mosaic Image Count: null
Allow Raster Function: true
Allow Copy: true
Allow Analysis: true
Allow Compute TiePoints: false
Supports Statistics: false
Supports Advanced Queries: false
Use StandardizedQueries: true
Raster Type Infos:
Name: Raster Dataset
Description: Supports all ArcGIS Raster Datasets
Help:
Has Raster Attribute Table: false
Edit Fields Info: null
Ownership Based AccessControl For Rasters: null
Child Resources:
Info
Histograms
Statistics
Key Properties
Legend
Raster Function Infos
Supported Operations:
Export Image
Identify
Measure
Compute Histograms
Compute Statistics Histograms
Get Samples
Compute Class Statistics
Query Boundary
Compute Pixel Location
Compute Angles
Validate
Project