View In:
ArcGIS JavaScript
ArcGIS Online Map Viewer
ArcGIS Earth
ArcMap
View Footprint In:
ArcGIS Online Map Viewer
Service Description: A grid of the tilt derivative of the reduction-to-the-pole (RTP) magnetic intensity for the NB Bathurst 1988 survey.This dataset represents the tilt derivative (TDR) of the RTP magnetic intensity for the NB Bathurst airborne magnetic survey in New Brunswick. The RTP_TDR emphasizes edges of magnetic sources and shallow anomalies, aiding detailed geological and structural interpretation. The dataset is provided in NB Stereographic Double, NAD83.The grid was created from the NB Bathurst 1988 survey by microlevelling the TMI, applying reduction-to-the-pole processing, and then calculating the tilt derivative of the RTP grid. The final grid is provided in NB Stereographic Double, NAD83.Data created Sept 2025.
Name: Geophysics_Aeromagnetic_Individual_Surveys/NBBathurst_RTP_TDR
Description: A grid of the tilt derivative of the reduction-to-the-pole (RTP) magnetic intensity for the NB Bathurst 1988 survey.This dataset represents the tilt derivative (TDR) of the RTP magnetic intensity for the NB Bathurst airborne magnetic survey in New Brunswick. The RTP_TDR emphasizes edges of magnetic sources and shallow anomalies, aiding detailed geological and structural interpretation. The dataset is provided in NB Stereographic Double, NAD83.The grid was created from the NB Bathurst 1988 survey by microlevelling the TMI, applying reduction-to-the-pole processing, and then calculating the tilt derivative of the RTP grid. The final grid is provided in NB Stereographic Double, NAD83.Data created Sept 2025.
Single Fused Map Cache: false
Extent:
XMin: 2458410.0
YMin: 7548390.0
XMax: 2561430.0
YMax: 7644990.0
Spatial Reference: 2036
(2953)
LatestVCSWkid(0)
Initial Extent:
XMin: 2458410.0
YMin: 7548390.0
XMax: 2561430.0
YMax: 7644990.0
Spatial Reference: 2036
(2953)
LatestVCSWkid(0)
Full Extent:
XMin: 2458410.0
YMin: 7548390.0
XMax: 2561430.0
YMax: 7644990.0
Spatial Reference: 2036
(2953)
LatestVCSWkid(0)
Pixel Size X: 60.0
Pixel Size Y: 60.0
Band Count: 1
Pixel Type: F32
RasterFunction Infos: {"rasterFunctionInfos": [{
"name": "None",
"description": "",
"help": ""
}]}
Mensuration Capabilities: Basic
Has Histograms: true
Has Colormap: false
Has Multi Dimensions : false
Rendering Rule:
Min Scale: 0
Max Scale: 0
Copyright Text: NB Dept of Natural Resources, GSB Section
Service Data Type: esriImageServiceDataTypeGeneric
Min Values: -1.5707937479019
Max Values: 1.5707926750183
Mean Values: -0.54598100822144
Standard Deviation Values: 1.2763591264139
Object ID Field:
Fields:
None
Default Mosaic Method: Center
Allowed Mosaic Methods:
SortField:
SortValue: null
Mosaic Operator: First
Default Compression Quality: 75
Default Resampling Method: Bilinear
Max Record Count: null
Max Image Height: 4100
Max Image Width: 15000
Max Download Image Count: null
Max Mosaic Image Count: null
Allow Raster Function: true
Allow Copy: true
Allow Analysis: true
Allow Compute TiePoints: false
Supports Statistics: false
Supports Advanced Queries: false
Use StandardizedQueries: true
Raster Type Infos:
Name: Raster Dataset
Description: Supports all ArcGIS Raster Datasets
Help:
Has Raster Attribute Table: false
Edit Fields Info: null
Ownership Based AccessControl For Rasters: null
Child Resources:
Info
Histograms
Statistics
Key Properties
Legend
Raster Function Infos
Supported Operations:
Export Image
Identify
Measure
Compute Histograms
Compute Statistics Histograms
Get Samples
Compute Class Statistics
Query Boundary
Compute Pixel Location
Compute Angles
Validate
Project