View In:
ArcGIS JavaScript
ArcGIS Online Map Viewer
ArcGIS Earth
ArcMap
View Footprint In:
ArcGIS Online Map Viewer
Service Description: A grid of the total gradient (analytic signal) of total magnetic intensity (TMI) for the SWN 2010 survey.This dataset represents the analytic signal (total gradient) of TMI for the SWN airborne magnetic survey in southern New Brunswick. The TMI_AS highlights the positions and edges of magnetic sources independent of magnetization direction, supporting detailed geological and structural interpretation. The dataset is provided in NB Stereographic Double, NAD83.The TMI_AS grid was created from the SWN 2010 survey by microlevelling the TMI (Mag_Miclev), converting it to a grid, and calculating the total gradient (analytic signal) from the TMI values. The final grid is provided in NB Stereographic Double, NAD83.Data created Sept 2025.
Name: Geophysics_Aeromagnetic_Individual_Surveys/SWN_TMI_AS
Description: A grid of the total gradient (analytic signal) of total magnetic intensity (TMI) for the SWN 2010 survey.This dataset represents the analytic signal (total gradient) of TMI for the SWN airborne magnetic survey in southern New Brunswick. The TMI_AS highlights the positions and edges of magnetic sources independent of magnetization direction, supporting detailed geological and structural interpretation. The dataset is provided in NB Stereographic Double, NAD83.The TMI_AS grid was created from the SWN 2010 survey by microlevelling the TMI (Mag_Miclev), converting it to a grid, and calculating the total gradient (analytic signal) from the TMI values. The final grid is provided in NB Stereographic Double, NAD83.Data created Sept 2025.
Single Fused Map Cache: false
Extent:
XMin: 2433560.0
YMin: 7378280.0
XMax: 2665400.0
YMax: 7556520.0
Spatial Reference: 2036
(2953)
LatestVCSWkid(0)
Initial Extent:
XMin: 2433560.0
YMin: 7378280.0
XMax: 2665400.0
YMax: 7556520.0
Spatial Reference: 2036
(2953)
LatestVCSWkid(0)
Full Extent:
XMin: 2433560.0
YMin: 7378280.0
XMax: 2665400.0
YMax: 7556520.0
Spatial Reference: 2036
(2953)
LatestVCSWkid(0)
Pixel Size X: 80.0
Pixel Size Y: 80.0
Band Count: 1
Pixel Type: F32
RasterFunction Infos: {"rasterFunctionInfos": [{
"name": "None",
"description": "",
"help": ""
}]}
Mensuration Capabilities: Basic
Has Histograms: true
Has Colormap: false
Has Multi Dimensions : false
Rendering Rule:
Min Scale: 0
Max Scale: 0
Copyright Text: NB Dept of Natural Resources, GSB Section
Service Data Type: esriImageServiceDataTypeGeneric
Min Values: 7.464816007996E-5
Max Values: 5.3999252319336
Mean Values: 0.03572285336584
Standard Deviation Values: 0.070035141249728
Object ID Field:
Fields:
None
Default Mosaic Method: Center
Allowed Mosaic Methods:
SortField:
SortValue: null
Mosaic Operator: First
Default Compression Quality: 75
Default Resampling Method: Bilinear
Max Record Count: null
Max Image Height: 4100
Max Image Width: 15000
Max Download Image Count: null
Max Mosaic Image Count: null
Allow Raster Function: true
Allow Copy: true
Allow Analysis: true
Allow Compute TiePoints: false
Supports Statistics: false
Supports Advanced Queries: false
Use StandardizedQueries: true
Raster Type Infos:
Name: Raster Dataset
Description: Supports all ArcGIS Raster Datasets
Help:
Has Raster Attribute Table: false
Edit Fields Info: null
Ownership Based AccessControl For Rasters: null
Child Resources:
Info
Histograms
Statistics
Key Properties
Legend
Raster Function Infos
Supported Operations:
Export Image
Identify
Measure
Compute Histograms
Compute Statistics Histograms
Get Samples
Compute Class Statistics
Query Boundary
Compute Pixel Location
Compute Angles
Validate
Project