View In:
ArcGIS JavaScript
ArcGIS Online Map Viewer
ArcGIS Earth
ArcMap
View Footprint In:
ArcGIS Online Map Viewer
Service Description: This dataset represents the Txx component of the gravity tensor derived from the Falcon2013 (East) FTG/AGG survey, gridded at 25 m resolution in NAD83 NB Stereographic projection.The dataset contains the Txx tensor component extracted from the reconstructed gravity tensor of the Falcon2013 (East) survey. Txx represents the second derivative of the gravity field along the X-axis, providing information about lateral density variations and subsurface structures. It is useful for mapping faults, lithological contacts, and intrusive bodies, and supports high-resolution geophysical interpretation and mineral exploration. The dataset is delivered as a 25 m grid in NAD83 New Brunswick Stereographic projection.This raster was produced by processing the Falcon2013 (East) FTG/AGG profile data with a density of 2.8 g/cc, reconstructing the full gravity tensor from the measured components, interpolating the tensor to a 25 m grid using a tensor-interpolation algorithm, and extracting the Txx component. The final grid was exported in ER Mapper (.ers) format.Data created Sept 2025.
Name: Geophysics_Gravity_Gradiometry_Individual_Surveys/Falcon_E_Block_Txx
Description: This dataset represents the Txx component of the gravity tensor derived from the Falcon2013 (East) FTG/AGG survey, gridded at 25 m resolution in NAD83 NB Stereographic projection.The dataset contains the Txx tensor component extracted from the reconstructed gravity tensor of the Falcon2013 (East) survey. Txx represents the second derivative of the gravity field along the X-axis, providing information about lateral density variations and subsurface structures. It is useful for mapping faults, lithological contacts, and intrusive bodies, and supports high-resolution geophysical interpretation and mineral exploration. The dataset is delivered as a 25 m grid in NAD83 New Brunswick Stereographic projection.This raster was produced by processing the Falcon2013 (East) FTG/AGG profile data with a density of 2.8 g/cc, reconstructing the full gravity tensor from the measured components, interpolating the tensor to a 25 m grid using a tensor-interpolation algorithm, and extracting the Txx component. The final grid was exported in ER Mapper (.ers) format.Data created Sept 2025.
Single Fused Map Cache: false
Extent:
XMin: 2535062.5
YMin: 7577687.5
XMax: 2561737.5
YMax: 7618262.5
Spatial Reference: 2036
(2953)
LatestVCSWkid(0)
Initial Extent:
XMin: 2535062.5
YMin: 7577687.5
XMax: 2561737.5
YMax: 7618262.5
Spatial Reference: 2036
(2953)
LatestVCSWkid(0)
Full Extent:
XMin: 2535062.5
YMin: 7577687.5
XMax: 2561737.5
YMax: 7618262.5
Spatial Reference: 2036
(2953)
LatestVCSWkid(0)
Pixel Size X: 25.0
Pixel Size Y: 25.0
Band Count: 1
Pixel Type: F32
RasterFunction Infos: {"rasterFunctionInfos": [{
"name": "None",
"description": "",
"help": ""
}]}
Mensuration Capabilities: Basic
Has Histograms: true
Has Colormap: false
Has Multi Dimensions : false
Rendering Rule:
Min Scale: 0
Max Scale: 0
Copyright Text: NB Dept of Natural Resources, GSB Section
Service Data Type: esriImageServiceDataTypeGeneric
Min Values: -56.820823669434
Max Values: 62.181732177734
Mean Values: 0.015200311637
Standard Deviation Values: 8.5312941591186
Object ID Field:
Fields:
None
Default Mosaic Method: Center
Allowed Mosaic Methods:
SortField:
SortValue: null
Mosaic Operator: First
Default Compression Quality: 75
Default Resampling Method: Bilinear
Max Record Count: null
Max Image Height: 4100
Max Image Width: 15000
Max Download Image Count: null
Max Mosaic Image Count: null
Allow Raster Function: true
Allow Copy: true
Allow Analysis: true
Allow Compute TiePoints: false
Supports Statistics: false
Supports Advanced Queries: false
Use StandardizedQueries: true
Raster Type Infos:
Name: Raster Dataset
Description: Supports all ArcGIS Raster Datasets
Help:
Has Raster Attribute Table: false
Edit Fields Info: null
Ownership Based AccessControl For Rasters: null
Child Resources:
Info
Histograms
Statistics
Key Properties
Legend
Raster Function Infos
Supported Operations:
Export Image
Identify
Measure
Compute Histograms
Compute Statistics Histograms
Get Samples
Compute Class Statistics
Query Boundary
Compute Pixel Location
Compute Angles
Validate
Project