View In:
ArcGIS JavaScript
ArcGIS Online Map Viewer
ArcGIS Earth
ArcMap
View Footprint In:
ArcGIS Online Map Viewer
Service Description: This dataset represents the Tz (vertical gravity) component derived from the Falcon2013 (East) FTG/AGG survey, gridded at 25 m resolution in NAD83 NB Stereographic projection.The dataset contains the vertical gravity component (Tz) reconstructed from the Falcon2013 (East) FTG/AGG gravity tensor. Tz highlights vertical density variations in the subsurface and is useful for mapping faults, lithological contacts, intrusive bodies, and other geological structures. This high-resolution dataset supports detailed structural interpretation and mineral exploration and is delivered as a 25 m grid in NAD83 New Brunswick Stereographic projection.This raster was produced by reconstructing Tz from the measured tensor components (Txz, Tyz, and Tzz) of the Falcon2013 (East) FTG/AGG survey, gridding the resulting Tz field at 25 m resolution using a tensor-interpolation algorithm, and exporting it as an ER Mapper (.ers) raster.Data created Sept 2025.
Name: Geophysics_Gravity_Gradiometry_Individual_Surveys/Falcon_E_Block_Tz
Description: This dataset represents the Tz (vertical gravity) component derived from the Falcon2013 (East) FTG/AGG survey, gridded at 25 m resolution in NAD83 NB Stereographic projection.The dataset contains the vertical gravity component (Tz) reconstructed from the Falcon2013 (East) FTG/AGG gravity tensor. Tz highlights vertical density variations in the subsurface and is useful for mapping faults, lithological contacts, intrusive bodies, and other geological structures. This high-resolution dataset supports detailed structural interpretation and mineral exploration and is delivered as a 25 m grid in NAD83 New Brunswick Stereographic projection.This raster was produced by reconstructing Tz from the measured tensor components (Txz, Tyz, and Tzz) of the Falcon2013 (East) FTG/AGG survey, gridding the resulting Tz field at 25 m resolution using a tensor-interpolation algorithm, and exporting it as an ER Mapper (.ers) raster.Data created Sept 2025.
Single Fused Map Cache: false
Extent:
XMin: 2535062.5
YMin: 7577687.5
XMax: 2561737.5
YMax: 7618262.5
Spatial Reference: 2036
(2953)
LatestVCSWkid(0)
Initial Extent:
XMin: 2535062.5
YMin: 7577687.5
XMax: 2561737.5
YMax: 7618262.5
Spatial Reference: 2036
(2953)
LatestVCSWkid(0)
Full Extent:
XMin: 2535062.5
YMin: 7577687.5
XMax: 2561737.5
YMax: 7618262.5
Spatial Reference: 2036
(2953)
LatestVCSWkid(0)
Pixel Size X: 25.0
Pixel Size Y: 25.0
Band Count: 1
Pixel Type: F32
RasterFunction Infos: {"rasterFunctionInfos": [{
"name": "None",
"description": "",
"help": ""
}]}
Mensuration Capabilities: Basic
Has Histograms: true
Has Colormap: false
Has Multi Dimensions : false
Rendering Rule:
Min Scale: 0
Max Scale: 0
Copyright Text: NB Dept of Natural Resources, GSB Section
Service Data Type: esriImageServiceDataTypeGeneric
Min Values: -12.065710067749
Max Values: 12.709871292114
Mean Values: -0.13327999164537
Standard Deviation Values: 4.0648079973521
Object ID Field:
Fields:
None
Default Mosaic Method: Center
Allowed Mosaic Methods:
SortField:
SortValue: null
Mosaic Operator: First
Default Compression Quality: 75
Default Resampling Method: Bilinear
Max Record Count: null
Max Image Height: 4100
Max Image Width: 15000
Max Download Image Count: null
Max Mosaic Image Count: null
Allow Raster Function: true
Allow Copy: true
Allow Analysis: true
Allow Compute TiePoints: false
Supports Statistics: false
Supports Advanced Queries: false
Use StandardizedQueries: true
Raster Type Infos:
Name: Raster Dataset
Description: Supports all ArcGIS Raster Datasets
Help:
Has Raster Attribute Table: false
Edit Fields Info: null
Ownership Based AccessControl For Rasters: null
Child Resources:
Info
Histograms
Statistics
Key Properties
Legend
Raster Function Infos
Supported Operations:
Export Image
Identify
Measure
Compute Histograms
Compute Statistics Histograms
Get Samples
Compute Class Statistics
Query Boundary
Compute Pixel Location
Compute Angles
Validate
Project