View In:
ArcGIS JavaScript
ArcGIS Online Map Viewer
ArcGIS Earth
ArcMap
View Footprint In:
ArcGIS Online Map Viewer
Service Description: This dataset represents the Shape Index derived from the gravity tensor of the Northwest Falcon2013 FTG/AGG survey, gridded at 25 m resolution in NAD83 NB Stereographic projection.The dataset contains the Shape Index calculated from the reconstructed gravity tensor of the Northwest Falcon2013 survey. The Shape Index quantifies the local curvature of the gravity field, highlighting shallow structural features such as faults, lithological contacts, and intrusive bodies. This high-resolution dataset is useful for detailed structural interpretation and mineral exploration and is provided as a 25 m grid in NAD83 New Brunswick Stereographic projection.This raster was produced by constructing the gravity tensor from the Northwest Falcon2013 FTG/AGG profile data processed with a density of 2.8 g/cc, gridding the tensor at 25 m using a tensor-interpolation algorithm, and calculating the Shape Index following the method of Cevallos (2014) (see Cevallos, 2014; https://library.seg.org/doi/abs/10.1190/geo2013-0436.1). The final grid was exported in ER Mapper (.ers) format.Data created Sept 2025.
Name: Geophysics_Gravity_Gradiometry_Individual_Surveys/Falcon_NW_Block_SI
Description: This dataset represents the Shape Index derived from the gravity tensor of the Northwest Falcon2013 FTG/AGG survey, gridded at 25 m resolution in NAD83 NB Stereographic projection.The dataset contains the Shape Index calculated from the reconstructed gravity tensor of the Northwest Falcon2013 survey. The Shape Index quantifies the local curvature of the gravity field, highlighting shallow structural features such as faults, lithological contacts, and intrusive bodies. This high-resolution dataset is useful for detailed structural interpretation and mineral exploration and is provided as a 25 m grid in NAD83 New Brunswick Stereographic projection.This raster was produced by constructing the gravity tensor from the Northwest Falcon2013 FTG/AGG profile data processed with a density of 2.8 g/cc, gridding the tensor at 25 m using a tensor-interpolation algorithm, and calculating the Shape Index following the method of Cevallos (2014) (see Cevallos, 2014; https://library.seg.org/doi/abs/10.1190/geo2013-0436.1). The final grid was exported in ER Mapper (.ers) format.Data created Sept 2025.
Single Fused Map Cache: false
Extent:
XMin: 2491237.5
YMin: 7579337.5
XMax: 2527712.5
YMax: 7626812.5
Spatial Reference: 2036
(2953)
LatestVCSWkid(0)
Initial Extent:
XMin: 2491237.5
YMin: 7579337.5
XMax: 2527712.5
YMax: 7626812.5
Spatial Reference: 2036
(2953)
LatestVCSWkid(0)
Full Extent:
XMin: 2491237.5
YMin: 7579337.5
XMax: 2527712.5
YMax: 7626812.5
Spatial Reference: 2036
(2953)
LatestVCSWkid(0)
Pixel Size X: 25.0
Pixel Size Y: 25.0
Band Count: 1
Pixel Type: F32
RasterFunction Infos: {"rasterFunctionInfos": [{
"name": "None",
"description": "",
"help": ""
}]}
Mensuration Capabilities: Basic
Has Histograms: true
Has Colormap: false
Has Multi Dimensions : false
Rendering Rule:
Min Scale: 0
Max Scale: 0
Copyright Text: NB Dept of Natural Resources, GSB Section
Service Data Type: esriImageServiceDataTypeGeneric
Min Values: -0.99959373474121
Max Values: 0.99873507022858
Mean Values: -0.083909813114137
Standard Deviation Values: 0.48552440367292
Object ID Field:
Fields:
None
Default Mosaic Method: Center
Allowed Mosaic Methods:
SortField:
SortValue: null
Mosaic Operator: First
Default Compression Quality: 75
Default Resampling Method: Bilinear
Max Record Count: null
Max Image Height: 4100
Max Image Width: 15000
Max Download Image Count: null
Max Mosaic Image Count: null
Allow Raster Function: true
Allow Copy: true
Allow Analysis: true
Allow Compute TiePoints: false
Supports Statistics: false
Supports Advanced Queries: false
Use StandardizedQueries: true
Raster Type Infos:
Name: Raster Dataset
Description: Supports all ArcGIS Raster Datasets
Help:
Has Raster Attribute Table: false
Edit Fields Info: null
Ownership Based AccessControl For Rasters: null
Child Resources:
Info
Histograms
Statistics
Key Properties
Legend
Raster Function Infos
Supported Operations:
Export Image
Identify
Measure
Compute Histograms
Compute Statistics Histograms
Get Samples
Compute Class Statistics
Query Boundary
Compute Pixel Location
Compute Angles
Validate
Project