View In:
ArcGIS JavaScript
ArcGIS Online Map Viewer
ArcGIS Earth
ArcMap
View Footprint In:
ArcGIS Online Map Viewer
Service Description: This dataset represents the Txx component of the gravity tensor derived from the Northwest Falcon2013 FTG/AGG survey, gridded at 25 m resolution in NAD83 NB Stereographic projection.he dataset contains the Txx tensor component extracted from the reconstructed gravity tensor of the Northwest Falcon2013 survey. Txx represents the second derivative of the gravity field along the X-axis, capturing lateral density variations in the subsurface. This component is useful for mapping faults, lithological contacts, intrusive bodies, and other structural features, supporting high-resolution structural interpretation and mineral exploration. The dataset is delivered as a 25 m grid in NAD83 New Brunswick Stereographic projection.This raster was produced by processing the Northwest Falcon2013 FTG/AGG profile data using a density of 2.8 g/cc, reconstructing the full gravity tensor from the measured components, interpolating the tensor to a 25 m grid using a tensor-interpolation algorithm, and extracting the Txx component. The final grid was exported in ER Mapper (.ers) format.Data created Sept 2025.
Name: Geophysics_Gravity_Gradiometry_Individual_Surveys/Falcon_NW_Block_Txx
Description: This dataset represents the Txx component of the gravity tensor derived from the Northwest Falcon2013 FTG/AGG survey, gridded at 25 m resolution in NAD83 NB Stereographic projection.he dataset contains the Txx tensor component extracted from the reconstructed gravity tensor of the Northwest Falcon2013 survey. Txx represents the second derivative of the gravity field along the X-axis, capturing lateral density variations in the subsurface. This component is useful for mapping faults, lithological contacts, intrusive bodies, and other structural features, supporting high-resolution structural interpretation and mineral exploration. The dataset is delivered as a 25 m grid in NAD83 New Brunswick Stereographic projection.This raster was produced by processing the Northwest Falcon2013 FTG/AGG profile data using a density of 2.8 g/cc, reconstructing the full gravity tensor from the measured components, interpolating the tensor to a 25 m grid using a tensor-interpolation algorithm, and extracting the Txx component. The final grid was exported in ER Mapper (.ers) format.Data created Sept 2025.
Single Fused Map Cache: false
Extent:
XMin: 2491237.5
YMin: 7579337.5
XMax: 2527712.5
YMax: 7626812.5
Spatial Reference: 2036
(2953)
LatestVCSWkid(0)
Initial Extent:
XMin: 2491237.5
YMin: 7579337.5
XMax: 2527712.5
YMax: 7626812.5
Spatial Reference: 2036
(2953)
LatestVCSWkid(0)
Full Extent:
XMin: 2491237.5
YMin: 7579337.5
XMax: 2527712.5
YMax: 7626812.5
Spatial Reference: 2036
(2953)
LatestVCSWkid(0)
Pixel Size X: 25.0
Pixel Size Y: 25.0
Band Count: 1
Pixel Type: F32
RasterFunction Infos: {"rasterFunctionInfos": [{
"name": "None",
"description": "",
"help": ""
}]}
Mensuration Capabilities: Basic
Has Histograms: true
Has Colormap: false
Has Multi Dimensions : false
Rendering Rule:
Min Scale: 0
Max Scale: 0
Copyright Text: NB Dept of Natural Resources, GSB Section
Service Data Type: esriImageServiceDataTypeGeneric
Min Values: -138.59956359863
Max Values: 117.44338989258
Mean Values: -0.028201466797404
Standard Deviation Values: 16.244577750258
Object ID Field:
Fields:
None
Default Mosaic Method: Center
Allowed Mosaic Methods:
SortField:
SortValue: null
Mosaic Operator: First
Default Compression Quality: 75
Default Resampling Method: Bilinear
Max Record Count: null
Max Image Height: 4100
Max Image Width: 15000
Max Download Image Count: null
Max Mosaic Image Count: null
Allow Raster Function: true
Allow Copy: true
Allow Analysis: true
Allow Compute TiePoints: false
Supports Statistics: false
Supports Advanced Queries: false
Use StandardizedQueries: true
Raster Type Infos:
Name: Raster Dataset
Description: Supports all ArcGIS Raster Datasets
Help:
Has Raster Attribute Table: false
Edit Fields Info: null
Ownership Based AccessControl For Rasters: null
Child Resources:
Info
Histograms
Statistics
Key Properties
Legend
Raster Function Infos
Supported Operations:
Export Image
Identify
Measure
Compute Histograms
Compute Statistics Histograms
Get Samples
Compute Class Statistics
Query Boundary
Compute Pixel Location
Compute Angles
Validate
Project