View In:
ArcGIS JavaScript
ArcGIS Online Map Viewer
ArcGIS Earth
ArcMap
View Footprint In:
ArcGIS Online Map Viewer
Service Description: This dataset represents the gravity tensor grid derived from the SWN_NBStereo (Lantern) FTG/AGG survey, gridded at 25 m resolution in NAD83 NB Stereographic projection.The dataset contains the full gravity tensor interpolated from the measured FTG/AGG profile data of the SWN_NBStereo survey. The gridded tensor highlights subsurface density variations, including faults, intrusive bodies, lithological contacts, and other geological structures. This high-resolution dataset supports detailed structural interpretation and mineral exploration and is delivered as a 25 m grid in NAD83 New Brunswick Stereographic projection.This raster was produced by processing the SWN_NBStereo FTG/AGG profile data using a density of 2.8 g/cc, constructing the full gravity tensor from all measured components, interpolating the tensor into a 25 m grid using a tensor-interpolation algorithm, and exporting the resulting tensor grid as an ER Mapper (.ers) raster.Data created Sept 2025.
Name: Geophysics_Gravity_Gradiometry_Individual_Surveys/SWN_AGG_Km
Description: This dataset represents the gravity tensor grid derived from the SWN_NBStereo (Lantern) FTG/AGG survey, gridded at 25 m resolution in NAD83 NB Stereographic projection.The dataset contains the full gravity tensor interpolated from the measured FTG/AGG profile data of the SWN_NBStereo survey. The gridded tensor highlights subsurface density variations, including faults, intrusive bodies, lithological contacts, and other geological structures. This high-resolution dataset supports detailed structural interpretation and mineral exploration and is delivered as a 25 m grid in NAD83 New Brunswick Stereographic projection.This raster was produced by processing the SWN_NBStereo FTG/AGG profile data using a density of 2.8 g/cc, constructing the full gravity tensor from all measured components, interpolating the tensor into a 25 m grid using a tensor-interpolation algorithm, and exporting the resulting tensor grid as an ER Mapper (.ers) raster.Data created Sept 2025.
Single Fused Map Cache: false
Extent:
XMin: 2433602.5
YMin: 7378582.5
XMax: 2665327.5
YMax: 7556717.5
Spatial Reference: 2036
(2953)
LatestVCSWkid(0)
Initial Extent:
XMin: 2433602.5
YMin: 7378582.5
XMax: 2665327.5
YMax: 7556717.5
Spatial Reference: 2036
(2953)
LatestVCSWkid(0)
Full Extent:
XMin: 2433602.5
YMin: 7378582.5
XMax: 2665327.5
YMax: 7556717.5
Spatial Reference: 2036
(2953)
LatestVCSWkid(0)
Pixel Size X: 115.0
Pixel Size Y: 115.0
Band Count: 1
Pixel Type: F32
RasterFunction Infos: {"rasterFunctionInfos": [{
"name": "None",
"description": "",
"help": ""
}]}
Mensuration Capabilities: Basic
Has Histograms: true
Has Colormap: false
Has Multi Dimensions : false
Rendering Rule:
Min Scale: 0
Max Scale: 0
Copyright Text: NB Dept of Natural Resources, GSB Section
Service Data Type: esriImageServiceDataTypeGeneric
Min Values: -19688.37890625
Max Values: 468686.9375
Mean Values: 0.31890209623032
Standard Deviation Values: 365.19704321157
Object ID Field:
Fields:
None
Default Mosaic Method: Center
Allowed Mosaic Methods:
SortField:
SortValue: null
Mosaic Operator: First
Default Compression Quality: 75
Default Resampling Method: Bilinear
Max Record Count: null
Max Image Height: 4100
Max Image Width: 15000
Max Download Image Count: null
Max Mosaic Image Count: null
Allow Raster Function: true
Allow Copy: true
Allow Analysis: true
Allow Compute TiePoints: false
Supports Statistics: false
Supports Advanced Queries: false
Use StandardizedQueries: true
Raster Type Infos:
Name: Raster Dataset
Description: Supports all ArcGIS Raster Datasets
Help:
Has Raster Attribute Table: false
Edit Fields Info: null
Ownership Based AccessControl For Rasters: null
Child Resources:
Info
Histograms
Statistics
Key Properties
Legend
Raster Function Infos
Supported Operations:
Export Image
Identify
Measure
Compute Histograms
Compute Statistics Histograms
Get Samples
Compute Class Statistics
Query Boundary
Compute Pixel Location
Compute Angles
Validate
Project