View In:
ArcGIS JavaScript
ArcGIS Online Map Viewer
ArcGIS Earth
ArcMap
View Footprint In:
ArcGIS Online Map Viewer
Service Description: The average total Growing Degree Days (GDD) for a given year, computed using a base temperature of 10°C, over a 30 year time span (or as close to that as possible). The formula used was:
Max((Tmax + Tmin)/2 - 10, 0) where
Tmax = MIN(30, Daily Max Temperature)
Tmin = MAX(Daily Min Temperature, 10)
Temperatures were determined from Environment Canada historical weather data. The GDD were calculated for the entire year, as opposed to being limited to the spring and summer.
Name: GrowingDegreeDays/GDD_10
Description: The average total Growing Degree Days (GDD) for a given year, computed using a base temperature of 10°C, over a 30 year time span (or as close to that as possible). The formula used was:
Max((Tmax + Tmin)/2 - 10, 0) where
Tmax = MIN(30, Daily Max Temperature)
Tmin = MAX(Daily Min Temperature, 10)
Temperatures were determined from Environment Canada historical weather data. The GDD were calculated for the entire year, as opposed to being limited to the spring and summer.
Single Fused Map Cache: false
Extent:
XMin: 2311476.539999999
YMin: 7301093.82
XMax: 2709806.539999999
YMax: 7671013.82
Spatial Reference: 2036
(2953)
LatestVCSWkid(0)
Initial Extent:
XMin: 2311476.539999999
YMin: 7301093.82
XMax: 2709806.539999999
YMax: 7671013.82
Spatial Reference: 2036
(2953)
LatestVCSWkid(0)
Full Extent:
XMin: 2311476.539999999
YMin: 7301093.82
XMax: 2709806.539999999
YMax: 7671013.82
Spatial Reference: 2036
(2953)
LatestVCSWkid(0)
Pixel Size X: 10.0
Pixel Size Y: 10.0
Band Count: 1
Pixel Type: F32
RasterFunction Infos: {"rasterFunctionInfos": [{
"name": "None",
"description": "",
"help": ""
}]}
Mensuration Capabilities: Basic
Has Histograms: true
Has Colormap: false
Has Multi Dimensions : false
Rendering Rule:
Min Scale: 0
Max Scale: 0
Copyright Text:
Service Data Type: esriImageServiceDataTypeGeneric
Min Values: 706.6447143554688
Max Values: 1327.4483642578125
Mean Values: 1052.2636722720881
Standard Deviation Values: 103.74000581494447
Object ID Field:
Fields:
None
Default Mosaic Method: Center
Allowed Mosaic Methods:
SortField:
SortValue: null
Mosaic Operator: First
Default Compression Quality: 75
Default Resampling Method: Bilinear
Max Record Count: null
Max Image Height: 4100
Max Image Width: 15000
Max Download Image Count: null
Max Mosaic Image Count: null
Allow Raster Function: true
Allow Copy: true
Allow Analysis: true
Allow Compute TiePoints: false
Supports Statistics: false
Supports Advanced Queries: false
Use StandardizedQueries: true
Raster Type Infos:
Name: Raster Dataset
Description: Supports all ArcGIS Raster Datasets
Help:
Has Raster Attribute Table: false
Edit Fields Info: null
Ownership Based AccessControl For Rasters: null
Child Resources:
Info
Histograms
Statistics
Key Properties
Legend
Raster Function Infos
Supported Operations:
Export Image
Identify
Measure
Compute Histograms
Compute Statistics Histograms
Get Samples
Compute Class Statistics
Query Boundary
Compute Pixel Location
Compute Angles
Validate
Project