View In:
ArcGIS JavaScript
ArcGIS Online Map Viewer
ArcGIS Earth
ArcMap
View Footprint In:
ArcGIS Online Map Viewer
Service Description: A hillshade (A grayscale 3D representation of the surface, with the sun's relative position taken into account for shading the image) raster derived from the Provincial DEM, using an azimuth of 45°. The raster has a resolution of 1 metre by 1 metre.
Name: LidarProducts/Hillshade_45
Description: A hillshade (A grayscale 3D representation of the surface, with the sun's relative position taken into account for shading the image) raster derived from the Provincial DEM, using an azimuth of 45°. The raster has a resolution of 1 metre by 1 metre.
Single Fused Map Cache: false
Extent:
XMin: 2306000.0001000017
YMin: 7285192.630800001
XMax: 2711943.0001000017
YMax: 7676006.630800001
Spatial Reference: 2036
(2953)
VCSWkid(6647)
LatestVCSWkid(6647)
Initial Extent:
XMin: 2306000.0001000017
YMin: 7285192.630800001
XMax: 2711943.0001000017
YMax: 7676006.630800001
Spatial Reference: 2036
(2953)
VCSWkid(6647)
LatestVCSWkid(6647)
Full Extent:
XMin: 2306000.0001000017
YMin: 7285192.630800001
XMax: 2711943.0001000017
YMax: 7676006.630800001
Spatial Reference: 2036
(2953)
VCSWkid(6647)
LatestVCSWkid(6647)
Pixel Size X: 1.0
Pixel Size Y: 1.0
Band Count: 1
Pixel Type: U8
RasterFunction Infos: {"rasterFunctionInfos": [{
"name": "None",
"description": "A No-Op Function.",
"help": ""
}]}
Mensuration Capabilities: Basic
Has Histograms: true
Has Colormap: false
Has Multi Dimensions : false
Rendering Rule:
Min Scale: 0
Max Scale: 0
Copyright Text:
Service Data Type: esriImageServiceDataTypeProcessed
Min Values: 0
Max Values: 255
Mean Values: 178.6117308241187
Standard Deviation Values: 17.78362792911779
Object ID Field: OBJECTID
Fields:
-
OBJECTID
(
type: esriFieldTypeOID, alias: OBJECTID
)
-
Shape
(
type: esriFieldTypeGeometry, alias: Shape
)
-
Name
(
type: esriFieldTypeString, alias: Name, length: 200
)
-
Category
(
type: esriFieldTypeInteger, alias: Category
, Coded Values:
[0: Unknown]
, [1: Primary]
, [2: Overview]
, ...6 more...
)
-
ZOrder
(
type: esriFieldTypeInteger, alias: ZOrder
)
-
YEAR
(
type: esriFieldTypeInteger, alias: YEAR
)
-
Shape_Length
(
type: esriFieldTypeDouble, alias: Shape_Length
)
-
Shape_Area
(
type: esriFieldTypeDouble, alias: Shape_Area
)
Default Mosaic Method: ByAttribute
Allowed Mosaic Methods: ByAttribute,NorthWest,Center,LockRaster,Nadir,Viewpoint,Seamline,None
SortField: ZOrder
SortValue: 0
Mosaic Operator: First
Default Compression Quality: 75
Default Resampling Method: Bilinear
Max Record Count: 1000
Max Image Height: 4100
Max Image Width: 15000
Max Download Image Count: 20
Max Mosaic Image Count: 20
Allow Raster Function: true
Allow Copy: true
Allow Analysis: true
Allow Compute TiePoints: false
Supports Statistics: true
Supports Advanced Queries: true
Use StandardizedQueries: true
Raster Type Infos:
Name: Raster Dataset
Description: Supports all ArcGIS Raster Datasets
Help:
Has Raster Attribute Table: false
Edit Fields Info: null
Ownership Based AccessControl For Rasters: null
Child Resources:
Info
Histograms
Statistics
Key Properties
Legend
Raster Function Infos
Supported Operations:
Export Image
Query
Identify
Compute Histograms
Compute Statistics Histograms
Get Samples
Compute Class Statistics
Query Boundary
Compute Pixel Location
Compute Angles
Validate
Project