View In:
ArcGIS JavaScript
ArcGIS Online Map Viewer
ArcGIS Earth
ArcMap
View Footprint In:
ArcGIS Online Map Viewer
Service Description: Suitability Analysis for Potato crops within the province of New Brunswick conduct by Dr. Paul Arp at the University of New Brunswick.
Name: Productivity_Maps/Nb_potato_suitability
Description: Suitability Analysis for Potato crops within the province of New Brunswick conduct by Dr. Paul Arp at the University of New Brunswick.
Single Fused Map Cache: false
Extent:
XMin: 2306196.54
YMin: 7275798.91
XMax: 2713276.54
YMax: 7677865.91
Spatial Reference: 2036
(2953)
LatestVCSWkid(0)
Initial Extent:
XMin: 2306196.54
YMin: 7275798.91
XMax: 2713276.54
YMax: 7677865.91
Spatial Reference: 2036
(2953)
LatestVCSWkid(0)
Full Extent:
XMin: 2306196.54
YMin: 7275798.91
XMax: 2713276.54
YMax: 7677865.91
Spatial Reference: 2036
(2953)
LatestVCSWkid(0)
Pixel Size X: 1.0
Pixel Size Y: 1.0
Band Count: 1
Pixel Type: S32
RasterFunction Infos: {"rasterFunctionInfos": [{
"name": "None",
"description": "",
"help": ""
}]}
Mensuration Capabilities: Basic
Has Histograms: true
Has Colormap: false
Has Multi Dimensions : false
Rendering Rule:
Min Scale: 0
Max Scale: 0
Copyright Text:
Service Data Type: esriImageServiceDataTypeGeneric
Min Values: 0
Max Values: 99
Mean Values: 28.381461689479
Standard Deviation Values: 28.163733623339
Object ID Field:
Fields:
None
Default Mosaic Method: Center
Allowed Mosaic Methods:
SortField:
SortValue: null
Mosaic Operator: First
Default Compression Quality: 75
Default Resampling Method: Bilinear
Max Record Count: null
Max Image Height: 4100
Max Image Width: 15000
Max Download Image Count: null
Max Mosaic Image Count: null
Allow Raster Function: true
Allow Copy: true
Allow Analysis: true
Allow Compute TiePoints: false
Supports Statistics: false
Supports Advanced Queries: false
Use StandardizedQueries: true
Raster Type Infos:
Name: Raster Dataset
Description: Supports all ArcGIS Raster Datasets
Help:
Has Raster Attribute Table: true
Edit Fields Info: null
Ownership Based AccessControl For Rasters: null
Child Resources:
Info
Raster Attribute Table
Histograms
Statistics
Key Properties
Legend
Raster Function Infos
Supported Operations:
Export Image
Identify
Measure
Compute Histograms
Compute Statistics Histograms
Get Samples
Compute Class Statistics
Query Boundary
Compute Pixel Location
Compute Angles
Validate
Project