View In:
ArcGIS JavaScript
ArcGIS Online Map Viewer
ArcGIS Earth
ArcMap
View Footprint In:
ArcGIS Online Map Viewer
Service Description: Data displays the depth to water table for the province of New Brunswick. Data was provided by Dr. Paul Arp at the University of New Brunswick in Fredericton. All enquiries about the data should be directed to him.
Name: Watertable/WATERTABLE_4ha
Description: Data displays the depth to water table for the province of New Brunswick. Data was provided by Dr. Paul Arp at the University of New Brunswick in Fredericton. All enquiries about the data should be directed to him.
Single Fused Map Cache: false
Extent:
XMin: 2306642.516431459
YMin: 7277396.784882993
XMax: 2711452.516431459
YMax: 7675376.784882993
Spatial Reference: 2036
(2953)
LatestVCSWkid(0)
Initial Extent:
XMin: 2306642.516431459
YMin: 7277396.784882993
XMax: 2711452.516431459
YMax: 7675376.784882993
Spatial Reference: 2036
(2953)
LatestVCSWkid(0)
Full Extent:
XMin: 2306642.516431459
YMin: 7277396.784882993
XMax: 2711452.516431459
YMax: 7675376.784882993
Spatial Reference: 2036
(2953)
LatestVCSWkid(0)
Pixel Size X: 10.0
Pixel Size Y: 10.0
Band Count: 1
Pixel Type: F32
RasterFunction Infos: {"rasterFunctionInfos": [{
"name": "None",
"description": "",
"help": ""
}]}
Mensuration Capabilities: Basic
Has Histograms: true
Has Colormap: false
Has Multi Dimensions : false
Rendering Rule:
Min Scale: 0
Max Scale: 0
Copyright Text: Dr. Paul Arp, UNB
Service Data Type: esriImageServiceDataTypeGeneric
Min Values: 0
Max Values: 266.56787109375
Mean Values: 5.298801816603858
Standard Deviation Values: 9.557545656070419
Object ID Field:
Fields:
None
Default Mosaic Method: Center
Allowed Mosaic Methods:
SortField:
SortValue: null
Mosaic Operator: First
Default Compression Quality: 75
Default Resampling Method: Bilinear
Max Record Count: null
Max Image Height: 4100
Max Image Width: 15000
Max Download Image Count: null
Max Mosaic Image Count: null
Allow Raster Function: true
Allow Copy: true
Allow Analysis: true
Allow Compute TiePoints: false
Supports Statistics: false
Supports Advanced Queries: false
Use StandardizedQueries: true
Raster Type Infos:
Name: Raster Dataset
Description: Supports all ArcGIS Raster Datasets
Help:
Has Raster Attribute Table: false
Edit Fields Info: null
Ownership Based AccessControl For Rasters: null
Child Resources:
Info
Histograms
Statistics
Key Properties
Legend
Raster Function Infos
Supported Operations:
Export Image
Identify
Measure
Compute Histograms
Compute Statistics Histograms
Get Samples
Compute Class Statistics
Query Boundary
Compute Pixel Location
Compute Angles
Validate
Project