View In:
ArcGIS JavaScript
ArcGIS Online Map Viewer
ArcGIS Earth
ArcMap
View Footprint In:
ArcGIS Online Map Viewer
Service Description: farmlandnb/SPOT_NB2023__M4_tif
Name: farmlandnb/SPOT_NB2023__M4_tif
Description:
Single Fused Map Cache: false
Extent:
XMin: 2301479.1193347727
YMin: 7280459.140847053
XMax: 2713127.1193347727
YMax: 7679819.140847053
Spatial Reference: 2036
(2953)
LatestVCSWkid(0)
Initial Extent:
XMin: 2301479.1193347727
YMin: 7280459.140847053
XMax: 2713127.1193347727
YMax: 7679819.140847053
Spatial Reference: 2036
(2953)
LatestVCSWkid(0)
Full Extent:
XMin: 2301479.1193347727
YMin: 7280459.140847053
XMax: 2713127.1193347727
YMax: 7679819.140847053
Spatial Reference: 2036
(2953)
LatestVCSWkid(0)
Pixel Size X: 1.5
Pixel Size Y: 1.5
Band Count: 1
Pixel Type: U8
RasterFunction Infos: {"rasterFunctionInfos": [{
"name": "None",
"description": "",
"help": ""
}]}
Mensuration Capabilities: Basic
Has Histograms: true
Has Colormap: false
Has Multi Dimensions : false
Rendering Rule:
Min Scale: 0
Max Scale: 0
Copyright Text:
Service Data Type: esriImageServiceDataTypeThematic
Min Values: 0
Max Values: 2
Mean Values: 0.48303402582775
Standard Deviation Values: 0.54358134368107
Object ID Field:
Fields:
None
Default Mosaic Method: Center
Allowed Mosaic Methods:
SortField:
SortValue: null
Mosaic Operator: First
Default Compression Quality: 75
Default Resampling Method: Bilinear
Max Record Count: null
Max Image Height: 4100
Max Image Width: 15000
Max Download Image Count: null
Max Mosaic Image Count: null
Allow Raster Function: true
Allow Copy: true
Allow Analysis: true
Allow Compute TiePoints: false
Supports Statistics: false
Supports Advanced Queries: false
Use StandardizedQueries: true
Raster Type Infos:
Name: Raster Dataset
Description: Supports all ArcGIS Raster Datasets
Help:
Has Raster Attribute Table: true
Edit Fields Info: null
Ownership Based AccessControl For Rasters: null
Child Resources:
Info
Raster Attribute Table
Histograms
Statistics
Key Properties
Legend
Raster Function Infos
Supported Operations:
Export Image
Identify
Measure
Compute Histograms
Compute Statistics Histograms
Get Samples
Compute Class Statistics
Query Boundary
Compute Pixel Location
Compute Angles
Validate
Project