View In:
ArcGIS JavaScript
ArcGIS Online Map Viewer
ArcGIS Earth
ArcMap
View Footprint In:
ArcGIS Online Map Viewer
Service Description: This update was created in 2010 by UNB. Paul Arp and Jae Ogilvie of the University of New Brunswick are the main contact for detail information. The data represents the wet areas map for New Brunswick at the end of summer. Raster data has been reclassified from original floating point raster data into 4 distinct integer classes representing predicted depth of saturated soil in metres (m): 1: 0-0.1 metres (more wet) 2: 0.1-0.25 metres3: 0.25-0.5 metres4: 0.5-1 metres (less wet)NULL: greater than 1 metre
Name: DAAF_WebMap/WATERTABLE
Description: This update was created in 2010 by UNB. Paul Arp and Jae Ogilvie of the University of New Brunswick are the main contact for detail information. The data represents the wet areas map for New Brunswick at the end of summer. Raster data has been reclassified from original floating point raster data into 4 distinct integer classes representing predicted depth of saturated soil in metres (m): 1: 0-0.1 metres (more wet) 2: 0.1-0.25 metres3: 0.25-0.5 metres4: 0.5-1 metres (less wet)NULL: greater than 1 metre
Single Fused Map Cache: false
Extent:
XMin: 2306896.789999999
YMin: 7277795.579999998
XMax: 2711276.789999999
YMax: 7674855.579999998
Spatial Reference: 2036
(2953)
LatestVCSWkid(0)
Initial Extent:
XMin: 2306896.789999999
YMin: 7277795.579999998
XMax: 2711276.789999999
YMax: 7674855.579999998
Spatial Reference: 2036
(2953)
LatestVCSWkid(0)
Full Extent:
XMin: 2306896.789999999
YMin: 7277795.579999998
XMax: 2711276.789999999
YMax: 7674855.579999998
Spatial Reference: 2036
(2953)
LatestVCSWkid(0)
Pixel Size X: 10.0
Pixel Size Y: 10.0
Band Count: 1
Pixel Type: U8
RasterFunction Infos: {"rasterFunctionInfos": [{
"name": "None",
"description": "",
"help": ""
}]}
Mensuration Capabilities: Basic
Has Histograms: true
Has Colormap: false
Has Multi Dimensions : false
Rendering Rule:
Min Scale: 0
Max Scale: 0
Copyright Text:
Service Data Type: esriImageServiceDataTypeGeneric
Min Values: 1
Max Values: 4
Mean Values: 2.4039667401847
Standard Deviation Values: 1.249070793747
Object ID Field:
Fields:
None
Default Mosaic Method: Center
Allowed Mosaic Methods:
SortField:
SortValue: null
Mosaic Operator: First
Default Compression Quality: 75
Default Resampling Method: Bilinear
Max Record Count: null
Max Image Height: 4100
Max Image Width: 15000
Max Download Image Count: null
Max Mosaic Image Count: null
Allow Raster Function: true
Allow Copy: true
Allow Analysis: true
Allow Compute TiePoints: false
Supports Statistics: false
Supports Advanced Queries: false
Use StandardizedQueries: true
Raster Type Infos:
Name: Raster Dataset
Description: Supports all ArcGIS Raster Datasets
Help:
Has Raster Attribute Table: true
Edit Fields Info: null
Ownership Based AccessControl For Rasters: null
Child Resources:
Info
Raster Attribute Table
Histograms
Statistics
Key Properties
Legend
Raster Function Infos
Supported Operations:
Export Image
Identify
Measure
Compute Histograms
Compute Statistics Histograms
Get Samples
Compute Class Statistics
Query Boundary
Compute Pixel Location
Compute Angles
Validate
Project