View In:
ArcGIS JavaScript
ArcGIS Online Map Viewer
ArcGIS Earth
ArcMap
View Footprint In:
ArcGIS Online Map Viewer
Service Description: A 50 m grid of the reduction-to-the-pole (RTP) magnetic intensity for New Brunswick.This dataset represents the reduction-to-the-pole (RTP) magnetic intensity for New Brunswick at 50 m resolution, created from high-resolution airborne magnetic surveys flown at 200–300 m line spacing. RTP processing shifts magnetic anomalies so they appear directly over their causative sources, simplifying geological interpretation by reducing the effects of magnetization direction. The dataset is provided in NB Stereographic double (NAD83).The RTP grid was generated from NRCan airborne profile data that were microlevelled and gridded at 50 m, converted to ER Mapper format, reprojected to NB Stereographic double, and processed to apply reduction-to-the-pole to the total magnetic intensity.Data created Sept 2025.
Name: Geophysics_Aeromagnetic_Compiled/NB_Highres_RTP
Description: A 50 m grid of the reduction-to-the-pole (RTP) magnetic intensity for New Brunswick.This dataset represents the reduction-to-the-pole (RTP) magnetic intensity for New Brunswick at 50 m resolution, created from high-resolution airborne magnetic surveys flown at 200–300 m line spacing. RTP processing shifts magnetic anomalies so they appear directly over their causative sources, simplifying geological interpretation by reducing the effects of magnetization direction. The dataset is provided in NB Stereographic double (NAD83).The RTP grid was generated from NRCan airborne profile data that were microlevelled and gridded at 50 m, converted to ER Mapper format, reprojected to NB Stereographic double, and processed to apply reduction-to-the-pole to the total magnetic intensity.Data created Sept 2025.
Single Fused Map Cache: false
Extent:
XMin: 2397725.0
YMin: 7325225.0
XMax: 2700775.0
YMax: 7673125.0
Spatial Reference: 2036
(2953)
LatestVCSWkid(0)
Initial Extent:
XMin: 2397725.0
YMin: 7325225.0
XMax: 2700775.0
YMax: 7673125.0
Spatial Reference: 2036
(2953)
LatestVCSWkid(0)
Full Extent:
XMin: 2397725.0
YMin: 7325225.0
XMax: 2700775.0
YMax: 7673125.0
Spatial Reference: 2036
(2953)
LatestVCSWkid(0)
Pixel Size X: 50.0
Pixel Size Y: 50.0
Band Count: 1
Pixel Type: F32
RasterFunction Infos: {"rasterFunctionInfos": [{
"name": "None",
"description": "",
"help": ""
}]}
Mensuration Capabilities: Basic
Has Histograms: true
Has Colormap: false
Has Multi Dimensions : false
Rendering Rule:
Min Scale: 0
Max Scale: 0
Copyright Text: NB Dept of Natural Resources, GSB Section
Service Data Type: esriImageServiceDataTypeGeneric
Min Values: -7920.9018554688
Max Values: 7024.2861328125
Mean Values: 13.814203759344
Standard Deviation Values: 143.75811619072
Object ID Field:
Fields:
None
Default Mosaic Method: Center
Allowed Mosaic Methods:
SortField:
SortValue: null
Mosaic Operator: First
Default Compression Quality: 75
Default Resampling Method: Bilinear
Max Record Count: null
Max Image Height: 4100
Max Image Width: 15000
Max Download Image Count: null
Max Mosaic Image Count: null
Allow Raster Function: true
Allow Copy: true
Allow Analysis: true
Allow Compute TiePoints: false
Supports Statistics: false
Supports Advanced Queries: false
Use StandardizedQueries: true
Raster Type Infos:
Name: Raster Dataset
Description: Supports all ArcGIS Raster Datasets
Help:
Has Raster Attribute Table: false
Edit Fields Info: null
Ownership Based AccessControl For Rasters: null
Child Resources:
Info
Histograms
Statistics
Key Properties
Legend
Raster Function Infos
Supported Operations:
Export Image
Identify
Measure
Compute Histograms
Compute Statistics Histograms
Get Samples
Compute Class Statistics
Query Boundary
Compute Pixel Location
Compute Angles
Validate
Project