View In:
ArcGIS JavaScript
ArcGIS Online Map Viewer
ArcGIS Earth
ArcMap
View Footprint In:
ArcGIS Online Map Viewer
Service Description: A grid of the Residual Magnetic Intensity (RMI) for the Bathurst Megatem Aerodat survey, reprocessed and projected to NB Stereographic Double, NAD83.This dataset represents the Residual Magnetic Intensity (RMI) derived from the Bathurst Megatem Aerodat airborne magnetic survey. RMI isolates shorter-wavelength magnetic responses by removing the regional magnetic field from the microlevelled TMI. This enhances local geological and structural features such as contacts, faults, and magnetite-rich zones. All grids have been reprojected from NAD83 UTM Zone 19N to NB Stereographic Double, NAD83.Residual Magnetic Intensity (RMI) represents the shorter-wavelength component of the magnetic field obtained by removing the broad regional magnetic trend from the microlevelled total magnetic intensity (TMI). By subtracting this long-wavelength background, RMI isolates local magnetic responses associated with geological contacts, faults, dykes, alteration zones, and magnetite-bearing bodies, making it a powerful tool for detailed structural and lithological interpretation.Data created Sept 2025.
Name: Geophysics_Aeromagnetic_Individual_Surveys/Bathurst_Aerodat_Megatem_RMI
Description: A grid of the Residual Magnetic Intensity (RMI) for the Bathurst Megatem Aerodat survey, reprocessed and projected to NB Stereographic Double, NAD83.This dataset represents the Residual Magnetic Intensity (RMI) derived from the Bathurst Megatem Aerodat airborne magnetic survey. RMI isolates shorter-wavelength magnetic responses by removing the regional magnetic field from the microlevelled TMI. This enhances local geological and structural features such as contacts, faults, and magnetite-rich zones. All grids have been reprojected from NAD83 UTM Zone 19N to NB Stereographic Double, NAD83.Residual Magnetic Intensity (RMI) represents the shorter-wavelength component of the magnetic field obtained by removing the broad regional magnetic trend from the microlevelled total magnetic intensity (TMI). By subtracting this long-wavelength background, RMI isolates local magnetic responses associated with geological contacts, faults, dykes, alteration zones, and magnetite-bearing bodies, making it a powerful tool for detailed structural and lithological interpretation.Data created Sept 2025.
Single Fused Map Cache: false
Extent:
XMin: 2481060.0
YMin: 7551180.0
XMax: 2576340.0
YMax: 7635540.0
Spatial Reference: 2036
(2953)
LatestVCSWkid(0)
Initial Extent:
XMin: 2481060.0
YMin: 7551180.0
XMax: 2576340.0
YMax: 7635540.0
Spatial Reference: 2036
(2953)
LatestVCSWkid(0)
Full Extent:
XMin: 2481060.0
YMin: 7551180.0
XMax: 2576340.0
YMax: 7635540.0
Spatial Reference: 2036
(2953)
LatestVCSWkid(0)
Pixel Size X: 40.0
Pixel Size Y: 40.0
Band Count: 1
Pixel Type: F32
RasterFunction Infos: {"rasterFunctionInfos": [{
"name": "None",
"description": "",
"help": ""
}]}
Mensuration Capabilities: Basic
Has Histograms: true
Has Colormap: false
Has Multi Dimensions : false
Rendering Rule:
Min Scale: 0
Max Scale: 0
Copyright Text: NB Dept of Natural Resources, GSB Section
Service Data Type: esriImageServiceDataTypeGeneric
Min Values: -1303.4515380859
Max Values: 7462.8911132812
Mean Values: 0.22514342828168
Standard Deviation Values: 128.30890980761
Object ID Field:
Fields:
None
Default Mosaic Method: Center
Allowed Mosaic Methods:
SortField:
SortValue: null
Mosaic Operator: First
Default Compression Quality: 75
Default Resampling Method: Bilinear
Max Record Count: null
Max Image Height: 4100
Max Image Width: 15000
Max Download Image Count: null
Max Mosaic Image Count: null
Allow Raster Function: true
Allow Copy: true
Allow Analysis: true
Allow Compute TiePoints: false
Supports Statistics: false
Supports Advanced Queries: false
Use StandardizedQueries: true
Raster Type Infos:
Name: Raster Dataset
Description: Supports all ArcGIS Raster Datasets
Help:
Has Raster Attribute Table: false
Edit Fields Info: null
Ownership Based AccessControl For Rasters: null
Child Resources:
Info
Histograms
Statistics
Key Properties
Legend
Raster Function Infos
Supported Operations:
Export Image
Identify
Measure
Compute Histograms
Compute Statistics Histograms
Get Samples
Compute Class Statistics
Query Boundary
Compute Pixel Location
Compute Angles
Validate
Project