View In:
ArcGIS JavaScript
ArcGIS Online Map Viewer
ArcGIS Earth
ArcMap
View Footprint In:
ArcGIS Online Map Viewer
Service Description: A grid of total magnetic intensity (TMI) for the Florenceville airborne survey, reprocessed and projected to NB Stereographic Double, NAD83.This dataset represents the total magnetic intensity (TMI) measured during the Florenceville Mag-EM 1988 airborne survey. TMI provides the magnitude of the Earth's magnetic field at each location and is essential for identifying magnetic anomalies associated with lithological variations, faults, and other geological features. The data have been reprocessed, gridded, and reprojected to the NB Stereographic Double coordinate system, making them suitable for regional and detailed geological interpretation.The TMI grid was created from the Florenceville survey by microlevelling the original magnetic channel to reduce line-to-line inconsistencies and noise, converting the microlevelled data into a gridded format, and then reprojecting the grid from the original NAD83 UTM19N to NB Stereographic Double, NAD83.Data created Sept. 1, 2025
Name: Geophysics_Aeromagnetic_Individual_Surveys/Florenceville_TMI
Description: A grid of total magnetic intensity (TMI) for the Florenceville airborne survey, reprocessed and projected to NB Stereographic Double, NAD83.This dataset represents the total magnetic intensity (TMI) measured during the Florenceville Mag-EM 1988 airborne survey. TMI provides the magnitude of the Earth's magnetic field at each location and is essential for identifying magnetic anomalies associated with lithological variations, faults, and other geological features. The data have been reprocessed, gridded, and reprojected to the NB Stereographic Double coordinate system, making them suitable for regional and detailed geological interpretation.The TMI grid was created from the Florenceville survey by microlevelling the original magnetic channel to reduce line-to-line inconsistencies and noise, converting the microlevelled data into a gridded format, and then reprojecting the grid from the original NAD83 UTM19N to NB Stereographic Double, NAD83.Data created Sept. 1, 2025
Single Fused Map Cache: false
Extent:
XMin: 2408430.0
YMin: 7456350.0
XMax: 2465850.0
YMax: 7502670.0
Spatial Reference: 2036
(2953)
LatestVCSWkid(0)
Initial Extent:
XMin: 2408430.0
YMin: 7456350.0
XMax: 2465850.0
YMax: 7502670.0
Spatial Reference: 2036
(2953)
LatestVCSWkid(0)
Full Extent:
XMin: 2408430.0
YMin: 7456350.0
XMax: 2465850.0
YMax: 7502670.0
Spatial Reference: 2036
(2953)
LatestVCSWkid(0)
Pixel Size X: 60.0
Pixel Size Y: 60.0
Band Count: 1
Pixel Type: F32
RasterFunction Infos: {"rasterFunctionInfos": [{
"name": "None",
"description": "",
"help": ""
}]}
Mensuration Capabilities: Basic
Has Histograms: true
Has Colormap: false
Has Multi Dimensions : false
Rendering Rule:
Min Scale: 0
Max Scale: 0
Copyright Text: NB Dept of Natural Resources, GSB Section
Service Data Type: esriImageServiceDataTypeGeneric
Min Values: 55529.84765625
Max Values: 57062.8359375
Mean Values: 55810.369896661
Standard Deviation Values: 151.22152461497
Object ID Field:
Fields:
None
Default Mosaic Method: Center
Allowed Mosaic Methods:
SortField:
SortValue: null
Mosaic Operator: First
Default Compression Quality: 75
Default Resampling Method: Bilinear
Max Record Count: null
Max Image Height: 4100
Max Image Width: 15000
Max Download Image Count: null
Max Mosaic Image Count: null
Allow Raster Function: true
Allow Copy: true
Allow Analysis: true
Allow Compute TiePoints: false
Supports Statistics: false
Supports Advanced Queries: false
Use StandardizedQueries: true
Raster Type Infos:
Name: Raster Dataset
Description: Supports all ArcGIS Raster Datasets
Help:
Has Raster Attribute Table: false
Edit Fields Info: null
Ownership Based AccessControl For Rasters: null
Child Resources:
Info
Histograms
Statistics
Key Properties
Legend
Raster Function Infos
Supported Operations:
Export Image
Identify
Measure
Compute Histograms
Compute Statistics Histograms
Get Samples
Compute Class Statistics
Query Boundary
Compute Pixel Location
Compute Angles
Validate
Project