View In:
ArcGIS JavaScript
ArcGIS Online Map Viewer
ArcGIS Earth
ArcMap
View Footprint In:
ArcGIS Online Map Viewer
Service Description: A grid of microlevelled total magnetic intensity (TMI) for the Kedgwick 1999 survey.This dataset represents the microlevelled total magnetic intensity (TMI) for the Kedgwick airborne magnetic survey in New Brunswick. Microlevelling reduces line-to-line inconsistencies and noise in the original survey data, providing a cleaner and more accurate representation of magnetic variations for geological interpretation. The dataset is provided in NB Stereographic Double, NAD83.The Mag_Miclev grid was created by applying microlevelling to the original TMI data from the Kedgwick 1999 survey and converting it to a grid. The final grid is provided in NB Stereographic Double, NAD83.Data created Sept 2025.
Name: Geophysics_Aeromagnetic_Individual_Surveys/Kedgwick_TMI
Description: A grid of microlevelled total magnetic intensity (TMI) for the Kedgwick 1999 survey.This dataset represents the microlevelled total magnetic intensity (TMI) for the Kedgwick airborne magnetic survey in New Brunswick. Microlevelling reduces line-to-line inconsistencies and noise in the original survey data, providing a cleaner and more accurate representation of magnetic variations for geological interpretation. The dataset is provided in NB Stereographic Double, NAD83.The Mag_Miclev grid was created by applying microlevelling to the original TMI data from the Kedgwick 1999 survey and converting it to a grid. The final grid is provided in NB Stereographic Double, NAD83.Data created Sept 2025.
Single Fused Map Cache: false
Extent:
XMin: 2403260.0
YMin: 7608660.0
XMax: 2465180.0
YMax: 7669380.0
Spatial Reference: 2036
(2953)
LatestVCSWkid(0)
Initial Extent:
XMin: 2403260.0
YMin: 7608660.0
XMax: 2465180.0
YMax: 7669380.0
Spatial Reference: 2036
(2953)
LatestVCSWkid(0)
Full Extent:
XMin: 2403260.0
YMin: 7608660.0
XMax: 2465180.0
YMax: 7669380.0
Spatial Reference: 2036
(2953)
LatestVCSWkid(0)
Pixel Size X: 40.0
Pixel Size Y: 40.0
Band Count: 1
Pixel Type: F32
RasterFunction Infos: {"rasterFunctionInfos": [{
"name": "None",
"description": "",
"help": ""
}]}
Mensuration Capabilities: Basic
Has Histograms: true
Has Colormap: false
Has Multi Dimensions : false
Rendering Rule:
Min Scale: 0
Max Scale: 0
Copyright Text: NB Dept of Natural Resources, GSB Section
Service Data Type: esriImageServiceDataTypeGeneric
Min Values: 55148.8984375
Max Values: 55669.8203125
Mean Values: 55286.568564061
Standard Deviation Values: 51.842879358601
Object ID Field:
Fields:
None
Default Mosaic Method: Center
Allowed Mosaic Methods:
SortField:
SortValue: null
Mosaic Operator: First
Default Compression Quality: 75
Default Resampling Method: Bilinear
Max Record Count: null
Max Image Height: 4100
Max Image Width: 15000
Max Download Image Count: null
Max Mosaic Image Count: null
Allow Raster Function: true
Allow Copy: true
Allow Analysis: true
Allow Compute TiePoints: false
Supports Statistics: false
Supports Advanced Queries: false
Use StandardizedQueries: true
Raster Type Infos:
Name: Raster Dataset
Description: Supports all ArcGIS Raster Datasets
Help:
Has Raster Attribute Table: false
Edit Fields Info: null
Ownership Based AccessControl For Rasters: null
Child Resources:
Info
Histograms
Statistics
Key Properties
Legend
Raster Function Infos
Supported Operations:
Export Image
Identify
Measure
Compute Histograms
Compute Statistics Histograms
Get Samples
Compute Class Statistics
Query Boundary
Compute Pixel Location
Compute Angles
Validate
Project