View In:
ArcGIS JavaScript
ArcGIS Online Map Viewer
ArcGIS Earth
ArcMap
View Footprint In:
ArcGIS Online Map Viewer
Service Description: A grid of total magnetic intensity (TMI) from the Magaguadavic Lake 1991 airborne magnetic survey, reprocessed and projected to NB Stereographic Double, NAD83.This dataset contains the total magnetic intensity (TMI) measured during the Magaguadavic Lake Mag-EM 1991 airborne survey. TMI reflects variations in the Earth’s magnetic field caused by changes in bedrock composition, structure, and magnetite content, making it a fundamental dataset for geological mapping and mineral exploration. As part of the 2025 reprocessing workflow, the magnetic data were microlevelled to remove acquisition artifacts and improve continuity between flight lines. The final TMI grid has been reprojected to the NB Stereographic Double coordinate system to ensure compatibility with the provincial high-resolution compilation.The dataset was produced by microlevelling the original TMI channel, converting the cleaned magnetic data into a continuous grid, and reprojecting the grid from its original NAD83 UTM Zone 19N coordinate system to NB Stereographic Double, NAD83.Data created Sept 2025.
Name: Geophysics_Aeromagnetic_Individual_Surveys/Magaguadavic_TMI
Description: A grid of total magnetic intensity (TMI) from the Magaguadavic Lake 1991 airborne magnetic survey, reprocessed and projected to NB Stereographic Double, NAD83.This dataset contains the total magnetic intensity (TMI) measured during the Magaguadavic Lake Mag-EM 1991 airborne survey. TMI reflects variations in the Earth’s magnetic field caused by changes in bedrock composition, structure, and magnetite content, making it a fundamental dataset for geological mapping and mineral exploration. As part of the 2025 reprocessing workflow, the magnetic data were microlevelled to remove acquisition artifacts and improve continuity between flight lines. The final TMI grid has been reprojected to the NB Stereographic Double coordinate system to ensure compatibility with the provincial high-resolution compilation.The dataset was produced by microlevelling the original TMI channel, converting the cleaned magnetic data into a continuous grid, and reprojecting the grid from its original NAD83 UTM Zone 19N coordinate system to NB Stereographic Double, NAD83.Data created Sept 2025.
Single Fused Map Cache: false
Extent:
XMin: 2418210.0
YMin: 7385850.0
XMax: 2483910.0
YMax: 7447770.0
Spatial Reference: 2036
(2953)
LatestVCSWkid(0)
Initial Extent:
XMin: 2418210.0
YMin: 7385850.0
XMax: 2483910.0
YMax: 7447770.0
Spatial Reference: 2036
(2953)
LatestVCSWkid(0)
Full Extent:
XMin: 2418210.0
YMin: 7385850.0
XMax: 2483910.0
YMax: 7447770.0
Spatial Reference: 2036
(2953)
LatestVCSWkid(0)
Pixel Size X: 60.0
Pixel Size Y: 60.0
Band Count: 1
Pixel Type: F32
RasterFunction Infos: {"rasterFunctionInfos": [{
"name": "None",
"description": "",
"help": ""
}]}
Mensuration Capabilities: Basic
Has Histograms: true
Has Colormap: false
Has Multi Dimensions : false
Rendering Rule:
Min Scale: 0
Max Scale: 0
Copyright Text: NB Dept of Natural Resources, GSB Section
Service Data Type: esriImageServiceDataTypeGeneric
Min Values: 55140.4921875
Max Values: 55849.484375
Mean Values: 55334.318121385
Standard Deviation Values: 81.047688694889
Object ID Field:
Fields:
None
Default Mosaic Method: Center
Allowed Mosaic Methods:
SortField:
SortValue: null
Mosaic Operator: First
Default Compression Quality: 75
Default Resampling Method: Bilinear
Max Record Count: null
Max Image Height: 4100
Max Image Width: 15000
Max Download Image Count: null
Max Mosaic Image Count: null
Allow Raster Function: true
Allow Copy: true
Allow Analysis: true
Allow Compute TiePoints: false
Supports Statistics: false
Supports Advanced Queries: false
Use StandardizedQueries: true
Raster Type Infos:
Name: Raster Dataset
Description: Supports all ArcGIS Raster Datasets
Help:
Has Raster Attribute Table: false
Edit Fields Info: null
Ownership Based AccessControl For Rasters: null
Child Resources:
Info
Histograms
Statistics
Key Properties
Legend
Raster Function Infos
Supported Operations:
Export Image
Identify
Measure
Compute Histograms
Compute Statistics Histograms
Get Samples
Compute Class Statistics
Query Boundary
Compute Pixel Location
Compute Angles
Validate
Project