View In:
ArcGIS JavaScript
ArcGIS Online Map Viewer
ArcGIS Earth
ArcMap
View Footprint In:
ArcGIS Online Map Viewer
Service Description: A grid of total magnetic intensity (TMI) from the Marrtown 2004 airborne magnetic survey, reprocessed and projected to NB Stereographic Double, NAD83.This dataset represents the total magnetic intensity (TMI) acquired during the Marrtown 2004 airborne magnetic survey. TMI captures variations in the Earth’s magnetic field related to changes in lithology, structure, and magnetic mineral content, and is a key dataset for interpreting local and regional geology. As part of the 2025 reprocessing workflow, the original magnetic data were microlevelled to reduce survey noise and line-to-line artifacts. The cleaned dataset was then gridded and reprojected to NB Stereographic Double to support integration with New Brunswick’s high-resolution magnetic compilation.The TMI grid was generated by microlevelling the original TMI channel, converting the corrected magnetic data into a grid, and reprojecting it from the original NAD83 UTM Zone 19N coordinate system into NB Stereographic Double, NAD83.Data created Sept 2025.
Name: Geophysics_Aeromagnetic_Individual_Surveys/Marrtown_TMI
Description: A grid of total magnetic intensity (TMI) from the Marrtown 2004 airborne magnetic survey, reprocessed and projected to NB Stereographic Double, NAD83.This dataset represents the total magnetic intensity (TMI) acquired during the Marrtown 2004 airborne magnetic survey. TMI captures variations in the Earth’s magnetic field related to changes in lithology, structure, and magnetic mineral content, and is a key dataset for interpreting local and regional geology. As part of the 2025 reprocessing workflow, the original magnetic data were microlevelled to reduce survey noise and line-to-line artifacts. The cleaned dataset was then gridded and reprojected to NB Stereographic Double to support integration with New Brunswick’s high-resolution magnetic compilation.The TMI grid was generated by microlevelling the original TMI channel, converting the corrected magnetic data into a grid, and reprojecting it from the original NAD83 UTM Zone 19N coordinate system into NB Stereographic Double, NAD83.Data created Sept 2025.
Single Fused Map Cache: false
Extent:
XMin: 2532870.0
YMin: 7357590.0
XMax: 2609010.0
YMax: 7478070.0
Spatial Reference: 2036
(2953)
LatestVCSWkid(0)
Initial Extent:
XMin: 2532870.0
YMin: 7357590.0
XMax: 2609010.0
YMax: 7478070.0
Spatial Reference: 2036
(2953)
LatestVCSWkid(0)
Full Extent:
XMin: 2532870.0
YMin: 7357590.0
XMax: 2609010.0
YMax: 7478070.0
Spatial Reference: 2036
(2953)
LatestVCSWkid(0)
Pixel Size X: 60.0
Pixel Size Y: 60.0
Band Count: 1
Pixel Type: F32
RasterFunction Infos: {"rasterFunctionInfos": [{
"name": "None",
"description": "",
"help": ""
}]}
Mensuration Capabilities: Basic
Has Histograms: true
Has Colormap: false
Has Multi Dimensions : false
Rendering Rule:
Min Scale: 0
Max Scale: 0
Copyright Text: NB Dept of Natural Resources, GSB Section
Service Data Type: esriImageServiceDataTypeGeneric
Min Values: 53507.2578125
Max Values: 56434.5703125
Mean Values: 53927.130747015
Standard Deviation Values: 131.71564124174
Object ID Field:
Fields:
None
Default Mosaic Method: Center
Allowed Mosaic Methods:
SortField:
SortValue: null
Mosaic Operator: First
Default Compression Quality: 75
Default Resampling Method: Bilinear
Max Record Count: null
Max Image Height: 4100
Max Image Width: 15000
Max Download Image Count: null
Max Mosaic Image Count: null
Allow Raster Function: true
Allow Copy: true
Allow Analysis: true
Allow Compute TiePoints: false
Supports Statistics: false
Supports Advanced Queries: false
Use StandardizedQueries: true
Raster Type Infos:
Name: Raster Dataset
Description: Supports all ArcGIS Raster Datasets
Help:
Has Raster Attribute Table: false
Edit Fields Info: null
Ownership Based AccessControl For Rasters: null
Child Resources:
Info
Histograms
Statistics
Key Properties
Legend
Raster Function Infos
Supported Operations:
Export Image
Identify
Measure
Compute Histograms
Compute Statistics Histograms
Get Samples
Compute Class Statistics
Query Boundary
Compute Pixel Location
Compute Angles
Validate
Project