View In:
ArcGIS JavaScript
ArcGIS Online Map Viewer
ArcGIS Earth
ArcMap
View Footprint In:
ArcGIS Online Map Viewer
Service Description: A grid of total magnetic intensity (TMI) from the Bathurst 1988 airborne magnetic survey, reprocessed and projected to NB Stereographic Double, NAD83.This dataset represents the total magnetic intensity (TMI) measured during the 1988 Bathurst airborne magnetic survey. TMI provides a direct measure of the Earth's magnetic field strength, reflecting variations in bedrock magnetization associated with lithological changes, faults, alteration zones, and mineralized systems within the Bathurst Mining Camp. As part of the 2025 reprocessing effort, the original magnetic channel was microlevelled to remove line-to-line artefacts and noise, improving the consistency and interpretability of the dataset. The resulting gridded TMI data were then reprojected to the NB Stereographic Double coordinate system for seamless integration into the province-wide high-resolution compilation.The TMI grid was produced by microlevelling the original magnetic data (Mag_miclev), gridding the corrected TMI, and reprojecting it from the original NAD83 UTM Zone 19N coordinate system into NB Stereographic Double, NAD83.Data created Sept 2025.
Name: Geophysics_Aeromagnetic_Individual_Surveys/NBBathurst_TMI
Description: A grid of total magnetic intensity (TMI) from the Bathurst 1988 airborne magnetic survey, reprocessed and projected to NB Stereographic Double, NAD83.This dataset represents the total magnetic intensity (TMI) measured during the 1988 Bathurst airborne magnetic survey. TMI provides a direct measure of the Earth's magnetic field strength, reflecting variations in bedrock magnetization associated with lithological changes, faults, alteration zones, and mineralized systems within the Bathurst Mining Camp. As part of the 2025 reprocessing effort, the original magnetic channel was microlevelled to remove line-to-line artefacts and noise, improving the consistency and interpretability of the dataset. The resulting gridded TMI data were then reprojected to the NB Stereographic Double coordinate system for seamless integration into the province-wide high-resolution compilation.The TMI grid was produced by microlevelling the original magnetic data (Mag_miclev), gridding the corrected TMI, and reprojecting it from the original NAD83 UTM Zone 19N coordinate system into NB Stereographic Double, NAD83.Data created Sept 2025.
Single Fused Map Cache: false
Extent:
XMin: 2458410.0
YMin: 7548390.0
XMax: 2561430.0
YMax: 7644990.0
Spatial Reference: 2036
(2953)
LatestVCSWkid(0)
Initial Extent:
XMin: 2458410.0
YMin: 7548390.0
XMax: 2561430.0
YMax: 7644990.0
Spatial Reference: 2036
(2953)
LatestVCSWkid(0)
Full Extent:
XMin: 2458410.0
YMin: 7548390.0
XMax: 2561430.0
YMax: 7644990.0
Spatial Reference: 2036
(2953)
LatestVCSWkid(0)
Pixel Size X: 60.0
Pixel Size Y: 60.0
Band Count: 1
Pixel Type: F32
RasterFunction Infos: {"rasterFunctionInfos": [{
"name": "None",
"description": "",
"help": ""
}]}
Mensuration Capabilities: Basic
Has Histograms: true
Has Colormap: false
Has Multi Dimensions : false
Rendering Rule:
Min Scale: 0
Max Scale: 0
Copyright Text: NB Dept of Natural Resources, GSB Section
Service Data Type: esriImageServiceDataTypeGeneric
Min Values: 47334.55859375
Max Values: 58763.35546875
Mean Values: 55798.773667104
Standard Deviation Values: 180.28759752929
Object ID Field:
Fields:
None
Default Mosaic Method: Center
Allowed Mosaic Methods:
SortField:
SortValue: null
Mosaic Operator: First
Default Compression Quality: 75
Default Resampling Method: Bilinear
Max Record Count: null
Max Image Height: 4100
Max Image Width: 15000
Max Download Image Count: null
Max Mosaic Image Count: null
Allow Raster Function: true
Allow Copy: true
Allow Analysis: true
Allow Compute TiePoints: false
Supports Statistics: false
Supports Advanced Queries: false
Use StandardizedQueries: true
Raster Type Infos:
Name: Raster Dataset
Description: Supports all ArcGIS Raster Datasets
Help:
Has Raster Attribute Table: false
Edit Fields Info: null
Ownership Based AccessControl For Rasters: null
Child Resources:
Info
Histograms
Statistics
Key Properties
Legend
Raster Function Infos
Supported Operations:
Export Image
Identify
Measure
Compute Histograms
Compute Statistics Histograms
Get Samples
Compute Class Statistics
Query Boundary
Compute Pixel Location
Compute Angles
Validate
Project