View In:
ArcGIS JavaScript
ArcGIS Online Map Viewer
ArcGIS Earth
ArcMap
View Footprint In:
ArcGIS Online Map Viewer
Service Description: A grid of total magnetic intensity (TMI) from the Restigouche 1997 airborne magnetic survey, reprocessed and projected to NB Stereographic Double, NAD83.This dataset represents the total magnetic intensity (TMI) acquired during the 1997 Restigouche Mag-EM survey. TMI captures variations in the Earth’s magnetic field linked to differences in bedrock magnetization, helping delineate lithological contacts, faults, and areas of potential mineralization. As part of the 2025 reprocessing workflow, the original magnetic channel was microlevelled to correct line-to-line mismatches, noise, and levelling artefacts, resulting in a cleaner and more geologically coherent dataset. The final TMI grid was then reprojected into the NB Stereographic Double coordinate system for seamless integration with the provincial high-resolution compilation.The TMI grid was generated by microlevelling the original magnetic channel, converting the corrected data into a continuous grid, and reprojecting it from NAD83 UTM Zone 19N to NB Stereographic Double, NAD83.Data created Sept 2025.
Name: Geophysics_Aeromagnetic_Individual_Surveys/Restigouche_TMI
Description: A grid of total magnetic intensity (TMI) from the Restigouche 1997 airborne magnetic survey, reprocessed and projected to NB Stereographic Double, NAD83.This dataset represents the total magnetic intensity (TMI) acquired during the 1997 Restigouche Mag-EM survey. TMI captures variations in the Earth’s magnetic field linked to differences in bedrock magnetization, helping delineate lithological contacts, faults, and areas of potential mineralization. As part of the 2025 reprocessing workflow, the original magnetic channel was microlevelled to correct line-to-line mismatches, noise, and levelling artefacts, resulting in a cleaner and more geologically coherent dataset. The final TMI grid was then reprojected into the NB Stereographic Double coordinate system for seamless integration with the provincial high-resolution compilation.The TMI grid was generated by microlevelling the original magnetic channel, converting the corrected data into a continuous grid, and reprojecting it from NAD83 UTM Zone 19N to NB Stereographic Double, NAD83.Data created Sept 2025.
Single Fused Map Cache: false
Extent:
XMin: 2441860.0
YMin: 7607540.0
XMax: 2515420.0
YMax: 7670340.0
Spatial Reference: 2036
(2953)
LatestVCSWkid(0)
Initial Extent:
XMin: 2441860.0
YMin: 7607540.0
XMax: 2515420.0
YMax: 7670340.0
Spatial Reference: 2036
(2953)
LatestVCSWkid(0)
Full Extent:
XMin: 2441860.0
YMin: 7607540.0
XMax: 2515420.0
YMax: 7670340.0
Spatial Reference: 2036
(2953)
LatestVCSWkid(0)
Pixel Size X: 40.0
Pixel Size Y: 40.0
Band Count: 1
Pixel Type: F32
RasterFunction Infos: {"rasterFunctionInfos": [{
"name": "None",
"description": "",
"help": ""
}]}
Mensuration Capabilities: Basic
Has Histograms: true
Has Colormap: false
Has Multi Dimensions : false
Rendering Rule:
Min Scale: 0
Max Scale: 0
Copyright Text: NB Dept of Natural Resources, GSB Section
Service Data Type: esriImageServiceDataTypeGeneric
Min Values: 54575.3828125
Max Values: 56338.51171875
Mean Values: 55371.102565146
Standard Deviation Values: 98.59505345224
Object ID Field:
Fields:
None
Default Mosaic Method: Center
Allowed Mosaic Methods:
SortField:
SortValue: null
Mosaic Operator: First
Default Compression Quality: 75
Default Resampling Method: Bilinear
Max Record Count: null
Max Image Height: 4100
Max Image Width: 15000
Max Download Image Count: null
Max Mosaic Image Count: null
Allow Raster Function: true
Allow Copy: true
Allow Analysis: true
Allow Compute TiePoints: false
Supports Statistics: false
Supports Advanced Queries: false
Use StandardizedQueries: true
Raster Type Infos:
Name: Raster Dataset
Description: Supports all ArcGIS Raster Datasets
Help:
Has Raster Attribute Table: false
Edit Fields Info: null
Ownership Based AccessControl For Rasters: null
Child Resources:
Info
Histograms
Statistics
Key Properties
Legend
Raster Function Infos
Supported Operations:
Export Image
Identify
Measure
Compute Histograms
Compute Statistics Histograms
Get Samples
Compute Class Statistics
Query Boundary
Compute Pixel Location
Compute Angles
Validate
Project