View In:
ArcGIS JavaScript
ArcGIS Online Map Viewer
ArcGIS Earth
ArcMap
View Footprint In:
ArcGIS Online Map Viewer
Service Description: A grid of total magnetic intensity (TMI) from the 1985 Tobique River airborne magnetic survey, reprocessed and projected to NB Stereographic Double, NAD83.This dataset contains the total magnetic intensity (TMI) data acquired during the 1985 Tobique River airborne magnetic survey. TMI reflects variations in the Earth's magnetic field caused by differences in magnetic mineral content and bedrock magnetization, making it valuable for mapping lithological boundaries, structural features, and potential mineralized zones. As part of the 2025 reprocessing work, the original magnetic data were microlevelled to reduce line noise and levelling inconsistencies, improving the clarity and continuity of geological patterns. The resulting TMI grid was then reprojected to the NB Stereographic Double coordinate system to ensure consistency with New Brunswick’s high-resolution magnetic compilation.The TMI grid was produced by microlevelling the original TMI data (Mag_miclev), gridding the corrected magnetic values, and reprojecting the dataset from its original NAD83 UTM Zone 19N coordinates into NB Stereographic Double, NAD83.Data created Sept 2025.
Name: Geophysics_Aeromagnetic_Individual_Surveys/Tobique_TMI
Description: A grid of total magnetic intensity (TMI) from the 1985 Tobique River airborne magnetic survey, reprocessed and projected to NB Stereographic Double, NAD83.This dataset contains the total magnetic intensity (TMI) data acquired during the 1985 Tobique River airborne magnetic survey. TMI reflects variations in the Earth's magnetic field caused by differences in magnetic mineral content and bedrock magnetization, making it valuable for mapping lithological boundaries, structural features, and potential mineralized zones. As part of the 2025 reprocessing work, the original magnetic data were microlevelled to reduce line noise and levelling inconsistencies, improving the clarity and continuity of geological patterns. The resulting TMI grid was then reprojected to the NB Stereographic Double coordinate system to ensure consistency with New Brunswick’s high-resolution magnetic compilation.The TMI grid was produced by microlevelling the original TMI data (Mag_miclev), gridding the corrected magnetic values, and reprojecting the dataset from its original NAD83 UTM Zone 19N coordinates into NB Stereographic Double, NAD83.Data created Sept 2025.
Single Fused Map Cache: false
Extent:
XMin: 2399490.0
YMin: 7525050.0
XMax: 2487330.0
YMax: 7587150.0
Spatial Reference: 2036
(2953)
LatestVCSWkid(0)
Initial Extent:
XMin: 2399490.0
YMin: 7525050.0
XMax: 2487330.0
YMax: 7587150.0
Spatial Reference: 2036
(2953)
LatestVCSWkid(0)
Full Extent:
XMin: 2399490.0
YMin: 7525050.0
XMax: 2487330.0
YMax: 7587150.0
Spatial Reference: 2036
(2953)
LatestVCSWkid(0)
Pixel Size X: 60.0
Pixel Size Y: 60.0
Band Count: 1
Pixel Type: F32
RasterFunction Infos: {"rasterFunctionInfos": [{
"name": "None",
"description": "",
"help": ""
}]}
Mensuration Capabilities: Basic
Has Histograms: true
Has Colormap: false
Has Multi Dimensions : false
Rendering Rule:
Min Scale: 0
Max Scale: 0
Copyright Text: NB Dept of Natural Resources, GSB Section
Service Data Type: esriImageServiceDataTypeGeneric
Min Values: 55865.14453125
Max Values: 57622.67578125
Mean Values: 56276.359743655
Standard Deviation Values: 148.59668223157
Object ID Field:
Fields:
None
Default Mosaic Method: Center
Allowed Mosaic Methods:
SortField:
SortValue: null
Mosaic Operator: First
Default Compression Quality: 75
Default Resampling Method: Bilinear
Max Record Count: null
Max Image Height: 4100
Max Image Width: 15000
Max Download Image Count: null
Max Mosaic Image Count: null
Allow Raster Function: true
Allow Copy: true
Allow Analysis: true
Allow Compute TiePoints: false
Supports Statistics: false
Supports Advanced Queries: false
Use StandardizedQueries: true
Raster Type Infos:
Name: Raster Dataset
Description: Supports all ArcGIS Raster Datasets
Help:
Has Raster Attribute Table: false
Edit Fields Info: null
Ownership Based AccessControl For Rasters: null
Child Resources:
Info
Histograms
Statistics
Key Properties
Legend
Raster Function Infos
Supported Operations:
Export Image
Identify
Measure
Compute Histograms
Compute Statistics Histograms
Get Samples
Compute Class Statistics
Query Boundary
Compute Pixel Location
Compute Angles
Validate
Project