View In:
ArcGIS JavaScript
ArcGIS Online Map Viewer
ArcGIS Earth
ArcMap
View Footprint In:
ArcGIS Online Map Viewer
Service Description: The AGG (Airborne Gravity Gradiometry) and FTG (Full Tensor Gravity) compilation incorporates data from the Bathurst Bell 2002 survey (reprocessed in 2010), the Bathurst NW Falcon 2013 survey, and the SWN Falcon 2010 survey. Merged vertical gradient (Tzz) gravity grids from multiple airborne gravity surveys, processed and conformed to the GGM+ satellite gravity dataset.This dataset represents the vertical gradient (Tzz) of the conformed airborne gravity (Tz) data over New Brunswick, compiled from three individual surveys: Bathurst Bell 2002 (reprocessed 2010), Bathurst NW Falcon 2013, and SWN Falcon 2010. Each survey was processed separately for quality control and merged into a continuous grid in NAD83, NB Stereographic double. The Tz data were calculated with a density of 2.8 g/cm³, terrain corrected, and conformed to the GGM+ satellite gravity dataset, and the Tzz represents the measured vertical gradient.The data were generated by airborne gravity gradiometry (AGG) and full tensor gravity (FTG) surveys, processed individually for each survey, terrain corrected, and conformed to satellite gravity data. The resulting Tz grids were then used to calculate the vertical gradient (Tzz), which were merged into a single continuous grid.Data created Sept 2025.
Name: Geophysics_Gravity_Gradiometry_Compiled/Airborne_Compiled_Tzz
Description: The AGG (Airborne Gravity Gradiometry) and FTG (Full Tensor Gravity) compilation incorporates data from the Bathurst Bell 2002 survey (reprocessed in 2010), the Bathurst NW Falcon 2013 survey, and the SWN Falcon 2010 survey. Merged vertical gradient (Tzz) gravity grids from multiple airborne gravity surveys, processed and conformed to the GGM+ satellite gravity dataset.This dataset represents the vertical gradient (Tzz) of the conformed airborne gravity (Tz) data over New Brunswick, compiled from three individual surveys: Bathurst Bell 2002 (reprocessed 2010), Bathurst NW Falcon 2013, and SWN Falcon 2010. Each survey was processed separately for quality control and merged into a continuous grid in NAD83, NB Stereographic double. The Tz data were calculated with a density of 2.8 g/cm³, terrain corrected, and conformed to the GGM+ satellite gravity dataset, and the Tzz represents the measured vertical gradient.The data were generated by airborne gravity gradiometry (AGG) and full tensor gravity (FTG) surveys, processed individually for each survey, terrain corrected, and conformed to satellite gravity data. The resulting Tz grids were then used to calculate the vertical gradient (Tzz), which were merged into a single continuous grid.Data created Sept 2025.
Single Fused Map Cache: false
Extent:
XMin: 2431312.5
YMin: 7376837.5
XMax: 2667612.5
YMax: 7627912.5
Spatial Reference: 2036
(2953)
LatestVCSWkid(0)
Initial Extent:
XMin: 2431312.5
YMin: 7376837.5
XMax: 2667612.5
YMax: 7627912.5
Spatial Reference: 2036
(2953)
LatestVCSWkid(0)
Full Extent:
XMin: 2431312.5
YMin: 7376837.5
XMax: 2667612.5
YMax: 7627912.5
Spatial Reference: 2036
(2953)
LatestVCSWkid(0)
Pixel Size X: 25.0
Pixel Size Y: 25.0
Band Count: 1
Pixel Type: F32
RasterFunction Infos: {"rasterFunctionInfos": [{
"name": "None",
"description": "",
"help": ""
}]}
Mensuration Capabilities: Basic
Has Histograms: true
Has Colormap: false
Has Multi Dimensions : false
Rendering Rule:
Min Scale: 0
Max Scale: 0
Copyright Text: NB Dept of Natural Resources, GSB Section
Service Data Type: esriImageServiceDataTypeGeneric
Min Values: -165.72747802734
Max Values: 193.98417663574
Mean Values: -0.03610213395325
Standard Deviation Values: 15.006553963597
Object ID Field:
Fields:
None
Default Mosaic Method: Center
Allowed Mosaic Methods:
SortField:
SortValue: null
Mosaic Operator: First
Default Compression Quality: 75
Default Resampling Method: Bilinear
Max Record Count: null
Max Image Height: 4100
Max Image Width: 15000
Max Download Image Count: null
Max Mosaic Image Count: null
Allow Raster Function: true
Allow Copy: true
Allow Analysis: true
Allow Compute TiePoints: false
Supports Statistics: false
Supports Advanced Queries: false
Use StandardizedQueries: true
Raster Type Infos:
Name: Raster Dataset
Description: Supports all ArcGIS Raster Datasets
Help:
Has Raster Attribute Table: false
Edit Fields Info: null
Ownership Based AccessControl For Rasters: null
Child Resources:
Info
Histograms
Statistics
Key Properties
Legend
Raster Function Infos
Supported Operations:
Export Image
Identify
Measure
Compute Histograms
Compute Statistics Histograms
Get Samples
Compute Class Statistics
Query Boundary
Compute Pixel Location
Compute Angles
Validate
Project