View In:
ArcGIS JavaScript
ArcGIS Online Map Viewer
ArcGIS Earth
ArcMap
View Footprint In:
ArcGIS Online Map Viewer
Service Description: The dataset represents the first vertical derivative (1VD) of the complete Bouguer gravity anomaly (density 2.8 g/cc) for New Brunswick, gridded at 1 km resolution in NAD83 NB Stereographic projection.This dataset provides the first vertical derivative of the complete Bouguer anomaly calculated using a reduction density of 2.8 g/cc. The 1VD enhances short-wavelength features in the gravity field, improving the visibility of near-surface geological structures such as faults, contacts, and intrusive bodies. The grid covers the province of New Brunswick and is intended to support regional geological interpretation, structural mapping, and mineral exploration applications. The data is provided in NAD83, NB Stereographic double projection.The dataset was generated from ground gravity stations downloaded from the GSC server. The gravity data were reprocessed in September 2025 by recalculating Free Air and Bouguer anomalies using SRTM topography, applying terrain corrections (density 2.8 g/cc), and creating complete Bouguer grids. The complete Bouguer anomaly grid (CBoug_28) was then transformed using a first vertical derivative filter to produce the CBoug_28_1VD_NBStereo grid, which was subsequently gridded at 1 km cell size.Data created Sept 2025.
Name: Geophysics_Gravity_Gradiometry_Compiled/Ground_compiled_1VD
Description: The dataset represents the first vertical derivative (1VD) of the complete Bouguer gravity anomaly (density 2.8 g/cc) for New Brunswick, gridded at 1 km resolution in NAD83 NB Stereographic projection.This dataset provides the first vertical derivative of the complete Bouguer anomaly calculated using a reduction density of 2.8 g/cc. The 1VD enhances short-wavelength features in the gravity field, improving the visibility of near-surface geological structures such as faults, contacts, and intrusive bodies. The grid covers the province of New Brunswick and is intended to support regional geological interpretation, structural mapping, and mineral exploration applications. The data is provided in NAD83, NB Stereographic double projection.The dataset was generated from ground gravity stations downloaded from the GSC server. The gravity data were reprocessed in September 2025 by recalculating Free Air and Bouguer anomalies using SRTM topography, applying terrain corrections (density 2.8 g/cc), and creating complete Bouguer grids. The complete Bouguer anomaly grid (CBoug_28) was then transformed using a first vertical derivative filter to produce the CBoug_28_1VD_NBStereo grid, which was subsequently gridded at 1 km cell size.Data created Sept 2025.
Single Fused Map Cache: false
Extent:
XMin: 2235500.0
YMin: 7229500.0
XMax: 2812500.0
YMax: 7870500.0
Spatial Reference: 2036
(2953)
LatestVCSWkid(0)
Initial Extent:
XMin: 2235500.0
YMin: 7229500.0
XMax: 2812500.0
YMax: 7870500.0
Spatial Reference: 2036
(2953)
LatestVCSWkid(0)
Full Extent:
XMin: 2235500.0
YMin: 7229500.0
XMax: 2812500.0
YMax: 7870500.0
Spatial Reference: 2036
(2953)
LatestVCSWkid(0)
Pixel Size X: 1000.0
Pixel Size Y: 1000.0
Band Count: 1
Pixel Type: F32
RasterFunction Infos: {"rasterFunctionInfos": [{
"name": "None",
"description": "",
"help": ""
}]}
Mensuration Capabilities: Basic
Has Histograms: true
Has Colormap: false
Has Multi Dimensions : false
Rendering Rule:
Min Scale: 0
Max Scale: 0
Copyright Text: NB Dept of Natural Resources, GSB Section
Service Data Type: esriImageServiceDataTypeGeneric
Min Values: -0.033174499869347
Max Values: 0.030383368954062
Mean Values: -9.5558265536853E-6
Standard Deviation Values: 0.001293250273172
Object ID Field:
Fields:
None
Default Mosaic Method: Center
Allowed Mosaic Methods:
SortField:
SortValue: null
Mosaic Operator: First
Default Compression Quality: 75
Default Resampling Method: Bilinear
Max Record Count: null
Max Image Height: 4100
Max Image Width: 15000
Max Download Image Count: null
Max Mosaic Image Count: null
Allow Raster Function: true
Allow Copy: true
Allow Analysis: true
Allow Compute TiePoints: false
Supports Statistics: false
Supports Advanced Queries: false
Use StandardizedQueries: true
Raster Type Infos:
Name: Raster Dataset
Description: Supports all ArcGIS Raster Datasets
Help:
Has Raster Attribute Table: false
Edit Fields Info: null
Ownership Based AccessControl For Rasters: null
Child Resources:
Info
Histograms
Statistics
Key Properties
Legend
Raster Function Infos
Supported Operations:
Export Image
Identify
Measure
Compute Histograms
Compute Statistics Histograms
Get Samples
Compute Class Statistics
Query Boundary
Compute Pixel Location
Compute Angles
Validate
Project