View In:
ArcGIS JavaScript
ArcGIS Online Map Viewer
ArcGIS Earth
ArcMap
View Footprint In:
ArcGIS Online Map Viewer
Service Description: This dataset represents the Bouguer gravity anomaly calculated with a reduction density of 2.8 g/cc for ground gravity stations across New Brunswick.The dataset provides Bouguer anomaly values derived from reprocessed ground gravity measurements collected throughout New Brunswick. Using a reduction density of 2.8 g/cc, the Bouguer anomaly highlights variations in subsurface density and assists in interpreting regional geological structures, basin architecture, and intrusive bodies. The dataset is provided in the NAD83 NB Stereographic double projection and reflects consistent recalculation of Free Air and Bouguer corrections using SRTM-derived elevations and standardized processing parameters. It supports geological mapping, resource exploration, and crustal studies across the province.The data originated from ground gravity stations downloaded from the GSC server and reprocessed in September 2025. Marine stations were removed, SRTM topography was sampled for each station, and Free Air and Bouguer corrections were recalculated using a density of 2.8 g/cc. Terrain corrections were also computed using the same DEM. The resulting Bouguer anomaly values (Bouguer28) were exported and projected into NAD83 NB Stereographic to produce the dataset.Data created Sept 2025.
Name: Geophysics_Gravity_Gradiometry_Compiled/Ground_compiled_Boug28
Description: This dataset represents the Bouguer gravity anomaly calculated with a reduction density of 2.8 g/cc for ground gravity stations across New Brunswick.The dataset provides Bouguer anomaly values derived from reprocessed ground gravity measurements collected throughout New Brunswick. Using a reduction density of 2.8 g/cc, the Bouguer anomaly highlights variations in subsurface density and assists in interpreting regional geological structures, basin architecture, and intrusive bodies. The dataset is provided in the NAD83 NB Stereographic double projection and reflects consistent recalculation of Free Air and Bouguer corrections using SRTM-derived elevations and standardized processing parameters. It supports geological mapping, resource exploration, and crustal studies across the province.The data originated from ground gravity stations downloaded from the GSC server and reprocessed in September 2025. Marine stations were removed, SRTM topography was sampled for each station, and Free Air and Bouguer corrections were recalculated using a density of 2.8 g/cc. Terrain corrections were also computed using the same DEM. The resulting Bouguer anomaly values (Bouguer28) were exported and projected into NAD83 NB Stereographic to produce the dataset.Data created Sept 2025.
Single Fused Map Cache: false
Extent:
XMin: 2235500.0
YMin: 7229500.0
XMax: 2812500.0
YMax: 7870500.0
Spatial Reference: 2036
(2953)
LatestVCSWkid(0)
Initial Extent:
XMin: 2235500.0
YMin: 7229500.0
XMax: 2812500.0
YMax: 7870500.0
Spatial Reference: 2036
(2953)
LatestVCSWkid(0)
Full Extent:
XMin: 2235500.0
YMin: 7229500.0
XMax: 2812500.0
YMax: 7870500.0
Spatial Reference: 2036
(2953)
LatestVCSWkid(0)
Pixel Size X: 1000.0
Pixel Size Y: 1000.0
Band Count: 1
Pixel Type: F32
RasterFunction Infos: {"rasterFunctionInfos": [{
"name": "None",
"description": "",
"help": ""
}]}
Mensuration Capabilities: Basic
Has Histograms: true
Has Colormap: false
Has Multi Dimensions : false
Rendering Rule:
Min Scale: 0
Max Scale: 0
Copyright Text: NB Dept of Natural Resources, GSB Section
Service Data Type: esriImageServiceDataTypeGeneric
Min Values: -76.86043548584
Max Values: 29.971187591553
Mean Values: -22.448672650878
Standard Deviation Values: 19.662820001625
Object ID Field:
Fields:
None
Default Mosaic Method: Center
Allowed Mosaic Methods:
SortField:
SortValue: null
Mosaic Operator: First
Default Compression Quality: 75
Default Resampling Method: Bilinear
Max Record Count: null
Max Image Height: 4100
Max Image Width: 15000
Max Download Image Count: null
Max Mosaic Image Count: null
Allow Raster Function: true
Allow Copy: true
Allow Analysis: true
Allow Compute TiePoints: false
Supports Statistics: false
Supports Advanced Queries: false
Use StandardizedQueries: true
Raster Type Infos:
Name: Raster Dataset
Description: Supports all ArcGIS Raster Datasets
Help:
Has Raster Attribute Table: false
Edit Fields Info: null
Ownership Based AccessControl For Rasters: null
Child Resources:
Info
Histograms
Statistics
Key Properties
Legend
Raster Function Infos
Supported Operations:
Export Image
Identify
Measure
Compute Histograms
Compute Statistics Histograms
Get Samples
Compute Class Statistics
Query Boundary
Compute Pixel Location
Compute Angles
Validate
Project