View In:
ArcGIS JavaScript
ArcGIS Online Map Viewer
ArcGIS Earth
ArcMap
View Footprint In:
ArcGIS Online Map Viewer
Service Description: This dataset represents the complete Bouguer gravity anomaly (density 2.8 g/cc) derived from ground gravity measurements across New Brunswick.The dataset provides complete Bouguer anomaly values calculated from reprocessed ground gravity data collected throughout New Brunswick. The complete Bouguer anomaly incorporates the Bouguer correction and terrain correction, both computed using a reduction density of 2.8 g/cc. This anomaly enhances the accuracy of subsurface density interpretations, particularly in areas with significant topographic relief. It is well suited for regional geological mapping, structural interpretation, and mineral exploration studies. The dataset is delivered in NAD83 NB Stereographic double projection and reflects consistent recalculation of corrections using SRTM topography and standardized processing workflows.Ground gravity station data were downloaded from the GSC server and reprocessed in September 2025. Marine stations were removed, and SRTM elevation data were used to recompute Free Air and Bouguer corrections at each station using a density of 2.8 g/cc. Terrain corrections were calculated using the same DEM. The complete Bouguer anomaly was then obtained by adding the Bouguer anomaly and terrain correction. These values were exported and projected into NAD83 NB Stereographic to produce the dataset.Data created Sept 2025.
Name: Geophysics_Gravity_Gradiometry_Compiled/Ground_compiled_CompleteBoug28
Description: This dataset represents the complete Bouguer gravity anomaly (density 2.8 g/cc) derived from ground gravity measurements across New Brunswick.The dataset provides complete Bouguer anomaly values calculated from reprocessed ground gravity data collected throughout New Brunswick. The complete Bouguer anomaly incorporates the Bouguer correction and terrain correction, both computed using a reduction density of 2.8 g/cc. This anomaly enhances the accuracy of subsurface density interpretations, particularly in areas with significant topographic relief. It is well suited for regional geological mapping, structural interpretation, and mineral exploration studies. The dataset is delivered in NAD83 NB Stereographic double projection and reflects consistent recalculation of corrections using SRTM topography and standardized processing workflows.Ground gravity station data were downloaded from the GSC server and reprocessed in September 2025. Marine stations were removed, and SRTM elevation data were used to recompute Free Air and Bouguer corrections at each station using a density of 2.8 g/cc. Terrain corrections were calculated using the same DEM. The complete Bouguer anomaly was then obtained by adding the Bouguer anomaly and terrain correction. These values were exported and projected into NAD83 NB Stereographic to produce the dataset.Data created Sept 2025.
Single Fused Map Cache: false
Extent:
XMin: 2235500.0
YMin: 7229500.0
XMax: 2812500.0
YMax: 7870500.0
Spatial Reference: 2036
(2953)
LatestVCSWkid(0)
Initial Extent:
XMin: 2235500.0
YMin: 7229500.0
XMax: 2812500.0
YMax: 7870500.0
Spatial Reference: 2036
(2953)
LatestVCSWkid(0)
Full Extent:
XMin: 2235500.0
YMin: 7229500.0
XMax: 2812500.0
YMax: 7870500.0
Spatial Reference: 2036
(2953)
LatestVCSWkid(0)
Pixel Size X: 1000.0
Pixel Size Y: 1000.0
Band Count: 1
Pixel Type: F32
RasterFunction Infos: {"rasterFunctionInfos": [{
"name": "None",
"description": "",
"help": ""
}]}
Mensuration Capabilities: Basic
Has Histograms: true
Has Colormap: false
Has Multi Dimensions : false
Rendering Rule:
Min Scale: 0
Max Scale: 0
Copyright Text: NB Dept of Natural Resources, GSB Section
Service Data Type: esriImageServiceDataTypeGeneric
Min Values: -76.778419494629
Max Values: 32.201606750488
Mean Values: -21.968990520917
Standard Deviation Values: 19.667395973401
Object ID Field:
Fields:
None
Default Mosaic Method: Center
Allowed Mosaic Methods:
SortField:
SortValue: null
Mosaic Operator: First
Default Compression Quality: 75
Default Resampling Method: Bilinear
Max Record Count: null
Max Image Height: 4100
Max Image Width: 15000
Max Download Image Count: null
Max Mosaic Image Count: null
Allow Raster Function: true
Allow Copy: true
Allow Analysis: true
Allow Compute TiePoints: false
Supports Statistics: false
Supports Advanced Queries: false
Use StandardizedQueries: true
Raster Type Infos:
Name: Raster Dataset
Description: Supports all ArcGIS Raster Datasets
Help:
Has Raster Attribute Table: false
Edit Fields Info: null
Ownership Based AccessControl For Rasters: null
Child Resources:
Info
Histograms
Statistics
Key Properties
Legend
Raster Function Infos
Supported Operations:
Export Image
Identify
Measure
Compute Histograms
Compute Statistics Histograms
Get Samples
Compute Class Statistics
Query Boundary
Compute Pixel Location
Compute Angles
Validate
Project