View In:
ArcGIS JavaScript
ArcGIS Online Map Viewer
ArcGIS Earth
ArcMap
View Footprint In:
ArcGIS Online Map Viewer
Service Description: This dataset represents the regional component of the complete Bouguer gravity anomaly (density 2.8 g/cc) for New Brunswick, derived from reprocessed ground gravity data in NB Stereographic coordinates.The dataset contains the regional complete Bouguer gravity anomaly for New Brunswick, calculated from uniformly reprocessed ground-based gravity measurements. Marine gravity stations were excluded to avoid uncertainties related to bathymetry. The regional gravity field was derived from the complete Bouguer anomaly (density 2.8 g/cc) using upward continuation with a wavelength of 30 km, emphasizing long-wavelength crustal-scale features. The data are provided as a gridded product at 1 km cell size and are referenced to NAD83, New Brunswick Stereographic double, allowing consistent integration with other provincial geophysical datasets.Original ground gravity data were obtained from the Geological Survey of Canada geophysical data repository and reprocessed in September 2025. Elevations from an SRTM digital elevation model were used to recompute Free Air and Bouguer anomalies and terrain corrections, assuming a density of 2.8 g/cc, after masking marine stations. The complete Bouguer anomaly grid was generated at 1 km resolution, and the regional component was extracted by applying a 30 km upward continuation filter.Data created Sept 2025.
Name: Geophysics_Gravity_Gradiometry_Compiled/Ground_compiled_CompleteBoug28_regional
Description: This dataset represents the regional component of the complete Bouguer gravity anomaly (density 2.8 g/cc) for New Brunswick, derived from reprocessed ground gravity data in NB Stereographic coordinates.The dataset contains the regional complete Bouguer gravity anomaly for New Brunswick, calculated from uniformly reprocessed ground-based gravity measurements. Marine gravity stations were excluded to avoid uncertainties related to bathymetry. The regional gravity field was derived from the complete Bouguer anomaly (density 2.8 g/cc) using upward continuation with a wavelength of 30 km, emphasizing long-wavelength crustal-scale features. The data are provided as a gridded product at 1 km cell size and are referenced to NAD83, New Brunswick Stereographic double, allowing consistent integration with other provincial geophysical datasets.Original ground gravity data were obtained from the Geological Survey of Canada geophysical data repository and reprocessed in September 2025. Elevations from an SRTM digital elevation model were used to recompute Free Air and Bouguer anomalies and terrain corrections, assuming a density of 2.8 g/cc, after masking marine stations. The complete Bouguer anomaly grid was generated at 1 km resolution, and the regional component was extracted by applying a 30 km upward continuation filter.Data created Sept 2025.
Single Fused Map Cache: false
Extent:
XMin: 2235500.0
YMin: 7229500.0
XMax: 2812500.0
YMax: 7870500.0
Spatial Reference: 2036
(2953)
LatestVCSWkid(0)
Initial Extent:
XMin: 2235500.0
YMin: 7229500.0
XMax: 2812500.0
YMax: 7870500.0
Spatial Reference: 2036
(2953)
LatestVCSWkid(0)
Full Extent:
XMin: 2235500.0
YMin: 7229500.0
XMax: 2812500.0
YMax: 7870500.0
Spatial Reference: 2036
(2953)
LatestVCSWkid(0)
Pixel Size X: 1000.0
Pixel Size Y: 1000.0
Band Count: 1
Pixel Type: F32
RasterFunction Infos: {"rasterFunctionInfos": [{
"name": "None",
"description": "",
"help": ""
}]}
Mensuration Capabilities: Basic
Has Histograms: true
Has Colormap: false
Has Multi Dimensions : false
Rendering Rule:
Min Scale: 0
Max Scale: 0
Copyright Text: NB Dept of Natural Resources, GSB Section
Service Data Type: esriImageServiceDataTypeGeneric
Min Values: -51.386779785156
Max Values: 0.62777626514435
Mean Values: -21.776430519082
Standard Deviation Values: 13.639584846582
Object ID Field:
Fields:
None
Default Mosaic Method: Center
Allowed Mosaic Methods:
SortField:
SortValue: null
Mosaic Operator: First
Default Compression Quality: 75
Default Resampling Method: Bilinear
Max Record Count: null
Max Image Height: 4100
Max Image Width: 15000
Max Download Image Count: null
Max Mosaic Image Count: null
Allow Raster Function: true
Allow Copy: true
Allow Analysis: true
Allow Compute TiePoints: false
Supports Statistics: false
Supports Advanced Queries: false
Use StandardizedQueries: true
Raster Type Infos:
Name: Raster Dataset
Description: Supports all ArcGIS Raster Datasets
Help:
Has Raster Attribute Table: false
Edit Fields Info: null
Ownership Based AccessControl For Rasters: null
Child Resources:
Info
Histograms
Statistics
Key Properties
Legend
Raster Function Infos
Supported Operations:
Export Image
Identify
Measure
Compute Histograms
Compute Statistics Histograms
Get Samples
Compute Class Statistics
Query Boundary
Compute Pixel Location
Compute Angles
Validate
Project