View In:
ArcGIS JavaScript
ArcGIS Online Map Viewer
ArcGIS Earth
ArcMap
View Footprint In:
ArcGIS Online Map Viewer
Service Description: This dataset represents the residual complete Bouguer gravity anomaly (density 2.8 g/cc) derived by removing the regional component from the complete Bouguer grid for New Brunswick.The dataset provides the residual component of the complete Bouguer anomaly, highlighting short-wavelength gravity variations associated with relatively shallow geological structures. By subtracting the long-wavelength regional field, calculated using a 30 km upward continuation, the residual anomaly enhances features such as faults, lithological contacts, intrusive bodies, and shallow density contrasts. This dataset supports detailed geological interpretation, mineral exploration, and structural mapping. It is provided in the NAD83 NB Stereographic double projection.The dataset was produced using reprocessed ground gravity measurements. Free Air, Bouguer, and terrain corrections were recalculated using SRTM topography and a reduction density of 2.8 g/cc to create the complete Bouguer anomaly grid. A regional field was then generated by applying a 30 km upward continuation filter to the complete Bouguer grid. The residual anomaly was calculated by subtracting this regional field from the complete Bouguer anomaly. The final product was exported in NAD83 NB Stereographic.Data created Sept 2025.
Name: Geophysics_Gravity_Gradiometry_Compiled/Ground_compiled_CompleteBoug28_residual
Description: This dataset represents the residual complete Bouguer gravity anomaly (density 2.8 g/cc) derived by removing the regional component from the complete Bouguer grid for New Brunswick.The dataset provides the residual component of the complete Bouguer anomaly, highlighting short-wavelength gravity variations associated with relatively shallow geological structures. By subtracting the long-wavelength regional field, calculated using a 30 km upward continuation, the residual anomaly enhances features such as faults, lithological contacts, intrusive bodies, and shallow density contrasts. This dataset supports detailed geological interpretation, mineral exploration, and structural mapping. It is provided in the NAD83 NB Stereographic double projection.The dataset was produced using reprocessed ground gravity measurements. Free Air, Bouguer, and terrain corrections were recalculated using SRTM topography and a reduction density of 2.8 g/cc to create the complete Bouguer anomaly grid. A regional field was then generated by applying a 30 km upward continuation filter to the complete Bouguer grid. The residual anomaly was calculated by subtracting this regional field from the complete Bouguer anomaly. The final product was exported in NAD83 NB Stereographic.Data created Sept 2025.
Single Fused Map Cache: false
Extent:
XMin: 2235500.0
YMin: 7229500.0
XMax: 2812500.0
YMax: 7870500.0
Spatial Reference: 2036
(2953)
LatestVCSWkid(0)
Initial Extent:
XMin: 2235500.0
YMin: 7229500.0
XMax: 2812500.0
YMax: 7870500.0
Spatial Reference: 2036
(2953)
LatestVCSWkid(0)
Full Extent:
XMin: 2235500.0
YMin: 7229500.0
XMax: 2812500.0
YMax: 7870500.0
Spatial Reference: 2036
(2953)
LatestVCSWkid(0)
Pixel Size X: 1000.0
Pixel Size Y: 1000.0
Band Count: 1
Pixel Type: F32
RasterFunction Infos: {"rasterFunctionInfos": [{
"name": "None",
"description": "",
"help": ""
}]}
Mensuration Capabilities: Basic
Has Histograms: true
Has Colormap: false
Has Multi Dimensions : false
Rendering Rule:
Min Scale: 0
Max Scale: 0
Copyright Text: NB Dept of Natural Resources, GSB Section
Service Data Type: esriImageServiceDataTypeGeneric
Min Values: -39.08723449707
Max Values: 41.713088989258
Mean Values: -0.19256000182947
Standard Deviation Values: 10.764717227941
Object ID Field:
Fields:
None
Default Mosaic Method: Center
Allowed Mosaic Methods:
SortField:
SortValue: null
Mosaic Operator: First
Default Compression Quality: 75
Default Resampling Method: Bilinear
Max Record Count: null
Max Image Height: 4100
Max Image Width: 15000
Max Download Image Count: null
Max Mosaic Image Count: null
Allow Raster Function: true
Allow Copy: true
Allow Analysis: true
Allow Compute TiePoints: false
Supports Statistics: false
Supports Advanced Queries: false
Use StandardizedQueries: true
Raster Type Infos:
Name: Raster Dataset
Description: Supports all ArcGIS Raster Datasets
Help:
Has Raster Attribute Table: false
Edit Fields Info: null
Ownership Based AccessControl For Rasters: null
Child Resources:
Info
Histograms
Statistics
Key Properties
Legend
Raster Function Infos
Supported Operations:
Export Image
Identify
Measure
Compute Histograms
Compute Statistics Histograms
Get Samples
Compute Class Statistics
Query Boundary
Compute Pixel Location
Compute Angles
Validate
Project