View In:
ArcGIS JavaScript
ArcGIS Online Map Viewer
ArcGIS Earth
ArcMap
View Footprint In:
ArcGIS Online Map Viewer
Service Description: This dataset represents the first vertical derivative of the complete Bouguer gravity anomaly (density 2.8 g/cc) for New Brunswick, derived from the GGMplus satellite gravity model.The GGM30_CB28_1VD dataset provides the first vertical derivative of the complete Bouguer gravity anomaly calculated from the GGMplus satellite gravity model. This derivative enhances short-wavelength gravity features, making shallow geological structures such as faults, lithological contacts, and intrusive bodies more visible. The dataset supports geological interpretation, mineral exploration, and structural mapping across New Brunswick. It is provided in NAD83 NB Stereographic double projection with a 100-meter grid resolution.The dataset was produced using the GGMplus satellite gravity model, which provides Free Air anomalies. Bouguer corrections were applied using SRTM elevation data and a density of 2.8 g/cc, followed by calculation of terrain corrections. The complete Bouguer anomaly grid was derived and then processed to obtain its first vertical derivative. The resulting grid was projected into NAD83 NB Stereographic, producing the dataset.Data created Sept 2025.
Name: Geophysics_Gravity_Gradiometry_Compiled/Satellite_1VD
Description: This dataset represents the first vertical derivative of the complete Bouguer gravity anomaly (density 2.8 g/cc) for New Brunswick, derived from the GGMplus satellite gravity model.The GGM30_CB28_1VD dataset provides the first vertical derivative of the complete Bouguer gravity anomaly calculated from the GGMplus satellite gravity model. This derivative enhances short-wavelength gravity features, making shallow geological structures such as faults, lithological contacts, and intrusive bodies more visible. The dataset supports geological interpretation, mineral exploration, and structural mapping across New Brunswick. It is provided in NAD83 NB Stereographic double projection with a 100-meter grid resolution.The dataset was produced using the GGMplus satellite gravity model, which provides Free Air anomalies. Bouguer corrections were applied using SRTM elevation data and a density of 2.8 g/cc, followed by calculation of terrain corrections. The complete Bouguer anomaly grid was derived and then processed to obtain its first vertical derivative. The resulting grid was projected into NAD83 NB Stereographic, producing the dataset.Data created Sept 2025.
Single Fused Map Cache: false
Extent:
XMin: 2221450.0
YMin: 7177550.0
XMax: 2734450.0
YMax: 7833650.0
Spatial Reference: 2036
(2953)
LatestVCSWkid(0)
Initial Extent:
XMin: 2221450.0
YMin: 7177550.0
XMax: 2734450.0
YMax: 7833650.0
Spatial Reference: 2036
(2953)
LatestVCSWkid(0)
Full Extent:
XMin: 2221450.0
YMin: 7177550.0
XMax: 2734450.0
YMax: 7833650.0
Spatial Reference: 2036
(2953)
LatestVCSWkid(0)
Pixel Size X: 100.0
Pixel Size Y: 100.0
Band Count: 1
Pixel Type: F32
RasterFunction Infos: {"rasterFunctionInfos": [{
"name": "None",
"description": "",
"help": ""
}]}
Mensuration Capabilities: Basic
Has Histograms: true
Has Colormap: false
Has Multi Dimensions : false
Rendering Rule:
Min Scale: 0
Max Scale: 0
Copyright Text: NB Dept of Natural Resources, GSB Section
Service Data Type: esriImageServiceDataTypeGeneric
Min Values: -0.025781892240047
Max Values: 0.015354475006461
Mean Values: -2.0258451665925E-6
Standard Deviation Values: 0.0015203707772233
Object ID Field:
Fields:
None
Default Mosaic Method: Center
Allowed Mosaic Methods:
SortField:
SortValue: null
Mosaic Operator: First
Default Compression Quality: 75
Default Resampling Method: Bilinear
Max Record Count: null
Max Image Height: 4100
Max Image Width: 15000
Max Download Image Count: null
Max Mosaic Image Count: null
Allow Raster Function: true
Allow Copy: true
Allow Analysis: true
Allow Compute TiePoints: false
Supports Statistics: false
Supports Advanced Queries: false
Use StandardizedQueries: true
Raster Type Infos:
Name: Raster Dataset
Description: Supports all ArcGIS Raster Datasets
Help:
Has Raster Attribute Table: false
Edit Fields Info: null
Ownership Based AccessControl For Rasters: null
Child Resources:
Info
Histograms
Statistics
Key Properties
Legend
Raster Function Infos
Supported Operations:
Export Image
Identify
Measure
Compute Histograms
Compute Statistics Histograms
Get Samples
Compute Class Statistics
Query Boundary
Compute Pixel Location
Compute Angles
Validate
Project