View In:
ArcGIS JavaScript
ArcGIS Online Map Viewer
ArcGIS Earth
ArcMap
View Footprint In:
ArcGIS Online Map Viewer
Service Description: This dataset represents the Bouguer gravity anomaly (density 2.8 g/cc) for New Brunswick derived from the GGMplus satellite gravity model, gridded at 100-meter resolution in NAD83 NB Stereographic projection.The dataset provides Bouguer gravity anomalies calculated from the GGMplus satellite gravity model over New Brunswick. The anomalies account for variations in gravity due to topography and are reduced using a Bouguer correction with a density of 2.8 g/cc. This dataset is suitable for regional geophysical interpretation, structural mapping, and mineral exploration, offering consistent high-resolution coverage across the province. The grid is provided in NAD83 NB Stereographic double projection and facilitates integration with other geophysical and geological datasets.The dataset was generated using the GGMplus satellite gravity model, which provides free-fall gravity acceleration equivalent to Free Air anomalies. A Bouguer correction was calculated for each location using SRTM elevation data and a density of 2.8 g/cc. Terrain corrections were computed from the same DEM, and the resulting Bouguer anomaly grid was resampled to 100 meters and projected into NAD83 NB Stereographic to create the dataset.Data created Sept 2025.
Name: Geophysics_Gravity_Gradiometry_Compiled/Satellite_Boug28
Description: This dataset represents the Bouguer gravity anomaly (density 2.8 g/cc) for New Brunswick derived from the GGMplus satellite gravity model, gridded at 100-meter resolution in NAD83 NB Stereographic projection.The dataset provides Bouguer gravity anomalies calculated from the GGMplus satellite gravity model over New Brunswick. The anomalies account for variations in gravity due to topography and are reduced using a Bouguer correction with a density of 2.8 g/cc. This dataset is suitable for regional geophysical interpretation, structural mapping, and mineral exploration, offering consistent high-resolution coverage across the province. The grid is provided in NAD83 NB Stereographic double projection and facilitates integration with other geophysical and geological datasets.The dataset was generated using the GGMplus satellite gravity model, which provides free-fall gravity acceleration equivalent to Free Air anomalies. A Bouguer correction was calculated for each location using SRTM elevation data and a density of 2.8 g/cc. Terrain corrections were computed from the same DEM, and the resulting Bouguer anomaly grid was resampled to 100 meters and projected into NAD83 NB Stereographic to create the dataset.Data created Sept 2025.
Single Fused Map Cache: false
Extent:
XMin: 2221450.0
YMin: 7177550.0
XMax: 2734450.0
YMax: 7833650.0
Spatial Reference: 2036
(2953)
LatestVCSWkid(0)
Initial Extent:
XMin: 2221450.0
YMin: 7177550.0
XMax: 2734450.0
YMax: 7833650.0
Spatial Reference: 2036
(2953)
LatestVCSWkid(0)
Full Extent:
XMin: 2221450.0
YMin: 7177550.0
XMax: 2734450.0
YMax: 7833650.0
Spatial Reference: 2036
(2953)
LatestVCSWkid(0)
Pixel Size X: 100.0
Pixel Size Y: 100.0
Band Count: 1
Pixel Type: F32
RasterFunction Infos: {"rasterFunctionInfos": [{
"name": "None",
"description": "",
"help": ""
}]}
Mensuration Capabilities: Basic
Has Histograms: true
Has Colormap: false
Has Multi Dimensions : false
Rendering Rule:
Min Scale: 0
Max Scale: 0
Copyright Text: NB Dept of Natural Resources, GSB Section
Service Data Type: esriImageServiceDataTypeGeneric
Min Values: -91.937767028809
Max Values: 31.477155685425
Mean Values: -30.698555692007
Standard Deviation Values: 20.119624272639
Object ID Field:
Fields:
None
Default Mosaic Method: Center
Allowed Mosaic Methods:
SortField:
SortValue: null
Mosaic Operator: First
Default Compression Quality: 75
Default Resampling Method: Bilinear
Max Record Count: null
Max Image Height: 4100
Max Image Width: 15000
Max Download Image Count: null
Max Mosaic Image Count: null
Allow Raster Function: true
Allow Copy: true
Allow Analysis: true
Allow Compute TiePoints: false
Supports Statistics: false
Supports Advanced Queries: false
Use StandardizedQueries: true
Raster Type Infos:
Name: Raster Dataset
Description: Supports all ArcGIS Raster Datasets
Help:
Has Raster Attribute Table: false
Edit Fields Info: null
Ownership Based AccessControl For Rasters: null
Child Resources:
Info
Histograms
Statistics
Key Properties
Legend
Raster Function Infos
Supported Operations:
Export Image
Identify
Measure
Compute Histograms
Compute Statistics Histograms
Get Samples
Compute Class Statistics
Query Boundary
Compute Pixel Location
Compute Angles
Validate
Project